| Back to Multiple platform build/check report for BioC 3.7 |
|
This page was generated on 2018-10-17 08:23:37 -0400 (Wed, 17 Oct 2018).
| Package 525/1561 | Hostname | OS / Arch | INSTALL | BUILD | CHECK | BUILD BIN | ||||||
| flowWorkspace 3.28.2 Greg Finak
| malbec2 | Linux (Ubuntu 16.04.1 LTS) / x86_64 | OK | [ OK ] | OK | |||||||
| tokay2 | Windows Server 2012 R2 Standard / x64 | OK | OK | WARNINGS | OK | |||||||
| merida2 | OS X 10.11.6 El Capitan / x86_64 | OK | OK | WARNINGS | OK |
| Package: flowWorkspace |
| Version: 3.28.2 |
| Command: /home/biocbuild/bbs-3.7-bioc/R/bin/R CMD build --keep-empty-dirs --no-resave-data flowWorkspace |
| StartedAt: 2018-10-15 19:17:37 -0400 (Mon, 15 Oct 2018) |
| EndedAt: 2018-10-15 19:20:30 -0400 (Mon, 15 Oct 2018) |
| EllapsedTime: 173.3 seconds |
| RetCode: 0 |
| Status: OK |
| PackageFile: flowWorkspace_3.28.2.tar.gz |
| PackageFileSize: 3.678 MiB |
############################################################################## ############################################################################## ### ### Running command: ### ### /home/biocbuild/bbs-3.7-bioc/R/bin/R CMD build --keep-empty-dirs --no-resave-data flowWorkspace ### ############################################################################## ############################################################################## * checking for file ‘flowWorkspace/DESCRIPTION’ ... OK * preparing ‘flowWorkspace’: * checking DESCRIPTION meta-information ... OK * cleaning src * running ‘cleanup’ * installing the package to build vignettes * creating vignettes ... OK * cleaning src * running ‘cleanup’ * checking for LF line-endings in source and make files and shell scripts * checking for empty or unneeded directories * building ‘flowWorkspace_3.28.2.tar.gz’