| Back to Multiple platform build/check report for BioC 3.7 |
|
This page was generated on 2018-10-17 08:32:00 -0400 (Wed, 17 Oct 2018).
| Package 430/1561 | Hostname | OS / Arch | INSTALL | BUILD | CHECK | BUILD BIN | ||||||
| ecolitk 1.52.0 Laurent Gautier
| malbec2 | Linux (Ubuntu 16.04.1 LTS) / x86_64 | OK | OK | WARNINGS | |||||||
| tokay2 | Windows Server 2012 R2 Standard / x64 | OK | OK | WARNINGS | [ OK ] | |||||||
| merida2 | OS X 10.11.6 El Capitan / x86_64 | OK | OK | WARNINGS | OK |
| Package: ecolitk |
| Version: 1.52.0 |
| Command: rm -rf ecolitk.buildbin-libdir && mkdir ecolitk.buildbin-libdir && C:\Users\biocbuild\bbs-3.7-bioc\R\bin\R.exe CMD INSTALL --merge-multiarch --build --library=ecolitk.buildbin-libdir ecolitk_1.52.0.tar.gz |
| StartedAt: 2018-10-17 06:17:02 -0400 (Wed, 17 Oct 2018) |
| EndedAt: 2018-10-17 06:17:14 -0400 (Wed, 17 Oct 2018) |
| EllapsedTime: 12.2 seconds |
| RetCode: 0 |
| Status: OK |
| PackageFile: ecolitk_1.52.0.zip |
| PackageFileSize: 1.779 MiB |
##############################################################################
##############################################################################
###
### Running command:
###
### rm -rf ecolitk.buildbin-libdir && mkdir ecolitk.buildbin-libdir && C:\Users\biocbuild\bbs-3.7-bioc\R\bin\R.exe CMD INSTALL --merge-multiarch --build --library=ecolitk.buildbin-libdir ecolitk_1.52.0.tar.gz
###
##############################################################################
##############################################################################
install for i386
* installing *source* package 'ecolitk' ...
** R
** data
** inst
** byte-compile and prepare package for lazy loading
Note: possible error in 'strsplit(line, "\t", ': unused argument (extended = TRUE)
** help
*** installing help indices
converting help for package 'ecolitk'
finding HTML links ... done
ecoli.data html
ecoligenome.operon html
ecoligenomeBNUM html
ecoligenomeBNUM2MULTIFUN html
gccontent html
linkedmultiget html
multiFun html
pointsCircle html
polar2xy html
polygonChrom html
wstringapply html
** building package indices
** installing vignettes
** testing if installed package can be loaded
In R CMD INSTALL
install for x64
* installing *source* package 'ecolitk' ...
** testing if installed package can be loaded
* MD5 sums
packaged installation of 'ecolitk' as ecolitk_1.52.0.zip
* DONE (ecolitk)
In R CMD INSTALL
In R CMD INSTALL