| Back to Multiple platform build/check report for BioC 3.7 |
|
This page was generated on 2018-10-17 08:46:10 -0400 (Wed, 17 Oct 2018).
| Package 430/1561 | Hostname | OS / Arch | INSTALL | BUILD | CHECK | BUILD BIN | ||||||
| ecolitk 1.52.0 Laurent Gautier
| malbec2 | Linux (Ubuntu 16.04.1 LTS) / x86_64 | OK | OK | WARNINGS | |||||||
| tokay2 | Windows Server 2012 R2 Standard / x64 | OK | OK | WARNINGS | OK | |||||||
| merida2 | OS X 10.11.6 El Capitan / x86_64 | OK | OK | WARNINGS | [ OK ] |
| Package: ecolitk |
| Version: 1.52.0 |
| Command: rm -rf ecolitk.buildbin-libdir && mkdir ecolitk.buildbin-libdir && /Users/biocbuild/BBS/utils/build-universal.sh ecolitk_1.52.0.tar.gz /Library/Frameworks/R.framework/Versions/Current/Resources/bin/R ecolitk.buildbin-libdir |
| StartedAt: 2018-10-17 01:16:02 -0400 (Wed, 17 Oct 2018) |
| EndedAt: 2018-10-17 01:16:52 -0400 (Wed, 17 Oct 2018) |
| EllapsedTime: 50.2 seconds |
| RetCode: 0 |
| Status: OK |
| PackageFile: ecolitk_1.52.0.tgz |
| PackageFileSize: 1.767 MiB |
############################################################################## ############################################################################## ### ### Running command: ### ### rm -rf ecolitk.buildbin-libdir && mkdir ecolitk.buildbin-libdir && /Users/biocbuild/BBS/utils/build-universal.sh ecolitk_1.52.0.tar.gz /Library/Frameworks/R.framework/Versions/Current/Resources/bin/R ecolitk.buildbin-libdir ### ############################################################################## ############################################################################## >>>>>>> >>>>>>> INSTALLATION WITH 'R CMD INSTALL --preclean --no-multiarch --library=ecolitk.buildbin-libdir ecolitk_1.52.0.tar.gz' >>>>>>> * installing *source* package ‘ecolitk’ ... ** R ** data ** inst ** byte-compile and prepare package for lazy loading Note: possible error in 'strsplit(line, "\t", ': unused argument (extended = TRUE) ** help *** installing help indices ** building package indices ** installing vignettes ** testing if installed package can be loaded * DONE (ecolitk)