| Back to Multiple platform build/check report for BioC 3.7 |
|
This page was generated on 2018-10-17 08:35:05 -0400 (Wed, 17 Oct 2018).
| Package 1516/1561 | Hostname | OS / Arch | INSTALL | BUILD | CHECK | BUILD BIN | ||||||
| TurboNorm 1.28.0 Maarten van Iterson
| malbec2 | Linux (Ubuntu 16.04.1 LTS) / x86_64 | OK | OK | OK | |||||||
| tokay2 | Windows Server 2012 R2 Standard / x64 | OK | OK | [ OK ] | OK | |||||||
| merida2 | OS X 10.11.6 El Capitan / x86_64 | OK | OK | OK | OK |
| Package: TurboNorm |
| Version: 1.28.0 |
| Command: C:\Users\biocbuild\bbs-3.7-bioc\R\bin\R.exe CMD check --force-multiarch --install=check:TurboNorm.install-out.txt --library=C:\Users\biocbuild\bbs-3.7-bioc\R\library --no-vignettes --timings TurboNorm_1.28.0.tar.gz |
| StartedAt: 2018-10-17 05:19:20 -0400 (Wed, 17 Oct 2018) |
| EndedAt: 2018-10-17 05:21:28 -0400 (Wed, 17 Oct 2018) |
| EllapsedTime: 128.0 seconds |
| RetCode: 0 |
| Status: OK |
| CheckDir: TurboNorm.Rcheck |
| Warnings: 0 |
##############################################################################
##############################################################################
###
### Running command:
###
### C:\Users\biocbuild\bbs-3.7-bioc\R\bin\R.exe CMD check --force-multiarch --install=check:TurboNorm.install-out.txt --library=C:\Users\biocbuild\bbs-3.7-bioc\R\library --no-vignettes --timings TurboNorm_1.28.0.tar.gz
###
##############################################################################
##############################################################################
* using log directory 'C:/Users/biocbuild/bbs-3.7-bioc/meat/TurboNorm.Rcheck'
* using R version 3.5.1 Patched (2018-07-24 r75005)
* using platform: x86_64-w64-mingw32 (64-bit)
* using session charset: ISO8859-1
* using option '--no-vignettes'
* checking for file 'TurboNorm/DESCRIPTION' ... OK
* checking extension type ... Package
* this is package 'TurboNorm' version '1.28.0'
* checking package namespace information ... OK
* checking package dependencies ... OK
* checking if this is a source package ... OK
* checking if there is a namespace ... OK
* checking for hidden files and directories ... OK
* checking for portable file names ... OK
* checking whether package 'TurboNorm' can be installed ... OK
* checking installed package size ... OK
* checking package directory ... OK
* checking 'build' directory ... OK
* checking DESCRIPTION meta-information ... OK
* checking top-level files ... OK
* checking for left-over files ... OK
* checking index information ... OK
* checking package subdirectories ... OK
* checking R files for non-ASCII characters ... OK
* checking R files for syntax errors ... OK
* loading checks for arch 'i386'
** checking whether the package can be loaded ... OK
** checking whether the package can be loaded with stated dependencies ... OK
** checking whether the package can be unloaded cleanly ... OK
** checking whether the namespace can be loaded with stated dependencies ... OK
** checking whether the namespace can be unloaded cleanly ... OK
* loading checks for arch 'x64'
** checking whether the package can be loaded ... OK
** checking whether the package can be loaded with stated dependencies ... OK
** checking whether the package can be unloaded cleanly ... OK
** checking whether the namespace can be loaded with stated dependencies ... OK
** checking whether the namespace can be unloaded cleanly ... OK
* checking dependencies in R code ... NOTE
Packages in Depends field not imported from:
'convert' 'limma' 'marray'
These packages need to be imported from (in the NAMESPACE file)
for when this namespace is loaded but not attached.
* checking S3 generic/method consistency ... OK
* checking replacement functions ... OK
* checking foreign function calls ... OK
* checking R code for possible problems ... NOTE
normalize.AffyBatch.pspline: no visible global function definition for
'intensity<-'
pspline: no visible global function definition for 'as'
pspline: no visible global function definition for 'maRb<-'
pspline: no visible global function definition for 'maGb<-'
pspline: no visible global function definition for 'maA'
pspline: no visible global function definition for 'maM'
pspline: no visible global function definition for 'layout'
pspline: no visible global function definition for 'maM<-'
pspline: no visible global function definition for 'plot'
pspline: no visible global function definition for 'lines'
turbotrend: no visible global function definition for 'median'
Undefined global functions or variables:
as intensity<- layout lines maA maGb<- maM maM<- maRb<- median plot
Consider adding
importFrom("graphics", "layout", "lines", "plot")
importFrom("methods", "as")
importFrom("stats", "median")
to your NAMESPACE file (and ensure that your DESCRIPTION Imports field
contains 'methods').
* checking Rd files ... OK
* checking Rd metadata ... OK
* checking Rd cross-references ... OK
* checking for missing documentation entries ... OK
* checking for code/documentation mismatches ... OK
* checking Rd \usage sections ... OK
* checking Rd contents ... OK
* checking for unstated dependencies in examples ... OK
* checking contents of 'data' directory ... OK
* checking data for non-ASCII characters ... OK
* checking data for ASCII and uncompressed saves ... OK
* checking line endings in C/C++/Fortran sources/headers ... OK
* checking compiled code ... NOTE
Note: information on .o files for i386 is not available
Note: information on .o files for x64 is not available
File 'C:/Users/biocbuild/bbs-3.7-bioc/R/library/TurboNorm/libs/i386/TurboNorm.dll':
Found 'abort', possibly from 'abort' (C), 'runtime' (Fortran)
Compiled code should not call entry points which might terminate R nor
write to stdout/stderr instead of to the console, nor use Fortran I/O
nor system RNGs. The detected symbols are linked into the code but
might come from libraries and not actually be called.
See 'Writing portable packages' in the 'Writing R Extensions' manual.
* checking files in 'vignettes' ... OK
* checking examples ...
** running examples for arch 'i386' ... OK
Examples with CPU or elapsed time > 5s
user system elapsed
normalize.pspline 25.13 1.02 27.11
** running examples for arch 'x64' ... OK
Examples with CPU or elapsed time > 5s
user system elapsed
normalize.pspline 19.5 0.71 20.3
* checking for unstated dependencies in vignettes ... OK
* checking package vignettes in 'inst/doc' ... OK
* checking running R code from vignettes ... SKIPPED
* checking re-building of vignette outputs ... SKIPPED
* checking PDF version of manual ... OK
* DONE
Status: 3 NOTEs
See
'C:/Users/biocbuild/bbs-3.7-bioc/meat/TurboNorm.Rcheck/00check.log'
for details.
TurboNorm.Rcheck/00install.out
##############################################################################
##############################################################################
###
### Running command:
###
### C:\cygwin\bin\curl.exe -O https://malbec2.bioconductor.org/BBS/3.7/bioc/src/contrib/TurboNorm_1.28.0.tar.gz && rm -rf TurboNorm.buildbin-libdir && mkdir TurboNorm.buildbin-libdir && C:\Users\biocbuild\bbs-3.7-bioc\R\bin\R.exe CMD INSTALL --merge-multiarch --build --library=TurboNorm.buildbin-libdir TurboNorm_1.28.0.tar.gz && C:\Users\biocbuild\bbs-3.7-bioc\R\bin\R.exe CMD INSTALL TurboNorm_1.28.0.zip && rm TurboNorm_1.28.0.tar.gz TurboNorm_1.28.0.zip
###
##############################################################################
##############################################################################
% Total % Received % Xferd Average Speed Time Time Time Current
Dload Upload Total Spent Left Speed
0 0 0 0 0 0 0 0 --:--:-- --:--:-- --:--:-- 0
100 241k 100 241k 0 0 3589k 0 --:--:-- --:--:-- --:--:-- 3962k
install for i386
* installing *source* package 'TurboNorm' ...
** libs
C:/Rtools/mingw_32/bin/gcc -I"C:/Users/BIOCBU˜1/BBS-3˜1.7-B/R/include" -DNDEBUG -I"C:/extsoft/include" -O3 -Wall -std=gnu99 -mtune=generic -c Rinit.c -o Rinit.o
Rinit.c:12:1: warning: missing braces around initializer [-Wmissing-braces]
};
^
Rinit.c:12:1: warning: (near initialization for 'cMethods[2]') [-Wmissing-braces]
C:/Rtools/mingw_32/bin/gcc -I"C:/Users/BIOCBU˜1/BBS-3˜1.7-B/R/include" -DNDEBUG -I"C:/extsoft/include" -O3 -Wall -std=gnu99 -mtune=generic -c binners.c -o binners.o
C:/Rtools/mingw_32/bin/gcc -shared -s -static-libgcc -o TurboNorm.dll tmp.def Rinit.o binners.o -LC:/extsoft/lib/i386 -LC:/extsoft/lib -LC:/Users/BIOCBU˜1/BBS-3˜1.7-B/R/bin/i386 -lR
installing to C:/Users/biocbuild/bbs-3.7-bioc/meat/TurboNorm.buildbin-libdir/TurboNorm/libs/i386
** R
** data
** inst
** byte-compile and prepare package for lazy loading
** help
*** installing help indices
converting help for package 'TurboNorm'
finding HTML links ... done
methylation html
normalize.pspline html
panel.pspline html
pspline html
turbonorm-package html
turbotrend html
** building package indices
** installing vignettes
** testing if installed package can be loaded
In R CMD INSTALL
install for x64
* installing *source* package 'TurboNorm' ...
** libs
C:/Rtools/mingw_64/bin/gcc -I"C:/Users/BIOCBU˜1/BBS-3˜1.7-B/R/include" -DNDEBUG -I"C:/extsoft/include" -O2 -Wall -std=gnu99 -mtune=generic -c Rinit.c -o Rinit.o
Rinit.c:12:1: warning: missing braces around initializer [-Wmissing-braces]
};
^
Rinit.c:12:1: warning: (near initialization for 'cMethods[2]') [-Wmissing-braces]
C:/Rtools/mingw_64/bin/gcc -I"C:/Users/BIOCBU˜1/BBS-3˜1.7-B/R/include" -DNDEBUG -I"C:/extsoft/include" -O2 -Wall -std=gnu99 -mtune=generic -c binners.c -o binners.o
C:/Rtools/mingw_64/bin/gcc -shared -s -static-libgcc -o TurboNorm.dll tmp.def Rinit.o binners.o -LC:/extsoft/lib/x64 -LC:/extsoft/lib -LC:/Users/BIOCBU˜1/BBS-3˜1.7-B/R/bin/x64 -lR
installing to C:/Users/biocbuild/bbs-3.7-bioc/meat/TurboNorm.buildbin-libdir/TurboNorm/libs/x64
** testing if installed package can be loaded
* MD5 sums
packaged installation of 'TurboNorm' as TurboNorm_1.28.0.zip
* DONE (TurboNorm)
In R CMD INSTALL
In R CMD INSTALL
* installing to library 'C:/Users/biocbuild/bbs-3.7-bioc/R/library'
package 'TurboNorm' successfully unpacked and MD5 sums checked
In R CMD INSTALL
|
TurboNorm.Rcheck/examples_i386/TurboNorm-Ex.timings
|
TurboNorm.Rcheck/examples_x64/TurboNorm-Ex.timings
|