| Back to Multiple platform build/check report for BioC 3.7 |
|
This page was generated on 2018-10-17 08:39:00 -0400 (Wed, 17 Oct 2018).
| Package 1434/1561 | Hostname | OS / Arch | INSTALL | BUILD | CHECK | BUILD BIN | ||||||
| STAN 2.8.0 Rafael Campos-Martin
| malbec2 | Linux (Ubuntu 16.04.1 LTS) / x86_64 | OK | OK | OK | |||||||
| tokay2 | Windows Server 2012 R2 Standard / x64 | OK | OK | OK | [ OK ] | |||||||
| merida2 | OS X 10.11.6 El Capitan / x86_64 | OK | OK | OK | OK |
| Package: STAN |
| Version: 2.8.0 |
| Command: rm -rf STAN.buildbin-libdir && mkdir STAN.buildbin-libdir && C:\Users\biocbuild\bbs-3.7-bioc\R\bin\R.exe CMD INSTALL --merge-multiarch --build --library=STAN.buildbin-libdir STAN_2.8.0.tar.gz |
| StartedAt: 2018-10-17 07:02:34 -0400 (Wed, 17 Oct 2018) |
| EndedAt: 2018-10-17 07:03:45 -0400 (Wed, 17 Oct 2018) |
| EllapsedTime: 70.6 seconds |
| RetCode: 0 |
| Status: OK |
| PackageFile: STAN_2.8.0.zip |
| PackageFileSize: 1.542 MiB |
##############################################################################
##############################################################################
###
### Running command:
###
### rm -rf STAN.buildbin-libdir && mkdir STAN.buildbin-libdir && C:\Users\biocbuild\bbs-3.7-bioc\R\bin\R.exe CMD INSTALL --merge-multiarch --build --library=STAN.buildbin-libdir STAN_2.8.0.tar.gz
###
##############################################################################
##############################################################################
install for i386
* installing *source* package 'STAN' ...
** libs
C:/Rtools/mingw_32/bin/g++ -I"C:/Users/BIOCBU˜1/BBS-3˜1.7-B/R/include" -DNDEBUG -I"C:/extsoft/include" -D_RDLL_ -fopenmp -O2 -Wall -mtune=generic -c Bernoulli.cpp -o Bernoulli.o
C:/Rtools/mingw_32/bin/g++ -I"C:/Users/BIOCBU˜1/BBS-3˜1.7-B/R/include" -DNDEBUG -I"C:/extsoft/include" -D_RDLL_ -fopenmp -O2 -Wall -mtune=generic -c EmissionFactory.cpp -o EmissionFactory.o
C:/Rtools/mingw_32/bin/g++ -I"C:/Users/BIOCBU˜1/BBS-3˜1.7-B/R/include" -DNDEBUG -I"C:/extsoft/include" -D_RDLL_ -fopenmp -O2 -Wall -mtune=generic -c EmissionFunction.cpp -o EmissionFunction.o
C:/Rtools/mingw_32/bin/g++ -I"C:/Users/BIOCBU˜1/BBS-3˜1.7-B/R/include" -DNDEBUG -I"C:/extsoft/include" -D_RDLL_ -fopenmp -O2 -Wall -mtune=generic -c HMM.cpp -o HMM.o
C:/Rtools/mingw_32/bin/g++ -I"C:/Users/BIOCBU˜1/BBS-3˜1.7-B/R/include" -DNDEBUG -I"C:/extsoft/include" -D_RDLL_ -fopenmp -O2 -Wall -mtune=generic -c InitialProbability.cpp -o InitialProbability.o
C:/Rtools/mingw_32/bin/g++ -I"C:/Users/BIOCBU˜1/BBS-3˜1.7-B/R/include" -DNDEBUG -I"C:/extsoft/include" -D_RDLL_ -fopenmp -O2 -Wall -mtune=generic -c JointlyIndependent.cpp -o JointlyIndependent.o
C:/Rtools/mingw_32/bin/g++ -I"C:/Users/BIOCBU˜1/BBS-3˜1.7-B/R/include" -DNDEBUG -I"C:/extsoft/include" -D_RDLL_ -fopenmp -O2 -Wall -mtune=generic -c MemoryAllocation.cpp -o MemoryAllocation.o
C:/Rtools/mingw_32/bin/g++ -I"C:/Users/BIOCBU˜1/BBS-3˜1.7-B/R/include" -DNDEBUG -I"C:/extsoft/include" -D_RDLL_ -fopenmp -O2 -Wall -mtune=generic -c Multinomial.cpp -o Multinomial.o
C:/Rtools/mingw_32/bin/g++ -I"C:/Users/BIOCBU˜1/BBS-3˜1.7-B/R/include" -DNDEBUG -I"C:/extsoft/include" -D_RDLL_ -fopenmp -O2 -Wall -mtune=generic -c MultivariateGaussian.cpp -o MultivariateGaussian.o
C:/Rtools/mingw_32/bin/g++ -I"C:/Users/BIOCBU˜1/BBS-3˜1.7-B/R/include" -DNDEBUG -I"C:/extsoft/include" -D_RDLL_ -fopenmp -O2 -Wall -mtune=generic -c NegativeBinomial.cpp -o NegativeBinomial.o
C:/Rtools/mingw_32/bin/g++ -I"C:/Users/BIOCBU˜1/BBS-3˜1.7-B/R/include" -DNDEBUG -I"C:/extsoft/include" -D_RDLL_ -fopenmp -O2 -Wall -mtune=generic -c ParamContainerEmissions.cpp -o ParamContainerEmissions.o
C:/Rtools/mingw_32/bin/g++ -I"C:/Users/BIOCBU˜1/BBS-3˜1.7-B/R/include" -DNDEBUG -I"C:/extsoft/include" -D_RDLL_ -fopenmp -O2 -Wall -mtune=generic -c Poisson.cpp -o Poisson.o
C:/Rtools/mingw_32/bin/g++ -I"C:/Users/BIOCBU˜1/BBS-3˜1.7-B/R/include" -DNDEBUG -I"C:/extsoft/include" -D_RDLL_ -fopenmp -O2 -Wall -mtune=generic -c PoissonLogNormal.cpp -o PoissonLogNormal.o
C:/Rtools/mingw_32/bin/g++ -I"C:/Users/BIOCBU˜1/BBS-3˜1.7-B/R/include" -DNDEBUG -I"C:/extsoft/include" -D_RDLL_ -fopenmp -O2 -Wall -mtune=generic -c RAccessUtils.cpp -o RAccessUtils.o
C:/Rtools/mingw_32/bin/g++ -I"C:/Users/BIOCBU˜1/BBS-3˜1.7-B/R/include" -DNDEBUG -I"C:/extsoft/include" -D_RDLL_ -fopenmp -O2 -Wall -mtune=generic -c RWrapper.cpp -o RWrapper.o
RWrapper.cpp: In function 'EmissionFunction** RGETEMISSION(SEXP, int, SEXP, int*, const char*, double***, int*, int, SEXP, int*, int*, int*)':
RWrapper.cpp:350:16: warning: 'HMMEmissionFunctions' may be used uninitialized in this function [-Wmaybe-uninitialized]
return HMMEmissionFunctions;
^
RWrapper.cpp: In function 'SEXPREC* prepareEmission(const char*, SEXP, SEXP, EmissionFunction**, int)':
RWrapper.cpp:1157:16: warning: 'sexpemissionParam' may be used uninitialized in this function [-Wmaybe-uninitialized]
return sexpemissionParam;
^
C:/Rtools/mingw_32/bin/g++ -I"C:/Users/BIOCBU˜1/BBS-3˜1.7-B/R/include" -DNDEBUG -I"C:/extsoft/include" -D_RDLL_ -fopenmp -O2 -Wall -mtune=generic -c TransitionMatrix.cpp -o TransitionMatrix.o
C:/Rtools/mingw_32/bin/g++ -I"C:/Users/BIOCBU˜1/BBS-3˜1.7-B/R/include" -DNDEBUG -I"C:/extsoft/include" -D_RDLL_ -fopenmp -O2 -Wall -mtune=generic -c matUtils.cpp -o matUtils.o
C:/Rtools/mingw_32/bin/g++ -shared -s -static-libgcc -o STAN.dll tmp.def Bernoulli.o EmissionFactory.o EmissionFunction.o HMM.o InitialProbability.o JointlyIndependent.o MemoryAllocation.o Multinomial.o MultivariateGaussian.o NegativeBinomial.o ParamContainerEmissions.o Poisson.o PoissonLogNormal.o RAccessUtils.o RWrapper.o TransitionMatrix.o matUtils.o -LC:/Users/BIOCBU˜1/BBS-3˜1.7-B/R/bin/i386 -lRlapack -LC:/Users/BIOCBU˜1/BBS-3˜1.7-B/R/bin/i386 -lRblas -lgfortran -lm -lquadmath -fopenmp -LC:/extsoft/lib/i386 -LC:/extsoft/lib -LC:/Users/BIOCBU˜1/BBS-3˜1.7-B/R/bin/i386 -lR
installing to C:/Users/biocbuild/bbs-3.7-bioc/meat/STAN.buildbin-libdir/STAN/libs/i386
** R
** data
** inst
** byte-compile and prepare package for lazy loading
** help
*** installing help indices
converting help for package 'STAN'
finding HTML links ... done
DimNames html
DirScore html
Emission html
EmissionParams html
HMM-class html
HMM html
HMMEmission-class html
HMMEmission html
InitProb html
LogLik html
STAN-package html
StateNames html
Transitions html
bdHMM-class html
bdHMM html
binarizeData html
c2optimize html
call_dpoilog html
data2Gviz html
example html
fitBdClust html
fitHMM html
flags html
getAvgSignal html
getLogLik html
getPosterior html
getSizeFactors html
getViterbi html
initBdClust html
initBdHMM html
initHMM html
observations html
pilot.hg19 html
runningMean html
sub-HMM-ANY-ANY-ANY-method html
sub-bdHMM-ANY-ANY-ANY-method html
trainRegions html
ucscGenes html
viterbi2GRanges html
viterbi2Gviz html
yeastTF_SGDGenes html
yeastTF_databychrom_ex html
** building package indices
** installing vignettes
** testing if installed package can be loaded
In R CMD INSTALL
install for x64
* installing *source* package 'STAN' ...
** libs
C:/Rtools/mingw_64/bin/g++ -I"C:/Users/BIOCBU˜1/BBS-3˜1.7-B/R/include" -DNDEBUG -I"C:/extsoft/include" -D_RDLL_ -fopenmp -O2 -Wall -mtune=generic -c Bernoulli.cpp -o Bernoulli.o
C:/Rtools/mingw_64/bin/g++ -I"C:/Users/BIOCBU˜1/BBS-3˜1.7-B/R/include" -DNDEBUG -I"C:/extsoft/include" -D_RDLL_ -fopenmp -O2 -Wall -mtune=generic -c EmissionFactory.cpp -o EmissionFactory.o
C:/Rtools/mingw_64/bin/g++ -I"C:/Users/BIOCBU˜1/BBS-3˜1.7-B/R/include" -DNDEBUG -I"C:/extsoft/include" -D_RDLL_ -fopenmp -O2 -Wall -mtune=generic -c EmissionFunction.cpp -o EmissionFunction.o
C:/Rtools/mingw_64/bin/g++ -I"C:/Users/BIOCBU˜1/BBS-3˜1.7-B/R/include" -DNDEBUG -I"C:/extsoft/include" -D_RDLL_ -fopenmp -O2 -Wall -mtune=generic -c HMM.cpp -o HMM.o
C:/Rtools/mingw_64/bin/g++ -I"C:/Users/BIOCBU˜1/BBS-3˜1.7-B/R/include" -DNDEBUG -I"C:/extsoft/include" -D_RDLL_ -fopenmp -O2 -Wall -mtune=generic -c InitialProbability.cpp -o InitialProbability.o
C:/Rtools/mingw_64/bin/g++ -I"C:/Users/BIOCBU˜1/BBS-3˜1.7-B/R/include" -DNDEBUG -I"C:/extsoft/include" -D_RDLL_ -fopenmp -O2 -Wall -mtune=generic -c JointlyIndependent.cpp -o JointlyIndependent.o
C:/Rtools/mingw_64/bin/g++ -I"C:/Users/BIOCBU˜1/BBS-3˜1.7-B/R/include" -DNDEBUG -I"C:/extsoft/include" -D_RDLL_ -fopenmp -O2 -Wall -mtune=generic -c MemoryAllocation.cpp -o MemoryAllocation.o
C:/Rtools/mingw_64/bin/g++ -I"C:/Users/BIOCBU˜1/BBS-3˜1.7-B/R/include" -DNDEBUG -I"C:/extsoft/include" -D_RDLL_ -fopenmp -O2 -Wall -mtune=generic -c Multinomial.cpp -o Multinomial.o
C:/Rtools/mingw_64/bin/g++ -I"C:/Users/BIOCBU˜1/BBS-3˜1.7-B/R/include" -DNDEBUG -I"C:/extsoft/include" -D_RDLL_ -fopenmp -O2 -Wall -mtune=generic -c MultivariateGaussian.cpp -o MultivariateGaussian.o
C:/Rtools/mingw_64/bin/g++ -I"C:/Users/BIOCBU˜1/BBS-3˜1.7-B/R/include" -DNDEBUG -I"C:/extsoft/include" -D_RDLL_ -fopenmp -O2 -Wall -mtune=generic -c NegativeBinomial.cpp -o NegativeBinomial.o
C:/Rtools/mingw_64/bin/g++ -I"C:/Users/BIOCBU˜1/BBS-3˜1.7-B/R/include" -DNDEBUG -I"C:/extsoft/include" -D_RDLL_ -fopenmp -O2 -Wall -mtune=generic -c ParamContainerEmissions.cpp -o ParamContainerEmissions.o
C:/Rtools/mingw_64/bin/g++ -I"C:/Users/BIOCBU˜1/BBS-3˜1.7-B/R/include" -DNDEBUG -I"C:/extsoft/include" -D_RDLL_ -fopenmp -O2 -Wall -mtune=generic -c Poisson.cpp -o Poisson.o
C:/Rtools/mingw_64/bin/g++ -I"C:/Users/BIOCBU˜1/BBS-3˜1.7-B/R/include" -DNDEBUG -I"C:/extsoft/include" -D_RDLL_ -fopenmp -O2 -Wall -mtune=generic -c PoissonLogNormal.cpp -o PoissonLogNormal.o
C:/Rtools/mingw_64/bin/g++ -I"C:/Users/BIOCBU˜1/BBS-3˜1.7-B/R/include" -DNDEBUG -I"C:/extsoft/include" -D_RDLL_ -fopenmp -O2 -Wall -mtune=generic -c RAccessUtils.cpp -o RAccessUtils.o
C:/Rtools/mingw_64/bin/g++ -I"C:/Users/BIOCBU˜1/BBS-3˜1.7-B/R/include" -DNDEBUG -I"C:/extsoft/include" -D_RDLL_ -fopenmp -O2 -Wall -mtune=generic -c RWrapper.cpp -o RWrapper.o
RWrapper.cpp: In function 'EmissionFunction** RGETEMISSION(SEXP, int, SEXP, int*, const char*, double***, int*, int, SEXP, int*, int*, int*)':
RWrapper.cpp:350:16: warning: 'HMMEmissionFunctions' may be used uninitialized in this function [-Wmaybe-uninitialized]
return HMMEmissionFunctions;
^
RWrapper.cpp: In function 'SEXPREC* prepareEmission(const char*, SEXP, SEXP, EmissionFunction**, int)':
RWrapper.cpp:1157:16: warning: 'sexpemissionParam' may be used uninitialized in this function [-Wmaybe-uninitialized]
return sexpemissionParam;
^
C:/Rtools/mingw_64/bin/g++ -I"C:/Users/BIOCBU˜1/BBS-3˜1.7-B/R/include" -DNDEBUG -I"C:/extsoft/include" -D_RDLL_ -fopenmp -O2 -Wall -mtune=generic -c TransitionMatrix.cpp -o TransitionMatrix.o
C:/Rtools/mingw_64/bin/g++ -I"C:/Users/BIOCBU˜1/BBS-3˜1.7-B/R/include" -DNDEBUG -I"C:/extsoft/include" -D_RDLL_ -fopenmp -O2 -Wall -mtune=generic -c matUtils.cpp -o matUtils.o
C:/Rtools/mingw_64/bin/g++ -shared -s -static-libgcc -o STAN.dll tmp.def Bernoulli.o EmissionFactory.o EmissionFunction.o HMM.o InitialProbability.o JointlyIndependent.o MemoryAllocation.o Multinomial.o MultivariateGaussian.o NegativeBinomial.o ParamContainerEmissions.o Poisson.o PoissonLogNormal.o RAccessUtils.o RWrapper.o TransitionMatrix.o matUtils.o -LC:/Users/BIOCBU˜1/BBS-3˜1.7-B/R/bin/x64 -lRlapack -LC:/Users/BIOCBU˜1/BBS-3˜1.7-B/R/bin/x64 -lRblas -lgfortran -lm -lquadmath -fopenmp -LC:/extsoft/lib/x64 -LC:/extsoft/lib -LC:/Users/BIOCBU˜1/BBS-3˜1.7-B/R/bin/x64 -lR
installing to C:/Users/biocbuild/bbs-3.7-bioc/meat/STAN.buildbin-libdir/STAN/libs/x64
** testing if installed package can be loaded
* MD5 sums
packaged installation of 'STAN' as STAN_2.8.0.zip
* DONE (STAN)
In R CMD INSTALL
In R CMD INSTALL