| Back to Multiple platform build/check report for BioC 3.7 |
|
This page was generated on 2018-10-17 08:53:18 -0400 (Wed, 17 Oct 2018).
| Package 1434/1561 | Hostname | OS / Arch | INSTALL | BUILD | CHECK | BUILD BIN | ||||||
| STAN 2.8.0 Rafael Campos-Martin
| malbec2 | Linux (Ubuntu 16.04.1 LTS) / x86_64 | OK | OK | OK | |||||||
| tokay2 | Windows Server 2012 R2 Standard / x64 | OK | OK | OK | OK | |||||||
| merida2 | OS X 10.11.6 El Capitan / x86_64 | OK | OK | [ OK ] | OK |
| Package: STAN |
| Version: 2.8.0 |
| Command: /Library/Frameworks/R.framework/Versions/Current/Resources/bin/R CMD check --install=check:STAN.install-out.txt --library=/Library/Frameworks/R.framework/Versions/Current/Resources/library --no-vignettes --timings STAN_2.8.0.tar.gz |
| StartedAt: 2018-10-17 00:17:51 -0400 (Wed, 17 Oct 2018) |
| EndedAt: 2018-10-17 00:22:54 -0400 (Wed, 17 Oct 2018) |
| EllapsedTime: 303.5 seconds |
| RetCode: 0 |
| Status: OK |
| CheckDir: STAN.Rcheck |
| Warnings: 0 |
##############################################################################
##############################################################################
###
### Running command:
###
### /Library/Frameworks/R.framework/Versions/Current/Resources/bin/R CMD check --install=check:STAN.install-out.txt --library=/Library/Frameworks/R.framework/Versions/Current/Resources/library --no-vignettes --timings STAN_2.8.0.tar.gz
###
##############################################################################
##############################################################################
* using log directory ‘/Users/biocbuild/bbs-3.7-bioc/meat/STAN.Rcheck’
* using R version 3.5.1 Patched (2018-07-12 r74967)
* using platform: x86_64-apple-darwin15.6.0 (64-bit)
* using session charset: UTF-8
* using option ‘--no-vignettes’
* checking for file ‘STAN/DESCRIPTION’ ... OK
* this is package ‘STAN’ version ‘2.8.0’
* checking package namespace information ... OK
* checking package dependencies ... OK
* checking if this is a source package ... OK
* checking if there is a namespace ... OK
* checking for hidden files and directories ... OK
* checking for portable file names ... OK
* checking for sufficient/correct file permissions ... OK
* checking whether package ‘STAN’ can be installed ... OK
* checking installed package size ... OK
* checking package directory ... OK
* checking ‘build’ directory ... OK
* checking DESCRIPTION meta-information ... OK
* checking top-level files ... OK
* checking for left-over files ... OK
* checking index information ... OK
* checking package subdirectories ... OK
* checking R files for non-ASCII characters ... OK
* checking R files for syntax errors ... OK
* checking whether the package can be loaded ... OK
* checking whether the package can be loaded with stated dependencies ... OK
* checking whether the package can be unloaded cleanly ... OK
* checking whether the namespace can be loaded with stated dependencies ... OK
* checking whether the namespace can be unloaded cleanly ... OK
* checking dependencies in R code ... OK
* checking S3 generic/method consistency ... OK
* checking replacement functions ... OK
* checking foreign function calls ... OK
* checking R code for possible problems ... NOTE
initBdClust: warning in initBdHMM(obs, dStates = dStates, uStates =
uStates, method = method, directedObs = directedObs, sizeFactor =
sizeFactors, sharedCov = sharedCov, dirFlags = dirFlags): partial
argument match of 'sizeFactor' to 'sizeFactors'
binarizeData : <anonymous>: no visible global function definition for
'ppois'
clusterMat : <anonymous>: no visible global function definition for
'ppois'
clusterMat: no visible global function definition for 'kmeans'
myQNBinom: no visible global function definition for 'dnbinom'
optimizeNB : <anonymous>: no visible global function definition for
'optim'
optimizeNBInit: no visible global function definition for 'optim'
optimizePoiLog : <anonymous>: no visible global function definition for
'optim'
optimizePoiLogInit: no visible global function definition for 'optim'
Undefined global functions or variables:
dnbinom kmeans optim ppois
Consider adding
importFrom("stats", "dnbinom", "kmeans", "optim", "ppois")
to your NAMESPACE file.
* checking Rd files ... OK
* checking Rd metadata ... OK
* checking Rd cross-references ... OK
* checking for missing documentation entries ... OK
* checking for code/documentation mismatches ... OK
* checking Rd \usage sections ... OK
* checking Rd contents ... OK
* checking for unstated dependencies in examples ... OK
* checking contents of ‘data’ directory ... OK
* checking data for non-ASCII characters ... NOTE
Error in .requirePackage(package) :
unable to find required package 'Gviz'
Calls: <Anonymous> ... getClass -> getClassDef -> .classEnv -> .requirePackage
Execution halted
* checking data for ASCII and uncompressed saves ... OK
* checking line endings in C/C++/Fortran sources/headers ... OK
* checking line endings in Makefiles ... OK
* checking compilation flags in Makevars ... OK
* checking for GNU extensions in Makefiles ... OK
* checking for portable use of $(BLAS_LIBS) and $(LAPACK_LIBS) ... OK
* checking compiled code ... NOTE
Note: information on .o files is not available
* checking sizes of PDF files under ‘inst/doc’ ... OK
* checking files in ‘vignettes’ ... OK
* checking examples ... OK
Examples with CPU or elapsed time > 5s
user system elapsed
getAvgSignal 7.329 4.557 1.355
viterbi2GRanges 4.422 3.392 2.070
* checking for unstated dependencies in vignettes ... OK
* checking package vignettes in ‘inst/doc’ ... OK
* checking running R code from vignettes ... SKIPPED
* checking re-building of vignette outputs ... SKIPPED
* checking PDF version of manual ... OK
* DONE
Status: 3 NOTEs
See
‘/Users/biocbuild/bbs-3.7-bioc/meat/STAN.Rcheck/00check.log’
for details.
STAN.Rcheck/00install.out
##############################################################################
##############################################################################
###
### Running command:
###
### /Library/Frameworks/R.framework/Versions/Current/Resources/bin/R CMD INSTALL STAN
###
##############################################################################
##############################################################################
* installing to library ‘/Library/Frameworks/R.framework/Versions/3.5/Resources/library’
* installing *source* package ‘STAN’ ...
** libs
clang++ -I"/Library/Frameworks/R.framework/Resources/include" -DNDEBUG -I/usr/local/include -D_RDLL_ -fopenmp -fPIC -Wall -g -O2 -c Bernoulli.cpp -o Bernoulli.o
clang++ -I"/Library/Frameworks/R.framework/Resources/include" -DNDEBUG -I/usr/local/include -D_RDLL_ -fopenmp -fPIC -Wall -g -O2 -c EmissionFactory.cpp -o EmissionFactory.o
clang++ -I"/Library/Frameworks/R.framework/Resources/include" -DNDEBUG -I/usr/local/include -D_RDLL_ -fopenmp -fPIC -Wall -g -O2 -c EmissionFunction.cpp -o EmissionFunction.o
clang++ -I"/Library/Frameworks/R.framework/Resources/include" -DNDEBUG -I/usr/local/include -D_RDLL_ -fopenmp -fPIC -Wall -g -O2 -c HMM.cpp -o HMM.o
clang++ -I"/Library/Frameworks/R.framework/Resources/include" -DNDEBUG -I/usr/local/include -D_RDLL_ -fopenmp -fPIC -Wall -g -O2 -c InitialProbability.cpp -o InitialProbability.o
clang++ -I"/Library/Frameworks/R.framework/Resources/include" -DNDEBUG -I/usr/local/include -D_RDLL_ -fopenmp -fPIC -Wall -g -O2 -c JointlyIndependent.cpp -o JointlyIndependent.o
clang++ -I"/Library/Frameworks/R.framework/Resources/include" -DNDEBUG -I/usr/local/include -D_RDLL_ -fopenmp -fPIC -Wall -g -O2 -c MemoryAllocation.cpp -o MemoryAllocation.o
clang++ -I"/Library/Frameworks/R.framework/Resources/include" -DNDEBUG -I/usr/local/include -D_RDLL_ -fopenmp -fPIC -Wall -g -O2 -c Multinomial.cpp -o Multinomial.o
clang++ -I"/Library/Frameworks/R.framework/Resources/include" -DNDEBUG -I/usr/local/include -D_RDLL_ -fopenmp -fPIC -Wall -g -O2 -c MultivariateGaussian.cpp -o MultivariateGaussian.o
clang++ -I"/Library/Frameworks/R.framework/Resources/include" -DNDEBUG -I/usr/local/include -D_RDLL_ -fopenmp -fPIC -Wall -g -O2 -c NegativeBinomial.cpp -o NegativeBinomial.o
clang++ -I"/Library/Frameworks/R.framework/Resources/include" -DNDEBUG -I/usr/local/include -D_RDLL_ -fopenmp -fPIC -Wall -g -O2 -c ParamContainerEmissions.cpp -o ParamContainerEmissions.o
clang++ -I"/Library/Frameworks/R.framework/Resources/include" -DNDEBUG -I/usr/local/include -D_RDLL_ -fopenmp -fPIC -Wall -g -O2 -c Poisson.cpp -o Poisson.o
clang++ -I"/Library/Frameworks/R.framework/Resources/include" -DNDEBUG -I/usr/local/include -D_RDLL_ -fopenmp -fPIC -Wall -g -O2 -c PoissonLogNormal.cpp -o PoissonLogNormal.o
clang++ -I"/Library/Frameworks/R.framework/Resources/include" -DNDEBUG -I/usr/local/include -D_RDLL_ -fopenmp -fPIC -Wall -g -O2 -c RAccessUtils.cpp -o RAccessUtils.o
clang++ -I"/Library/Frameworks/R.framework/Resources/include" -DNDEBUG -I/usr/local/include -D_RDLL_ -fopenmp -fPIC -Wall -g -O2 -c RWrapper.cpp -o RWrapper.o
RWrapper.cpp:343:17: warning: variable 'HMMEmissionFunctions' is used uninitialized whenever 'if' condition is false [-Wsometimes-uninitialized]
else if(strcmp(type,poissonlognormal) == 0)
^˜˜˜˜˜˜˜˜˜˜˜˜˜˜˜˜˜˜˜˜˜˜˜˜˜˜˜˜˜˜˜˜˜
RWrapper.cpp:350:16: note: uninitialized use occurs here
return HMMEmissionFunctions;
^˜˜˜˜˜˜˜˜˜˜˜˜˜˜˜˜˜˜˜
RWrapper.cpp:343:14: note: remove the 'if' if its condition is always true
else if(strcmp(type,poissonlognormal) == 0)
^˜˜˜˜˜˜˜˜˜˜˜˜˜˜˜˜˜˜˜˜˜˜˜˜˜˜˜˜˜˜˜˜˜˜˜˜˜
RWrapper.cpp:311:48: note: initialize the variable 'HMMEmissionFunctions' to silence this warning
EmissionFunction **HMMEmissionFunctions;
^
= NULL
RWrapper.cpp:1140:21: warning: variable 'sexpemissionParam' is used uninitialized whenever 'if' condition is false [-Wsometimes-uninitialized]
else if(strcmp(type, multinomial) == 0)
^˜˜˜˜˜˜˜˜˜˜˜˜˜˜˜˜˜˜˜˜˜˜˜˜˜˜˜˜˜
RWrapper.cpp:1157:16: note: uninitialized use occurs here
return sexpemissionParam;
^˜˜˜˜˜˜˜˜˜˜˜˜˜˜˜˜
RWrapper.cpp:1140:18: note: remove the 'if' if its condition is always true
else if(strcmp(type, multinomial) == 0)
^˜˜˜˜˜˜˜˜˜˜˜˜˜˜˜˜˜˜˜˜˜˜˜˜˜˜˜˜˜˜˜˜˜
RWrapper.cpp:1123:31: note: initialize the variable 'sexpemissionParam' to silence this warning
SEXP sexpemissionParam;
^
= NULL
2 warnings generated.
clang++ -I"/Library/Frameworks/R.framework/Resources/include" -DNDEBUG -I/usr/local/include -D_RDLL_ -fopenmp -fPIC -Wall -g -O2 -c TransitionMatrix.cpp -o TransitionMatrix.o
clang++ -I"/Library/Frameworks/R.framework/Resources/include" -DNDEBUG -I/usr/local/include -D_RDLL_ -fopenmp -fPIC -Wall -g -O2 -c matUtils.cpp -o matUtils.o
clang++ -dynamiclib -Wl,-headerpad_max_install_names -undefined dynamic_lookup -single_module -multiply_defined suppress -L/Library/Frameworks/R.framework/Resources/lib -L/usr/local/lib -o STAN.so Bernoulli.o EmissionFactory.o EmissionFunction.o HMM.o InitialProbability.o JointlyIndependent.o MemoryAllocation.o Multinomial.o MultivariateGaussian.o NegativeBinomial.o ParamContainerEmissions.o Poisson.o PoissonLogNormal.o RAccessUtils.o RWrapper.o TransitionMatrix.o matUtils.o -L/Library/Frameworks/R.framework/Resources/lib -lRlapack -L/Library/Frameworks/R.framework/Resources/lib -lRblas -L/usr/local/gfortran/lib/gcc/x86_64-apple-darwin15/6.1.0 -L/usr/local/gfortran/lib -lgfortran -lquadmath -lm -fopenmp -F/Library/Frameworks/R.framework/.. -framework R -Wl,-framework -Wl,CoreFoundation
installing to /Library/Frameworks/R.framework/Versions/3.5/Resources/library/STAN/libs
** R
** data
** byte-compile and prepare package for lazy loading
** help
*** installing help indices
** building package indices
** installing vignettes
** testing if installed package can be loaded
* DONE (STAN)
STAN.Rcheck/STAN-Ex.timings
| name | user | system | elapsed | |
| DimNames | 0.007 | 0.000 | 0.008 | |
| DirScore | 0.721 | 0.765 | 0.271 | |
| Emission | 0.024 | 0.027 | 0.007 | |
| EmissionParams | 0.025 | 0.030 | 0.007 | |
| HMM-class | 0.025 | 0.030 | 0.008 | |
| HMM | 0.023 | 0.028 | 0.007 | |
| HMMEmission-class | 0.017 | 0.021 | 0.006 | |
| HMMEmission | 0.017 | 0.021 | 0.005 | |
| InitProb | 0.019 | 0.023 | 0.006 | |
| LogLik | 0.202 | 0.337 | 0.066 | |
| StateNames | 0.020 | 0.032 | 0.006 | |
| Transitions | 0.021 | 0.031 | 0.006 | |
| bdHMM-class | 0.095 | 0.150 | 0.030 | |
| bdHMM | 0.074 | 0.125 | 0.022 | |
| binarizeData | 0.248 | 0.509 | 0.086 | |
| call_dpoilog | 0.006 | 0.014 | 0.003 | |
| fitBdClust | 0.425 | 0.701 | 0.161 | |
| fitHMM | 0.173 | 0.280 | 0.056 | |
| getAvgSignal | 7.329 | 4.557 | 1.355 | |
| getLogLik | 0.166 | 0.120 | 0.051 | |
| getPosterior | 0.231 | 0.230 | 0.063 | |
| getSizeFactors | 0.282 | 0.238 | 0.074 | |
| getViterbi | 0.238 | 0.244 | 0.069 | |
| initBdHMM | 0.108 | 0.078 | 0.027 | |
| initHMM | 0.071 | 0.055 | 0.018 | |
| runningMean | 0.271 | 0.275 | 0.078 | |
| viterbi2GRanges | 4.422 | 3.392 | 2.070 | |