| Back to Multiple platform build/check report for BioC 3.7 |
|
This page was generated on 2018-10-17 08:34:56 -0400 (Wed, 17 Oct 2018).
| Package 1422/1561 | Hostname | OS / Arch | INSTALL | BUILD | CHECK | BUILD BIN | ||||||
| SQUADD 1.30.0 Martial Sankar
| malbec2 | Linux (Ubuntu 16.04.1 LTS) / x86_64 | OK | OK | OK | |||||||
| tokay2 | Windows Server 2012 R2 Standard / x64 | OK | [ OK ] | OK | OK | |||||||
| merida2 | OS X 10.11.6 El Capitan / x86_64 | OK | OK | OK | OK |
| Package: SQUADD |
| Version: 1.30.0 |
| Command: chmod a+r SQUADD -R && C:\Users\biocbuild\bbs-3.7-bioc\R\bin\R.exe CMD build --keep-empty-dirs --no-resave-data SQUADD |
| StartedAt: 2018-10-16 21:21:48 -0400 (Tue, 16 Oct 2018) |
| EndedAt: 2018-10-16 21:22:00 -0400 (Tue, 16 Oct 2018) |
| EllapsedTime: 12.2 seconds |
| RetCode: 0 |
| Status: OK |
| PackageFile: SQUADD_1.30.0.tar.gz |
| PackageFileSize: 596.9 KiB |
##############################################################################
##############################################################################
###
### Running command:
###
### chmod a+r SQUADD -R && C:\Users\biocbuild\bbs-3.7-bioc\R\bin\R.exe CMD build --keep-empty-dirs --no-resave-data SQUADD
###
##############################################################################
##############################################################################
* checking for file 'SQUADD/DESCRIPTION' ... OK
* preparing 'SQUADD':
* checking DESCRIPTION meta-information ... OK
* installing the package to build vignettes
* creating vignettes ... OK
Warning: 'inst/doc' file
'SQUADD_ERK.R'
ignored as vignettes have been rebuilt.
Run R CMD build with --no-build-vignettes to prevent rebuilding.
* checking for LF line-endings in source and make files and shell scripts
* checking for empty or unneeded directories
* building 'SQUADD_1.30.0.tar.gz'