| Back to Multiple platform build/check report for BioC 3.7 |
|
This page was generated on 2018-10-17 08:48:48 -0400 (Wed, 17 Oct 2018).
| Package 1422/1561 | Hostname | OS / Arch | INSTALL | BUILD | CHECK | BUILD BIN | ||||||
| SQUADD 1.30.0 Martial Sankar
| malbec2 | Linux (Ubuntu 16.04.1 LTS) / x86_64 | OK | OK | OK | |||||||
| tokay2 | Windows Server 2012 R2 Standard / x64 | OK | OK | OK | OK | |||||||
| merida2 | OS X 10.11.6 El Capitan / x86_64 | OK | OK | OK | [ OK ] |
| Package: SQUADD |
| Version: 1.30.0 |
| Command: rm -rf SQUADD.buildbin-libdir && mkdir SQUADD.buildbin-libdir && /Users/biocbuild/BBS/utils/build-universal.sh SQUADD_1.30.0.tar.gz /Library/Frameworks/R.framework/Versions/Current/Resources/bin/R SQUADD.buildbin-libdir |
| StartedAt: 2018-10-17 02:12:38 -0400 (Wed, 17 Oct 2018) |
| EndedAt: 2018-10-17 02:13:57 -0400 (Wed, 17 Oct 2018) |
| EllapsedTime: 79.2 seconds |
| RetCode: 0 |
| Status: OK |
| PackageFile: SQUADD_1.30.0.tgz |
| PackageFileSize: 633 KiB |
############################################################################## ############################################################################## ### ### Running command: ### ### rm -rf SQUADD.buildbin-libdir && mkdir SQUADD.buildbin-libdir && /Users/biocbuild/BBS/utils/build-universal.sh SQUADD_1.30.0.tar.gz /Library/Frameworks/R.framework/Versions/Current/Resources/bin/R SQUADD.buildbin-libdir ### ############################################################################## ############################################################################## >>>>>>> >>>>>>> INSTALLATION WITH 'R CMD INSTALL --preclean --no-multiarch --library=SQUADD.buildbin-libdir SQUADD_1.30.0.tar.gz' >>>>>>> * installing *source* package ‘SQUADD’ ... ** R ** inst ** byte-compile and prepare package for lazy loading ** help *** installing help indices ** building package indices ** installing vignettes ** testing if installed package can be loaded * DONE (SQUADD)