| Back to Multiple platform build/check report for BioC 3.7 |
|
This page was generated on 2018-10-17 08:40:47 -0400 (Wed, 17 Oct 2018).
| Package 1125/1561 | Hostname | OS / Arch | INSTALL | BUILD | CHECK | BUILD BIN | ||||||
| Prize 1.10.0 Daryanaz Dargahi
| malbec2 | Linux (Ubuntu 16.04.1 LTS) / x86_64 | OK | OK | OK | |||||||
| tokay2 | Windows Server 2012 R2 Standard / x64 | OK | OK | [ OK ] | OK | |||||||
| merida2 | OS X 10.11.6 El Capitan / x86_64 | OK | OK | OK | OK |
| Package: Prize |
| Version: 1.10.0 |
| Command: C:\Users\biocbuild\bbs-3.7-bioc\R\bin\R.exe CMD check --force-multiarch --install=check:Prize.install-out.txt --library=C:\Users\biocbuild\bbs-3.7-bioc\R\library --no-vignettes --timings Prize_1.10.0.tar.gz |
| StartedAt: 2018-10-17 04:04:25 -0400 (Wed, 17 Oct 2018) |
| EndedAt: 2018-10-17 04:07:12 -0400 (Wed, 17 Oct 2018) |
| EllapsedTime: 167.0 seconds |
| RetCode: 0 |
| Status: OK |
| CheckDir: Prize.Rcheck |
| Warnings: 0 |
##############################################################################
##############################################################################
###
### Running command:
###
### C:\Users\biocbuild\bbs-3.7-bioc\R\bin\R.exe CMD check --force-multiarch --install=check:Prize.install-out.txt --library=C:\Users\biocbuild\bbs-3.7-bioc\R\library --no-vignettes --timings Prize_1.10.0.tar.gz
###
##############################################################################
##############################################################################
* using log directory 'C:/Users/biocbuild/bbs-3.7-bioc/meat/Prize.Rcheck'
* using R version 3.5.1 Patched (2018-07-24 r75005)
* using platform: x86_64-w64-mingw32 (64-bit)
* using session charset: ISO8859-1
* using option '--no-vignettes'
* checking for file 'Prize/DESCRIPTION' ... OK
* checking extension type ... Package
* this is package 'Prize' version '1.10.0'
* checking package namespace information ... OK
* checking package dependencies ... OK
* checking if this is a source package ... OK
* checking if there is a namespace ... OK
* checking for hidden files and directories ... OK
* checking for portable file names ... OK
* checking whether package 'Prize' can be installed ... OK
* checking installed package size ... OK
* checking package directory ... OK
* checking 'build' directory ... OK
* checking DESCRIPTION meta-information ... OK
* checking top-level files ... OK
* checking for left-over files ... OK
* checking index information ... OK
* checking package subdirectories ... OK
* checking R files for non-ASCII characters ... OK
* checking R files for syntax errors ... OK
* loading checks for arch 'i386'
** checking whether the package can be loaded ... OK
** checking whether the package can be loaded with stated dependencies ... OK
** checking whether the package can be unloaded cleanly ... OK
** checking whether the namespace can be loaded with stated dependencies ... OK
** checking whether the namespace can be unloaded cleanly ... OK
* loading checks for arch 'x64'
** checking whether the package can be loaded ... OK
** checking whether the package can be loaded with stated dependencies ... OK
** checking whether the package can be unloaded cleanly ... OK
** checking whether the namespace can be loaded with stated dependencies ... OK
** checking whether the namespace can be unloaded cleanly ... OK
* checking dependencies in R code ... OK
* checking S3 generic/method consistency ... OK
* checking replacement functions ... OK
* checking foreign function calls ... OK
* checking R code for possible problems ... OK
* checking Rd files ... OK
* checking Rd metadata ... OK
* checking Rd cross-references ... OK
* checking for missing documentation entries ... OK
* checking for code/documentation mismatches ... OK
* checking Rd \usage sections ... OK
* checking Rd contents ... OK
* checking for unstated dependencies in examples ... OK
* checking files in 'vignettes' ... OK
* checking examples ...
** running examples for arch 'i386' ... OK
Examples with CPU or elapsed time > 5s
user system elapsed
Prize-package 7.86 0.03 7.91
** running examples for arch 'x64' ... OK
Examples with CPU or elapsed time > 5s
user system elapsed
Prize-package 7.59 0.02 7.61
* checking for unstated dependencies in 'tests' ... OK
* checking tests ...
** running tests for arch 'i386' ...
Running 'runTests.R'
OK
** running tests for arch 'x64' ...
Running 'runTests.R'
OK
* checking for unstated dependencies in vignettes ... OK
* checking package vignettes in 'inst/doc' ... OK
* checking running R code from vignettes ... SKIPPED
* checking re-building of vignette outputs ... SKIPPED
* checking PDF version of manual ... OK
* DONE
Status: OK
Prize.Rcheck/00install.out
##############################################################################
##############################################################################
###
### Running command:
###
### C:\cygwin\bin\curl.exe -O https://malbec2.bioconductor.org/BBS/3.7/bioc/src/contrib/Prize_1.10.0.tar.gz && rm -rf Prize.buildbin-libdir && mkdir Prize.buildbin-libdir && C:\Users\biocbuild\bbs-3.7-bioc\R\bin\R.exe CMD INSTALL --merge-multiarch --build --library=Prize.buildbin-libdir Prize_1.10.0.tar.gz && C:\Users\biocbuild\bbs-3.7-bioc\R\bin\R.exe CMD INSTALL Prize_1.10.0.zip && rm Prize_1.10.0.tar.gz Prize_1.10.0.zip
###
##############################################################################
##############################################################################
% Total % Received % Xferd Average Speed Time Time Time Current
Dload Upload Total Spent Left Speed
0 0 0 0 0 0 0 0 --:--:-- --:--:-- --:--:-- 0
100 35877 100 35877 0 0 627k 0 --:--:-- --:--:-- --:--:-- 729k
install for i386
* installing *source* package 'Prize' ...
** R
** inst
** byte-compile and prepare package for lazy loading
** help
*** installing help indices
converting help for package 'Prize'
finding HTML links ... done
AIJ html
AIP html
CI html
GCR html
ICR html
IP html
Prize-package html
RM html
aggreg.judgement-data html
ahmatrix html
ahmatrixObj-class html
ahp html
ahpObj-class html
ahp_matrix html
ahp_plot html
ahp_weights html
ahplot html
ariAggreg-class html
crplot html
dplot html
epitope.PCM-data html
epitopeLength.PCM-data html
epitopeNum.PCM-data html
epitope_num_rating-data html
epitope_size_rating-data html
freq.PCM-data html
freq_exp_rating-data html
gaggregate html
genes.list-data html
geoAggreg-class html
ind1-data html
ind2-data html
ind3-data html
ind4-data html
normal.PCM-data html
normal_exp_rating-data html
numEpitope_alternative_category-data html
number-data html
pipeline html
pipelineObj-class html
rainbow_plot html
rainbowplot html
rating html
ratingObj-class html
saaty_inconsistency html
simulation html
tumor.PCM-data html
tumor_exp_rating-data html
weight html
weight_plot html
wplot html
** building package indices
** installing vignettes
** testing if installed package can be loaded
In R CMD INSTALL
install for x64
* installing *source* package 'Prize' ...
** testing if installed package can be loaded
* MD5 sums
packaged installation of 'Prize' as Prize_1.10.0.zip
* DONE (Prize)
In R CMD INSTALL
In R CMD INSTALL
* installing to library 'C:/Users/biocbuild/bbs-3.7-bioc/R/library'
package 'Prize' successfully unpacked and MD5 sums checked
In R CMD INSTALL
|
Prize.Rcheck/tests_i386/runTests.Rout
R version 3.5.1 Patched (2018-07-24 r75005) -- "Feather Spray"
Copyright (C) 2018 The R Foundation for Statistical Computing
Platform: i386-w64-mingw32/i386 (32-bit)
R is free software and comes with ABSOLUTELY NO WARRANTY.
You are welcome to redistribute it under certain conditions.
Type 'license()' or 'licence()' for distribution details.
R is a collaborative project with many contributors.
Type 'contributors()' for more information and
'citation()' on how to cite R or R packages in publications.
Type 'demo()' for some demos, 'help()' for on-line help, or
'help.start()' for an HTML browser interface to help.
Type 'q()' to quit R.
> BiocGenerics:::testPackage("Prize")
Loading required package: shape
Reading individual judgements.
Aggregating individual judgements with geometric mean (AIJ).
Computing group consistency ratio (GCR).
Computing consensus index (CI).
Reading individual judgements.
Aggregating individual priorities with arithmetic mean (AIP).
0 Prioritization_of_DE_genes is processed.
1 Tumor_expression is processed.
2 Normal_expression is processed.
3 Frequency is processed.
4 Epitopes is processed.
4.1 Number_of_epitopes is processed.
4.2 Size_of_epitopes is processed.
RUNIT TEST PROTOCOL -- Wed Oct 17 04:06:59 2018
***********************************************
Number of test functions: 5
Number of errors: 0
Number of failures: 0
1 Test Suite :
Prize RUnit Tests - 5 test functions, 0 errors, 0 failures
Number of test functions: 5
Number of errors: 0
Number of failures: 0
>
> proc.time()
user system elapsed
9.54 0.17 12.34
|
Prize.Rcheck/tests_x64/runTests.Rout
R version 3.5.1 Patched (2018-07-24 r75005) -- "Feather Spray"
Copyright (C) 2018 The R Foundation for Statistical Computing
Platform: x86_64-w64-mingw32/x64 (64-bit)
R is free software and comes with ABSOLUTELY NO WARRANTY.
You are welcome to redistribute it under certain conditions.
Type 'license()' or 'licence()' for distribution details.
R is a collaborative project with many contributors.
Type 'contributors()' for more information and
'citation()' on how to cite R or R packages in publications.
Type 'demo()' for some demos, 'help()' for on-line help, or
'help.start()' for an HTML browser interface to help.
Type 'q()' to quit R.
> BiocGenerics:::testPackage("Prize")
Loading required package: shape
Reading individual judgements.
Aggregating individual judgements with geometric mean (AIJ).
Computing group consistency ratio (GCR).
Computing consensus index (CI).
Reading individual judgements.
Aggregating individual priorities with arithmetic mean (AIP).
0 Prioritization_of_DE_genes is processed.
1 Tumor_expression is processed.
2 Normal_expression is processed.
3 Frequency is processed.
4 Epitopes is processed.
4.1 Number_of_epitopes is processed.
4.2 Size_of_epitopes is processed.
RUNIT TEST PROTOCOL -- Wed Oct 17 04:07:07 2018
***********************************************
Number of test functions: 5
Number of errors: 0
Number of failures: 0
1 Test Suite :
Prize RUnit Tests - 5 test functions, 0 errors, 0 failures
Number of test functions: 5
Number of errors: 0
Number of failures: 0
>
> proc.time()
user system elapsed
7.70 0.14 7.82
|
|
Prize.Rcheck/examples_i386/Prize-Ex.timings
|
Prize.Rcheck/examples_x64/Prize-Ex.timings
|