| Back to Multiple platform build/check report for BioC 3.7 |
|
This page was generated on 2018-10-17 08:38:41 -0400 (Wed, 17 Oct 2018).
| Package 887/1561 | Hostname | OS / Arch | INSTALL | BUILD | CHECK | BUILD BIN | ||||||
| MethylAid 1.14.0 M. van Iterson
| malbec2 | Linux (Ubuntu 16.04.1 LTS) / x86_64 | OK | OK | OK | |||||||
| tokay2 | Windows Server 2012 R2 Standard / x64 | [ OK ] | OK | OK | OK | |||||||
| merida2 | OS X 10.11.6 El Capitan / x86_64 | OK | OK | OK | OK |
| Package: MethylAid |
| Version: 1.14.0 |
| Command: C:\cygwin\bin\curl.exe -O https://malbec2.bioconductor.org/BBS/3.7/bioc/src/contrib/MethylAid_1.14.0.tar.gz && rm -rf MethylAid.buildbin-libdir && mkdir MethylAid.buildbin-libdir && C:\Users\biocbuild\bbs-3.7-bioc\R\bin\R.exe CMD INSTALL --merge-multiarch --build --library=MethylAid.buildbin-libdir MethylAid_1.14.0.tar.gz && C:\Users\biocbuild\bbs-3.7-bioc\R\bin\R.exe CMD INSTALL MethylAid_1.14.0.zip && rm MethylAid_1.14.0.tar.gz MethylAid_1.14.0.zip |
| StartedAt: 2018-10-16 20:21:30 -0400 (Tue, 16 Oct 2018) |
| EndedAt: 2018-10-16 20:22:29 -0400 (Tue, 16 Oct 2018) |
| EllapsedTime: 59.3 seconds |
| RetCode: 0 |
| Status: OK |
##############################################################################
##############################################################################
###
### Running command:
###
### C:\cygwin\bin\curl.exe -O https://malbec2.bioconductor.org/BBS/3.7/bioc/src/contrib/MethylAid_1.14.0.tar.gz && rm -rf MethylAid.buildbin-libdir && mkdir MethylAid.buildbin-libdir && C:\Users\biocbuild\bbs-3.7-bioc\R\bin\R.exe CMD INSTALL --merge-multiarch --build --library=MethylAid.buildbin-libdir MethylAid_1.14.0.tar.gz && C:\Users\biocbuild\bbs-3.7-bioc\R\bin\R.exe CMD INSTALL MethylAid_1.14.0.zip && rm MethylAid_1.14.0.tar.gz MethylAid_1.14.0.zip
###
##############################################################################
##############################################################################
% Total % Received % Xferd Average Speed Time Time Time Current
Dload Upload Total Spent Left Speed
0 0 0 0 0 0 0 0 --:--:-- --:--:-- --:--:-- 0
100 2771k 100 2771k 0 0 31.1M 0 --:--:-- --:--:-- --:--:-- 33.8M
install for i386
* installing *source* package 'MethylAid' ...
** R
** data
** inst
** byte-compile and prepare package for lazy loading
** help
*** installing help indices
converting help for package 'MethylAid'
finding HTML links ... done
as.background html
combine-summarizedData-ANY-method html
exampleData html
summarize html
summarizedData-class html
summarizedData-methods html
visualize html
** building package indices
** installing vignettes
** testing if installed package can be loaded
In R CMD INSTALL
install for x64
* installing *source* package 'MethylAid' ...
** testing if installed package can be loaded
* MD5 sums
packaged installation of 'MethylAid' as MethylAid_1.14.0.zip
* DONE (MethylAid)
In R CMD INSTALL
In R CMD INSTALL
* installing to library 'C:/Users/biocbuild/bbs-3.7-bioc/R/library'
package 'MethylAid' successfully unpacked and MD5 sums checked
In R CMD INSTALL