| Back to Multiple platform build/check report for BioC 3.7 |
|
This page was generated on 2018-10-17 08:38:42 -0400 (Wed, 17 Oct 2018).
| Package 887/1561 | Hostname | OS / Arch | INSTALL | BUILD | CHECK | BUILD BIN | ||||||
| MethylAid 1.14.0 M. van Iterson
| malbec2 | Linux (Ubuntu 16.04.1 LTS) / x86_64 | OK | OK | OK | |||||||
| tokay2 | Windows Server 2012 R2 Standard / x64 | OK | OK | OK | [ OK ] | |||||||
| merida2 | OS X 10.11.6 El Capitan / x86_64 | OK | OK | OK | OK |
| Package: MethylAid |
| Version: 1.14.0 |
| Command: rm -rf MethylAid.buildbin-libdir && mkdir MethylAid.buildbin-libdir && C:\Users\biocbuild\bbs-3.7-bioc\R\bin\R.exe CMD INSTALL --merge-multiarch --build --library=MethylAid.buildbin-libdir MethylAid_1.14.0.tar.gz |
| StartedAt: 2018-10-17 06:40:13 -0400 (Wed, 17 Oct 2018) |
| EndedAt: 2018-10-17 06:40:53 -0400 (Wed, 17 Oct 2018) |
| EllapsedTime: 40.5 seconds |
| RetCode: 0 |
| Status: OK |
| PackageFile: MethylAid_1.14.0.zip |
| PackageFileSize: 3.165 MiB |
##############################################################################
##############################################################################
###
### Running command:
###
### rm -rf MethylAid.buildbin-libdir && mkdir MethylAid.buildbin-libdir && C:\Users\biocbuild\bbs-3.7-bioc\R\bin\R.exe CMD INSTALL --merge-multiarch --build --library=MethylAid.buildbin-libdir MethylAid_1.14.0.tar.gz
###
##############################################################################
##############################################################################
install for i386
* installing *source* package 'MethylAid' ...
** R
** data
** inst
** byte-compile and prepare package for lazy loading
** help
*** installing help indices
converting help for package 'MethylAid'
finding HTML links ... done
as.background html
combine-summarizedData-ANY-method html
exampleData html
summarize html
summarizedData-class html
summarizedData-methods html
visualize html
** building package indices
** installing vignettes
** testing if installed package can be loaded
In R CMD INSTALL
install for x64
* installing *source* package 'MethylAid' ...
** testing if installed package can be loaded
* MD5 sums
packaged installation of 'MethylAid' as MethylAid_1.14.0.zip
* DONE (MethylAid)
In R CMD INSTALL
In R CMD INSTALL