| Back to Multiple platform build/check report for BioC 3.7 |
|
This page was generated on 2018-10-17 08:32:12 -0400 (Wed, 17 Oct 2018).
| Package 646/1561 | Hostname | OS / Arch | INSTALL | BUILD | CHECK | BUILD BIN | ||||||
| GraphAT 1.52.0 Thomas LaFramboise
| malbec2 | Linux (Ubuntu 16.04.1 LTS) / x86_64 | OK | OK | OK | |||||||
| tokay2 | Windows Server 2012 R2 Standard / x64 | OK | OK | OK | [ OK ] | |||||||
| merida2 | OS X 10.11.6 El Capitan / x86_64 | OK | OK | OK | OK |
| Package: GraphAT |
| Version: 1.52.0 |
| Command: rm -rf GraphAT.buildbin-libdir && mkdir GraphAT.buildbin-libdir && C:\Users\biocbuild\bbs-3.7-bioc\R\bin\R.exe CMD INSTALL --merge-multiarch --build --library=GraphAT.buildbin-libdir GraphAT_1.52.0.tar.gz |
| StartedAt: 2018-10-17 06:27:20 -0400 (Wed, 17 Oct 2018) |
| EndedAt: 2018-10-17 06:28:43 -0400 (Wed, 17 Oct 2018) |
| EllapsedTime: 83.2 seconds |
| RetCode: 0 |
| Status: OK |
| PackageFile: GraphAT_1.52.0.zip |
| PackageFileSize: 1.932 MiB |
##############################################################################
##############################################################################
###
### Running command:
###
### rm -rf GraphAT.buildbin-libdir && mkdir GraphAT.buildbin-libdir && C:\Users\biocbuild\bbs-3.7-bioc\R\bin\R.exe CMD INSTALL --merge-multiarch --build --library=GraphAT.buildbin-libdir GraphAT_1.52.0.tar.gz
###
##############################################################################
##############################################################################
install for i386
* installing *source* package 'GraphAT' ...
** R
** data
** byte-compile and prepare package for lazy loading
** help
*** installing help indices
converting help for package 'GraphAT'
finding HTML links ... done
Phenoclusters html
causton html
cellcycle html
clust2Mat html
depthmat html
getpvalue html
giaever html
mRNAclusters html
makeClustM html
mat2UndirG html
permPower html
perms html
** building package indices
** testing if installed package can be loaded
In R CMD INSTALL
install for x64
* installing *source* package 'GraphAT' ...
** testing if installed package can be loaded
* MD5 sums
packaged installation of 'GraphAT' as GraphAT_1.52.0.zip
* DONE (GraphAT)
In R CMD INSTALL
In R CMD INSTALL