| Back to Multiple platform build/check report for BioC 3.7 |
|
This page was generated on 2018-10-17 08:46:21 -0400 (Wed, 17 Oct 2018).
| Package 646/1561 | Hostname | OS / Arch | INSTALL | BUILD | CHECK | BUILD BIN | ||||||
| GraphAT 1.52.0 Thomas LaFramboise
| malbec2 | Linux (Ubuntu 16.04.1 LTS) / x86_64 | OK | OK | OK | |||||||
| tokay2 | Windows Server 2012 R2 Standard / x64 | OK | OK | OK | OK | |||||||
| merida2 | OS X 10.11.6 El Capitan / x86_64 | OK | OK | OK | [ OK ] |
| Package: GraphAT |
| Version: 1.52.0 |
| Command: rm -rf GraphAT.buildbin-libdir && mkdir GraphAT.buildbin-libdir && /Users/biocbuild/BBS/utils/build-universal.sh GraphAT_1.52.0.tar.gz /Library/Frameworks/R.framework/Versions/Current/Resources/bin/R GraphAT.buildbin-libdir |
| StartedAt: 2018-10-17 01:27:17 -0400 (Wed, 17 Oct 2018) |
| EndedAt: 2018-10-17 01:28:14 -0400 (Wed, 17 Oct 2018) |
| EllapsedTime: 56.9 seconds |
| RetCode: 0 |
| Status: OK |
| PackageFile: GraphAT_1.52.0.tgz |
| PackageFileSize: 1.916 MiB |
############################################################################## ############################################################################## ### ### Running command: ### ### rm -rf GraphAT.buildbin-libdir && mkdir GraphAT.buildbin-libdir && /Users/biocbuild/BBS/utils/build-universal.sh GraphAT_1.52.0.tar.gz /Library/Frameworks/R.framework/Versions/Current/Resources/bin/R GraphAT.buildbin-libdir ### ############################################################################## ############################################################################## >>>>>>> >>>>>>> INSTALLATION WITH 'R CMD INSTALL --preclean --no-multiarch --library=GraphAT.buildbin-libdir GraphAT_1.52.0.tar.gz' >>>>>>> * installing *source* package ‘GraphAT’ ... ** R ** data ** byte-compile and prepare package for lazy loading ** help *** installing help indices ** building package indices ** testing if installed package can be loaded * DONE (GraphAT)