| Back to Multiple platform build/check report for BioC 3.7 |
|
This page was generated on 2018-10-17 08:52:00 -0400 (Wed, 17 Oct 2018).
| Package 634/1561 | Hostname | OS / Arch | INSTALL | BUILD | CHECK | BUILD BIN | ||||||
| GOSim 1.18.0 Holger Froehlich
| malbec2 | Linux (Ubuntu 16.04.1 LTS) / x86_64 | OK | OK | OK | |||||||
| tokay2 | Windows Server 2012 R2 Standard / x64 | OK | OK | OK | OK | |||||||
| merida2 | OS X 10.11.6 El Capitan / x86_64 | [ OK ] | OK | OK | OK |
| Package: GOSim |
| Version: 1.18.0 |
| Command: /Library/Frameworks/R.framework/Versions/Current/Resources/bin/R CMD INSTALL GOSim |
| StartedAt: 2018-10-16 16:04:10 -0400 (Tue, 16 Oct 2018) |
| EndedAt: 2018-10-16 16:04:40 -0400 (Tue, 16 Oct 2018) |
| EllapsedTime: 29.6 seconds |
| RetCode: 0 |
| Status: OK |
##############################################################################
##############################################################################
###
### Running command:
###
### /Library/Frameworks/R.framework/Versions/Current/Resources/bin/R CMD INSTALL GOSim
###
##############################################################################
##############################################################################
* installing to library ‘/Library/Frameworks/R.framework/Versions/3.5/Resources/library’
* installing *source* package ‘GOSim’ ...
** libs
clang++ -I"/Library/Frameworks/R.framework/Resources/include" -DNDEBUG -I"/Library/Frameworks/R.framework/Versions/3.5/Resources/library/Rcpp/include" -I/usr/local/include `/Library/Frameworks/R.framework/Resources/bin/Rscript -e "require(Rcpp); Rcpp:::CxxFlags()"` -fPIC -Wall -g -O2 -c OAWrapper.cpp -o OAWrapper.o
Loading required package: Rcpp
In file included from OAWrapper.cpp:10:
In file included from /Library/Frameworks/R.framework/Versions/3.5/Resources/library/Rcpp/include/Rcpp.h:27:
In file included from /Library/Frameworks/R.framework/Versions/3.5/Resources/library/Rcpp/include/RcppCommon.h:128:
/Library/Frameworks/R.framework/Versions/3.5/Resources/library/Rcpp/include/Rcpp/exceptions.h:109:53: warning: all paths through this function will call itself [-Winfinite-recursion]
inline void warning(const std::string& message) { // #nocov start
^
1 warning generated.
clang -I"/Library/Frameworks/R.framework/Resources/include" -DNDEBUG -I"/Library/Frameworks/R.framework/Versions/3.5/Resources/library/Rcpp/include" -I/usr/local/include -fPIC -Wall -g -O2 -c hungarian2.c -o hungarian2.o
Loading required package: Rcpp
clang++ -dynamiclib -Wl,-headerpad_max_install_names -undefined dynamic_lookup -single_module -multiply_defined suppress -L/Library/Frameworks/R.framework/Resources/lib -L/usr/local/lib -o GOSim.so OAWrapper.o hungarian2.o -F/Library/Frameworks/R.framework/.. -framework R -Wl,-framework -Wl,CoreFoundation
Loading required package: Rcpp
installing to /Library/Frameworks/R.framework/Versions/3.5/Resources/library/GOSim/libs
** R
** data
** inst
** byte-compile and prepare package for lazy loading
** help
*** installing help indices
** building package indices
** installing vignettes
** testing if installed package can be loaded
* DONE (GOSim)