| Back to Multiple platform build/check report for BioC 3.7 |
|
This page was generated on 2018-10-17 08:38:04 -0400 (Wed, 17 Oct 2018).
| Package 290/1561 | Hostname | OS / Arch | INSTALL | BUILD | CHECK | BUILD BIN | ||||||
| COHCAP 1.26.0 Charles Warden
| malbec2 | Linux (Ubuntu 16.04.1 LTS) / x86_64 | OK | OK | OK | |||||||
| tokay2 | Windows Server 2012 R2 Standard / x64 | OK | OK | OK | [ OK ] | |||||||
| merida2 | OS X 10.11.6 El Capitan / x86_64 | OK | OK | OK | OK |
| Package: COHCAP |
| Version: 1.26.0 |
| Command: rm -rf COHCAP.buildbin-libdir && mkdir COHCAP.buildbin-libdir && C:\Users\biocbuild\bbs-3.7-bioc\R\bin\R.exe CMD INSTALL --merge-multiarch --build --library=COHCAP.buildbin-libdir COHCAP_1.26.0.tar.gz |
| StartedAt: 2018-10-17 06:11:31 -0400 (Wed, 17 Oct 2018) |
| EndedAt: 2018-10-17 06:12:56 -0400 (Wed, 17 Oct 2018) |
| EllapsedTime: 85.4 seconds |
| RetCode: 0 |
| Status: OK |
| PackageFile: COHCAP_1.26.0.zip |
| PackageFileSize: 913 KiB |
##############################################################################
##############################################################################
###
### Running command:
###
### rm -rf COHCAP.buildbin-libdir && mkdir COHCAP.buildbin-libdir && C:\Users\biocbuild\bbs-3.7-bioc\R\bin\R.exe CMD INSTALL --merge-multiarch --build --library=COHCAP.buildbin-libdir COHCAP_1.26.0.tar.gz
###
##############################################################################
##############################################################################
install for i386
* installing *source* package 'COHCAP' ...
** libs
C:/Rtools/mingw_32/bin/g++ -I"C:/Users/BIOCBU˜1/BBS-3˜1.7-B/R/include" -DNDEBUG -I"C:/Users/biocbuild/bbs-3.7-bioc/R/library/Rcpp/include" -I"C:/Users/biocbuild/bbs-3.7-bioc/R/library/BH/include" -I"C:/extsoft/include" -O2 -Wall -mtune=generic -c RcppExports.cpp -o RcppExports.o
C:/Rtools/mingw_32/bin/g++ -I"C:/Users/BIOCBU˜1/BBS-3˜1.7-B/R/include" -DNDEBUG -I"C:/Users/biocbuild/bbs-3.7-bioc/R/library/Rcpp/include" -I"C:/Users/biocbuild/bbs-3.7-bioc/R/library/BH/include" -I"C:/extsoft/include" -O2 -Wall -mtune=generic -c Rcpp_BH_ANOVA.cpp -o Rcpp_BH_ANOVA.o
C:/Rtools/mingw_32/bin/g++ -I"C:/Users/BIOCBU˜1/BBS-3˜1.7-B/R/include" -DNDEBUG -I"C:/Users/biocbuild/bbs-3.7-bioc/R/library/Rcpp/include" -I"C:/Users/biocbuild/bbs-3.7-bioc/R/library/BH/include" -I"C:/extsoft/include" -O2 -Wall -mtune=generic -c Rcpp_BH_ttest.cpp -o Rcpp_BH_ttest.o
C:/Rtools/mingw_32/bin/g++ -shared -s -static-libgcc -o COHCAP.dll tmp.def RcppExports.o Rcpp_BH_ANOVA.o Rcpp_BH_ttest.o -LC:/extsoft/lib/i386 -LC:/extsoft/lib -LC:/Users/BIOCBU˜1/BBS-3˜1.7-B/R/bin/i386 -lR
installing to C:/Users/biocbuild/bbs-3.7-bioc/meat/COHCAP.buildbin-libdir/COHCAP/libs/i386
** R
** inst
** byte-compile and prepare package for lazy loading
** help
*** installing help indices
converting help for package 'COHCAP'
finding HTML links ... done
COHCAP.BSSeq.preprocess html
COHCAP.annotate html
COHCAP.avg.by.island html
COHCAP.avg.by.site html
COHCAP.denovo html
COHCAP.integrate.avg.by.island html
COHCAP.integrate.avg.by.site html
COHCAP.qc html
COHCAP.reformatFinalReport html
COHCAP.site html
** building package indices
** installing vignettes
** testing if installed package can be loaded
In R CMD INSTALL
install for x64
* installing *source* package 'COHCAP' ...
** libs
C:/Rtools/mingw_64/bin/g++ -I"C:/Users/BIOCBU˜1/BBS-3˜1.7-B/R/include" -DNDEBUG -I"C:/Users/biocbuild/bbs-3.7-bioc/R/library/Rcpp/include" -I"C:/Users/biocbuild/bbs-3.7-bioc/R/library/BH/include" -I"C:/extsoft/include" -O2 -Wall -mtune=generic -c RcppExports.cpp -o RcppExports.o
C:/Rtools/mingw_64/bin/g++ -I"C:/Users/BIOCBU˜1/BBS-3˜1.7-B/R/include" -DNDEBUG -I"C:/Users/biocbuild/bbs-3.7-bioc/R/library/Rcpp/include" -I"C:/Users/biocbuild/bbs-3.7-bioc/R/library/BH/include" -I"C:/extsoft/include" -O2 -Wall -mtune=generic -c Rcpp_BH_ANOVA.cpp -o Rcpp_BH_ANOVA.o
C:/Rtools/mingw_64/bin/g++ -I"C:/Users/BIOCBU˜1/BBS-3˜1.7-B/R/include" -DNDEBUG -I"C:/Users/biocbuild/bbs-3.7-bioc/R/library/Rcpp/include" -I"C:/Users/biocbuild/bbs-3.7-bioc/R/library/BH/include" -I"C:/extsoft/include" -O2 -Wall -mtune=generic -c Rcpp_BH_ttest.cpp -o Rcpp_BH_ttest.o
C:/Rtools/mingw_64/bin/g++ -shared -s -static-libgcc -o COHCAP.dll tmp.def RcppExports.o Rcpp_BH_ANOVA.o Rcpp_BH_ttest.o -LC:/extsoft/lib/x64 -LC:/extsoft/lib -LC:/Users/BIOCBU˜1/BBS-3˜1.7-B/R/bin/x64 -lR
installing to C:/Users/biocbuild/bbs-3.7-bioc/meat/COHCAP.buildbin-libdir/COHCAP/libs/x64
** testing if installed package can be loaded
* MD5 sums
packaged installation of 'COHCAP' as COHCAP_1.26.0.zip
* DONE (COHCAP)
In R CMD INSTALL
In R CMD INSTALL