| Back to Multiple platform build/check report for BioC 3.7 |
|
This page was generated on 2018-10-17 08:52:20 -0400 (Wed, 17 Oct 2018).
| Package 290/1561 | Hostname | OS / Arch | INSTALL | BUILD | CHECK | BUILD BIN | ||||||
| COHCAP 1.26.0 Charles Warden
| malbec2 | Linux (Ubuntu 16.04.1 LTS) / x86_64 | OK | OK | OK | |||||||
| tokay2 | Windows Server 2012 R2 Standard / x64 | OK | OK | OK | OK | |||||||
| merida2 | OS X 10.11.6 El Capitan / x86_64 | OK | [ OK ] | OK | OK |
| Package: COHCAP |
| Version: 1.26.0 |
| Command: /Library/Frameworks/R.framework/Versions/Current/Resources/bin/R CMD build --keep-empty-dirs --no-resave-data COHCAP |
| StartedAt: 2018-10-16 17:22:32 -0400 (Tue, 16 Oct 2018) |
| EndedAt: 2018-10-16 17:23:15 -0400 (Tue, 16 Oct 2018) |
| EllapsedTime: 42.9 seconds |
| RetCode: 0 |
| Status: OK |
| PackageFile: COHCAP_1.26.0.tar.gz |
| PackageFileSize: 180.2 KiB |
############################################################################## ############################################################################## ### ### Running command: ### ### /Library/Frameworks/R.framework/Versions/Current/Resources/bin/R CMD build --keep-empty-dirs --no-resave-data COHCAP ### ############################################################################## ############################################################################## * checking for file ‘COHCAP/DESCRIPTION’ ... OK * preparing ‘COHCAP’: * checking DESCRIPTION meta-information ... OK * cleaning src * installing the package to build vignettes * creating vignettes ... OK * cleaning src * checking for LF line-endings in source and make files and shell scripts * checking for empty or unneeded directories * building ‘COHCAP_1.26.0.tar.gz’