| Back to Multiple platform build/check report for BioC 3.7 | 
  | 
This page was generated on 2018-10-17 08:55:36 -0400 (Wed, 17 Oct 2018).
| Package 276/1561 | Hostname | OS / Arch | INSTALL | BUILD | CHECK | BUILD BIN | ||||||
| CNPBayes 1.10.0 Jacob Carey 
  | malbec2 | Linux (Ubuntu 16.04.1 LTS) / x86_64 | OK | OK | WARNINGS | |||||||
| tokay2 | Windows Server 2012 R2 Standard / x64 | OK | OK | WARNINGS | OK | |||||||
| merida2 | OS X 10.11.6 El Capitan / x86_64 | OK | OK | WARNINGS | [ OK ] | 
| Package: CNPBayes | 
| Version: 1.10.0 | 
| Command: rm -rf CNPBayes.buildbin-libdir && mkdir CNPBayes.buildbin-libdir && /Users/biocbuild/BBS/utils/build-universal.sh CNPBayes_1.10.0.tar.gz /Library/Frameworks/R.framework/Versions/Current/Resources/bin/R CNPBayes.buildbin-libdir | 
| StartedAt: 2018-10-17 01:07:23 -0400 (Wed, 17 Oct 2018) | 
| EndedAt: 2018-10-17 01:09:54 -0400 (Wed, 17 Oct 2018) | 
| EllapsedTime: 151.1 seconds | 
| RetCode: 0 | 
| Status: OK | 
| PackageFile: CNPBayes_1.10.0.tgz | 
| PackageFileSize: 5.312 MiB | 
##############################################################################
##############################################################################
###
### Running command:
###
###   rm -rf CNPBayes.buildbin-libdir && mkdir CNPBayes.buildbin-libdir && /Users/biocbuild/BBS/utils/build-universal.sh CNPBayes_1.10.0.tar.gz /Library/Frameworks/R.framework/Versions/Current/Resources/bin/R CNPBayes.buildbin-libdir
###
##############################################################################
##############################################################################
>>>>>>> 
>>>>>>> INSTALLATION WITH 'R CMD INSTALL --preclean --no-multiarch --library=CNPBayes.buildbin-libdir CNPBayes_1.10.0.tar.gz'
>>>>>>> 
* installing *source* package ‘CNPBayes’ ...
** libs
clang++  -I"/Library/Frameworks/R.framework/Resources/include" -DNDEBUG  -I"/Library/Frameworks/R.framework/Versions/3.5/Resources/library/Rcpp/include" -I/usr/local/include   -fPIC  -Wall -g -O2  -c RcppExports.cpp -o RcppExports.o
clang++  -I"/Library/Frameworks/R.framework/Resources/include" -DNDEBUG  -I"/Library/Frameworks/R.framework/Versions/3.5/Resources/library/Rcpp/include" -I/usr/local/include   -fPIC  -Wall -g -O2  -c miscfunctions.cpp -o miscfunctions.o
clang++  -I"/Library/Frameworks/R.framework/Resources/include" -DNDEBUG  -I"/Library/Frameworks/R.framework/Versions/3.5/Resources/library/Rcpp/include" -I/usr/local/include   -fPIC  -Wall -g -O2  -c multibatch.cpp -o multibatch.o
clang++  -I"/Library/Frameworks/R.framework/Resources/include" -DNDEBUG  -I"/Library/Frameworks/R.framework/Versions/3.5/Resources/library/Rcpp/include" -I/usr/local/include   -fPIC  -Wall -g -O2  -c multibatch_pooledvar.cpp -o multibatch_pooledvar.o
clang++  -I"/Library/Frameworks/R.framework/Resources/include" -DNDEBUG  -I"/Library/Frameworks/R.framework/Versions/3.5/Resources/library/Rcpp/include" -I/usr/local/include   -fPIC  -Wall -g -O2  -c multibatch_pooledvar_reduced.cpp -o multibatch_pooledvar_reduced.o
clang++  -I"/Library/Frameworks/R.framework/Resources/include" -DNDEBUG  -I"/Library/Frameworks/R.framework/Versions/3.5/Resources/library/Rcpp/include" -I/usr/local/include   -fPIC  -Wall -g -O2  -c multibatch_reduced.cpp -o multibatch_reduced.o
clang++  -I"/Library/Frameworks/R.framework/Resources/include" -DNDEBUG  -I"/Library/Frameworks/R.framework/Versions/3.5/Resources/library/Rcpp/include" -I/usr/local/include   -fPIC  -Wall -g -O2  -c singlebatch.cpp -o singlebatch.o
clang++  -I"/Library/Frameworks/R.framework/Resources/include" -DNDEBUG  -I"/Library/Frameworks/R.framework/Versions/3.5/Resources/library/Rcpp/include" -I/usr/local/include   -fPIC  -Wall -g -O2  -c singlebatch_pooledvar.cpp -o singlebatch_pooledvar.o
clang++  -I"/Library/Frameworks/R.framework/Resources/include" -DNDEBUG  -I"/Library/Frameworks/R.framework/Versions/3.5/Resources/library/Rcpp/include" -I/usr/local/include   -fPIC  -Wall -g -O2  -c singlebatch_pooledvar_reduced.cpp -o singlebatch_pooledvar_reduced.o
singlebatch_pooledvar_reduced.cpp:46:10: warning: unused variable 'prod' [-Wunused-variable]
  double prod ;
         ^
singlebatch_pooledvar_reduced.cpp:86:7: warning: unused variable 'K' [-Wunused-variable]
  int K = thetastar.size() ;
      ^
singlebatch_pooledvar_reduced.cpp:330:7: warning: unused variable 'K' [-Wunused-variable]
  int K = thetastar.size() ;
      ^
singlebatch_pooledvar_reduced.cpp:617:7: warning: unused variable 'N' [-Wunused-variable]
  int N = x.size() ;
      ^
singlebatch_pooledvar_reduced.cpp:682:7: warning: unused variable 'K' [-Wunused-variable]
  int K = thetastar.size() ;
      ^
5 warnings generated.
clang++  -I"/Library/Frameworks/R.framework/Resources/include" -DNDEBUG  -I"/Library/Frameworks/R.framework/Versions/3.5/Resources/library/Rcpp/include" -I/usr/local/include   -fPIC  -Wall -g -O2  -c singlebatch_reduced.cpp -o singlebatch_reduced.o
clang++  -I"/Library/Frameworks/R.framework/Resources/include" -DNDEBUG  -I"/Library/Frameworks/R.framework/Versions/3.5/Resources/library/Rcpp/include" -I/usr/local/include   -fPIC  -Wall -g -O2  -c update.cpp -o update.o
clang++ -dynamiclib -Wl,-headerpad_max_install_names -undefined dynamic_lookup -single_module -multiply_defined suppress -L/Library/Frameworks/R.framework/Resources/lib -L/usr/local/lib -o CNPBayes.so RcppExports.o miscfunctions.o multibatch.o multibatch_pooledvar.o multibatch_pooledvar_reduced.o multibatch_reduced.o singlebatch.o singlebatch_pooledvar.o singlebatch_pooledvar_reduced.o singlebatch_reduced.o update.o -L/Library/Frameworks/R.framework/Resources/lib -lRlapack -L/Library/Frameworks/R.framework/Resources/lib -lRblas -L/usr/local/gfortran/lib/gcc/x86_64-apple-darwin15/6.1.0 -L/usr/local/gfortran/lib -lgfortran -lquadmath -lm -F/Library/Frameworks/R.framework/.. -framework R -Wl,-framework -Wl,CoreFoundation
installing to /Users/biocbuild/bbs-3.7-bioc/meat/CNPBayes.buildbin-libdir/CNPBayes/libs
** R
** data
*** moving datasets to lazyload DB
** inst
** byte-compile and prepare package for lazy loading
Creating a new generic function for ‘alpha’ in package ‘CNPBayes’
Creating a generic function from function ‘sigma’ in package ‘CNPBayes’
** help
*** installing help indices
** building package indices
** installing vignettes
** testing if installed package can be loaded
* DONE (CNPBayes)
>>>>>>> 
>>>>>>> FIXING LINKS FOR CNPBayes.buildbin-libdir/CNPBayes/libs//CNPBayes.so
>>>>>>> 
install_name_tool -change "/usr/local/lib/libgcc_s.1.dylib" "/Library/Frameworks/R.framework/Versions/3.5/Resources/lib/libgcc_s.1.dylib" "CNPBayes.buildbin-libdir/CNPBayes/libs//CNPBayes.so"
install_name_tool -change "/usr/local/lib/libgfortran.3.dylib" "/Library/Frameworks/R.framework/Versions/3.5/Resources/lib/libgfortran.3.dylib" "CNPBayes.buildbin-libdir/CNPBayes/libs//CNPBayes.so"
install_name_tool -change "/usr/local/lib/libreadline.5.2.dylib" "/Library/Frameworks/R.framework/Versions/3.5/Resources/lib/libreadline.5.2.dylib" "CNPBayes.buildbin-libdir/CNPBayes/libs//CNPBayes.so"
install_name_tool -change "/usr/local/lib/libreadline.dylib" "/Library/Frameworks/R.framework/Versions/3.5/Resources/lib/libreadline.dylib" "CNPBayes.buildbin-libdir/CNPBayes/libs//CNPBayes.so"
install_name_tool -change "/usr/local/lib/libquadmath.0.dylib" "/Library/Frameworks/R.framework/Versions/3.5/Resources/lib/libquadmath.0.dylib" "CNPBayes.buildbin-libdir/CNPBayes/libs//CNPBayes.so"
install_name_tool -change "/usr/local/gfortran/lib/libgfortran.3.dylib" "/Library/Frameworks/R.framework/Versions/3.5/Resources/lib/libgfortran.3.dylib" "CNPBayes.buildbin-libdir/CNPBayes/libs//CNPBayes.so"
install_name_tool -change "/usr/local/gfortran/lib/libquadmath.0.dylib" "/Library/Frameworks/R.framework/Versions/3.5/Resources/lib/libquadmath.0.dylib" "CNPBayes.buildbin-libdir/CNPBayes/libs//CNPBayes.so"