| Back to Multiple platform build/check report for BioC 3.7 |
|
This page was generated on 2018-10-17 08:28:13 -0400 (Wed, 17 Oct 2018).
| Package 276/1561 | Hostname | OS / Arch | INSTALL | BUILD | CHECK | BUILD BIN | ||||||
| CNPBayes 1.10.0 Jacob Carey
| malbec2 | Linux (Ubuntu 16.04.1 LTS) / x86_64 | [ OK ] | OK | WARNINGS | |||||||
| tokay2 | Windows Server 2012 R2 Standard / x64 | OK | OK | WARNINGS | OK | |||||||
| merida2 | OS X 10.11.6 El Capitan / x86_64 | OK | OK | WARNINGS | OK |
| Package: CNPBayes |
| Version: 1.10.0 |
| Command: /home/biocbuild/bbs-3.7-bioc/R/bin/R CMD INSTALL CNPBayes |
| StartedAt: 2018-10-15 18:17:07 -0400 (Mon, 15 Oct 2018) |
| EndedAt: 2018-10-15 18:18:56 -0400 (Mon, 15 Oct 2018) |
| EllapsedTime: 108.7 seconds |
| RetCode: 0 |
| Status: OK |
##############################################################################
##############################################################################
###
### Running command:
###
### /home/biocbuild/bbs-3.7-bioc/R/bin/R CMD INSTALL CNPBayes
###
##############################################################################
##############################################################################
* installing to library ‘/home/biocbuild/bbs-3.7-bioc/R/library’
* installing *source* package ‘CNPBayes’ ...
** libs
g++ -I"/home/biocbuild/bbs-3.7-bioc/R/include" -DNDEBUG -I"/home/biocbuild/bbs-3.7-bioc/R/library/Rcpp/include" -I/usr/local/include -fpic -g -O2 -Wall -c RcppExports.cpp -o RcppExports.o
g++ -I"/home/biocbuild/bbs-3.7-bioc/R/include" -DNDEBUG -I"/home/biocbuild/bbs-3.7-bioc/R/library/Rcpp/include" -I/usr/local/include -fpic -g -O2 -Wall -c miscfunctions.cpp -o miscfunctions.o
g++ -I"/home/biocbuild/bbs-3.7-bioc/R/include" -DNDEBUG -I"/home/biocbuild/bbs-3.7-bioc/R/library/Rcpp/include" -I/usr/local/include -fpic -g -O2 -Wall -c multibatch.cpp -o multibatch.o
g++ -I"/home/biocbuild/bbs-3.7-bioc/R/include" -DNDEBUG -I"/home/biocbuild/bbs-3.7-bioc/R/library/Rcpp/include" -I/usr/local/include -fpic -g -O2 -Wall -c multibatch_pooledvar.cpp -o multibatch_pooledvar.o
g++ -I"/home/biocbuild/bbs-3.7-bioc/R/include" -DNDEBUG -I"/home/biocbuild/bbs-3.7-bioc/R/library/Rcpp/include" -I/usr/local/include -fpic -g -O2 -Wall -c multibatch_pooledvar_reduced.cpp -o multibatch_pooledvar_reduced.o
g++ -I"/home/biocbuild/bbs-3.7-bioc/R/include" -DNDEBUG -I"/home/biocbuild/bbs-3.7-bioc/R/library/Rcpp/include" -I/usr/local/include -fpic -g -O2 -Wall -c multibatch_reduced.cpp -o multibatch_reduced.o
g++ -I"/home/biocbuild/bbs-3.7-bioc/R/include" -DNDEBUG -I"/home/biocbuild/bbs-3.7-bioc/R/library/Rcpp/include" -I/usr/local/include -fpic -g -O2 -Wall -c singlebatch.cpp -o singlebatch.o
g++ -I"/home/biocbuild/bbs-3.7-bioc/R/include" -DNDEBUG -I"/home/biocbuild/bbs-3.7-bioc/R/library/Rcpp/include" -I/usr/local/include -fpic -g -O2 -Wall -c singlebatch_pooledvar.cpp -o singlebatch_pooledvar.o
g++ -I"/home/biocbuild/bbs-3.7-bioc/R/include" -DNDEBUG -I"/home/biocbuild/bbs-3.7-bioc/R/library/Rcpp/include" -I/usr/local/include -fpic -g -O2 -Wall -c singlebatch_pooledvar_reduced.cpp -o singlebatch_pooledvar_reduced.o
singlebatch_pooledvar_reduced.cpp: In function ‘Rcpp::NumericVector full_theta_pooled(Rcpp::S4)’:
singlebatch_pooledvar_reduced.cpp:46:10: warning: unused variable ‘prod’ [-Wunused-variable]
double prod ;
^
singlebatch_pooledvar_reduced.cpp: In function ‘Rcpp::S4 reduced_sigma_pooled(Rcpp::S4)’:
singlebatch_pooledvar_reduced.cpp:86:7: warning: unused variable ‘K’ [-Wunused-variable]
int K = thetastar.size() ;
^
singlebatch_pooledvar_reduced.cpp: In function ‘Rcpp::S4 reduced_mu_pooled(Rcpp::S4)’:
singlebatch_pooledvar_reduced.cpp:330:7: warning: unused variable ‘K’ [-Wunused-variable]
int K = thetastar.size() ;
^
singlebatch_pooledvar_reduced.cpp: In function ‘Rcpp::NumericVector p_nu0_reduced_pooled(Rcpp::S4)’:
singlebatch_pooledvar_reduced.cpp:617:7: warning: unused variable ‘N’ [-Wunused-variable]
int N = x.size() ;
^
singlebatch_pooledvar_reduced.cpp: In function ‘Rcpp::S4 reduced_s20_pooled(Rcpp::S4)’:
singlebatch_pooledvar_reduced.cpp:682:7: warning: unused variable ‘K’ [-Wunused-variable]
int K = thetastar.size() ;
^
g++ -I"/home/biocbuild/bbs-3.7-bioc/R/include" -DNDEBUG -I"/home/biocbuild/bbs-3.7-bioc/R/library/Rcpp/include" -I/usr/local/include -fpic -g -O2 -Wall -c singlebatch_reduced.cpp -o singlebatch_reduced.o
g++ -I"/home/biocbuild/bbs-3.7-bioc/R/include" -DNDEBUG -I"/home/biocbuild/bbs-3.7-bioc/R/library/Rcpp/include" -I/usr/local/include -fpic -g -O2 -Wall -c update.cpp -o update.o
g++ -shared -L/home/biocbuild/bbs-3.7-bioc/R/lib -L/usr/local/lib -o CNPBayes.so RcppExports.o miscfunctions.o multibatch.o multibatch_pooledvar.o multibatch_pooledvar_reduced.o multibatch_reduced.o singlebatch.o singlebatch_pooledvar.o singlebatch_pooledvar_reduced.o singlebatch_reduced.o update.o -L/home/biocbuild/bbs-3.7-bioc/R/lib -lRlapack -L/home/biocbuild/bbs-3.7-bioc/R/lib -lRblas -lgfortran -lm -lquadmath -L/home/biocbuild/bbs-3.7-bioc/R/lib -lR
installing to /home/biocbuild/bbs-3.7-bioc/R/library/CNPBayes/libs
** R
** data
*** moving datasets to lazyload DB
** inst
** byte-compile and prepare package for lazy loading
Creating a new generic function for ‘alpha’ in package ‘CNPBayes’
Creating a generic function from function ‘sigma’ in package ‘CNPBayes’
** help
*** installing help indices
** building package indices
** installing vignettes
** testing if installed package can be loaded
* DONE (CNPBayes)