| Back to Multiple platform build/check report for BioC 3.7 |
|
This page was generated on 2018-10-17 08:40:00 -0400 (Wed, 17 Oct 2018).
| Package 171/1561 | Hostname | OS / Arch | INSTALL | BUILD | CHECK | BUILD BIN | ||||||
| BubbleTree 2.10.0 Todd Creasy
| malbec2 | Linux (Ubuntu 16.04.1 LTS) / x86_64 | OK | OK | OK | |||||||
| tokay2 | Windows Server 2012 R2 Standard / x64 | OK | OK | OK | [ OK ] | |||||||
| merida2 | OS X 10.11.6 El Capitan / x86_64 | OK | OK | OK | OK |
| Package: BubbleTree |
| Version: 2.10.0 |
| Command: rm -rf BubbleTree.buildbin-libdir && mkdir BubbleTree.buildbin-libdir && C:\Users\biocbuild\bbs-3.7-bioc\R\bin\R.exe CMD INSTALL --merge-multiarch --build --library=BubbleTree.buildbin-libdir BubbleTree_2.10.0.tar.gz |
| StartedAt: 2018-10-17 06:06:36 -0400 (Wed, 17 Oct 2018) |
| EndedAt: 2018-10-17 06:07:23 -0400 (Wed, 17 Oct 2018) |
| EllapsedTime: 46.2 seconds |
| RetCode: 0 |
| Status: OK |
| PackageFile: BubbleTree_2.10.0.zip |
| PackageFileSize: 25.86 MiB |
##############################################################################
##############################################################################
###
### Running command:
###
### rm -rf BubbleTree.buildbin-libdir && mkdir BubbleTree.buildbin-libdir && C:\Users\biocbuild\bbs-3.7-bioc\R\bin\R.exe CMD INSTALL --merge-multiarch --build --library=BubbleTree.buildbin-libdir BubbleTree_2.10.0.tar.gz
###
##############################################################################
##############################################################################
install for i386
* installing *source* package 'BubbleTree' ...
It is recommended to use 'given' instead of 'middle'.
** R
** data
** inst
** byte-compile and prepare package for lazy loading
** help
*** installing help indices
converting help for package 'BubbleTree'
finding HTML links ... done
Annotate html
BTreePlotter html
BTreePredictor html
RBD html
RscoreTrack html
TrackPlotter html
all.somatic.lst html
allCNV.lst html
allCall.lst html
allHetero.lst html
allRBD.lst html
annoByGenesAndCyto html
bafTrack html
btcompare html
btpredict html
cancer.genes.minus2 html
centromere.dat html
cnv.gr html
cyto.gr html
drawBTree html
drawBubbles html
drawFeatures html
gene.uni.clean.gr html
getTracks html
heteroLociTrack html
hg19.seqinfo html
info html
loadRBD html
makeRBD html
mergeSnpCnv html
saveXLS html
snp.gr html
trackBTree html
vol.genes html
xyTrack html
** building package indices
** installing vignettes
** testing if installed package can be loaded
In R CMD INSTALL
install for x64
* installing *source* package 'BubbleTree' ...
** testing if installed package can be loaded
* MD5 sums
packaged installation of 'BubbleTree' as BubbleTree_2.10.0.zip
* DONE (BubbleTree)
In R CMD INSTALL
In R CMD INSTALL