| Back to Multiple platform build/check report for BioC 3.7 |
|
This page was generated on 2018-10-17 08:54:17 -0400 (Wed, 17 Oct 2018).
| Package 171/1561 | Hostname | OS / Arch | INSTALL | BUILD | CHECK | BUILD BIN | ||||||
| BubbleTree 2.10.0 Todd Creasy
| malbec2 | Linux (Ubuntu 16.04.1 LTS) / x86_64 | OK | OK | OK | |||||||
| tokay2 | Windows Server 2012 R2 Standard / x64 | OK | OK | OK | OK | |||||||
| merida2 | OS X 10.11.6 El Capitan / x86_64 | OK | OK | OK | [ OK ] |
| Package: BubbleTree |
| Version: 2.10.0 |
| Command: rm -rf BubbleTree.buildbin-libdir && mkdir BubbleTree.buildbin-libdir && /Users/biocbuild/BBS/utils/build-universal.sh BubbleTree_2.10.0.tar.gz /Library/Frameworks/R.framework/Versions/Current/Resources/bin/R BubbleTree.buildbin-libdir |
| StartedAt: 2018-10-17 01:01:12 -0400 (Wed, 17 Oct 2018) |
| EndedAt: 2018-10-17 01:01:57 -0400 (Wed, 17 Oct 2018) |
| EllapsedTime: 45.4 seconds |
| RetCode: 0 |
| Status: OK |
| PackageFile: BubbleTree_2.10.0.tgz |
| PackageFileSize: 28.06 MiB |
############################################################################## ############################################################################## ### ### Running command: ### ### rm -rf BubbleTree.buildbin-libdir && mkdir BubbleTree.buildbin-libdir && /Users/biocbuild/BBS/utils/build-universal.sh BubbleTree_2.10.0.tar.gz /Library/Frameworks/R.framework/Versions/Current/Resources/bin/R BubbleTree.buildbin-libdir ### ############################################################################## ############################################################################## >>>>>>> >>>>>>> INSTALLATION WITH 'R CMD INSTALL --preclean --no-multiarch --library=BubbleTree.buildbin-libdir BubbleTree_2.10.0.tar.gz' >>>>>>> * installing *source* package ‘BubbleTree’ ... It is recommended to use ‘given’ instead of ‘middle’. ** R ** data ** inst ** byte-compile and prepare package for lazy loading ** help *** installing help indices ** building package indices ** installing vignettes ** testing if installed package can be loaded * DONE (BubbleTree)