| Back to Multiple platform build/check report for BioC 3.7 |
|
This page was generated on 2018-10-17 08:45:45 -0400 (Wed, 17 Oct 2018).
| Package 145/1561 | Hostname | OS / Arch | INSTALL | BUILD | CHECK | BUILD BIN | ||||||
| BioNetStat 1.0.4 Vinicius Jardim
| malbec2 | Linux (Ubuntu 16.04.1 LTS) / x86_64 | OK | OK | OK | |||||||
| tokay2 | Windows Server 2012 R2 Standard / x64 | OK | OK | OK | [ OK ] | |||||||
| merida2 | OS X 10.11.6 El Capitan / x86_64 | OK | OK | OK | OK |
| Package: BioNetStat |
| Version: 1.0.4 |
| Command: rm -rf BioNetStat.buildbin-libdir && mkdir BioNetStat.buildbin-libdir && C:\Users\biocbuild\bbs-3.7-bioc\R\bin\R.exe CMD INSTALL --merge-multiarch --build --library=BioNetStat.buildbin-libdir BioNetStat_1.0.4.tar.gz |
| StartedAt: 2018-10-17 06:05:28 -0400 (Wed, 17 Oct 2018) |
| EndedAt: 2018-10-17 06:06:13 -0400 (Wed, 17 Oct 2018) |
| EllapsedTime: 44.9 seconds |
| RetCode: 0 |
| Status: OK |
| PackageFile: BioNetStat_1.0.4.zip |
| PackageFileSize: 2.823 MiB |
##############################################################################
##############################################################################
###
### Running command:
###
### rm -rf BioNetStat.buildbin-libdir && mkdir BioNetStat.buildbin-libdir && C:\Users\biocbuild\bbs-3.7-bioc\R\bin\R.exe CMD INSTALL --merge-multiarch --build --library=BioNetStat.buildbin-libdir BioNetStat_1.0.4.tar.gz
###
##############################################################################
##############################################################################
install for i386
* installing *source* package 'BioNetStat' ...
** R
** data
** inst
** byte-compile and prepare package for lazy loading
** help
*** installing help indices
converting help for package 'BioNetStat'
finding HTML links ... done
KLdegree html
KLspectrum html
adjacencyMatrix html
bnsDataTest html
centralityPathPlot html
diffNetAnalysis html
doLabels html
labels html
nDegreeDensities html
nSpectralDensities html
networkFeature html
networkTest html
nodeScores html
nodeTest html
pathPlot html
readGmtFile html
readVarFile html
runBioNetStat html
varFile html
** building package indices
** installing vignettes
** testing if installed package can be loaded
In R CMD INSTALL
install for x64
* installing *source* package 'BioNetStat' ...
** testing if installed package can be loaded
* MD5 sums
packaged installation of 'BioNetStat' as BioNetStat_1.0.4.zip
* DONE (BioNetStat)
In R CMD INSTALL
In R CMD INSTALL