| Back to Multiple platform build/check report for BioC 3.7 |
|
This page was generated on 2018-10-17 08:31:37 -0400 (Wed, 17 Oct 2018).
| Package 145/1561 | Hostname | OS / Arch | INSTALL | BUILD | CHECK | BUILD BIN | ||||||
| BioNetStat 1.0.4 Vinicius Jardim
| malbec2 | Linux (Ubuntu 16.04.1 LTS) / x86_64 | OK | OK | [ OK ] | |||||||
| tokay2 | Windows Server 2012 R2 Standard / x64 | OK | OK | OK | OK | |||||||
| merida2 | OS X 10.11.6 El Capitan / x86_64 | OK | OK | OK | OK |
| Package: BioNetStat |
| Version: 1.0.4 |
| Command: /home/biocbuild/bbs-3.7-bioc/R/bin/R CMD check --install=check:BioNetStat.install-out.txt --library=/home/biocbuild/bbs-3.7-bioc/R/library --no-vignettes --timings BioNetStat_1.0.4.tar.gz |
| StartedAt: 2018-10-15 22:49:04 -0400 (Mon, 15 Oct 2018) |
| EndedAt: 2018-10-15 22:51:32 -0400 (Mon, 15 Oct 2018) |
| EllapsedTime: 148.3 seconds |
| RetCode: 0 |
| Status: OK |
| CheckDir: BioNetStat.Rcheck |
| Warnings: 0 |
##############################################################################
##############################################################################
###
### Running command:
###
### /home/biocbuild/bbs-3.7-bioc/R/bin/R CMD check --install=check:BioNetStat.install-out.txt --library=/home/biocbuild/bbs-3.7-bioc/R/library --no-vignettes --timings BioNetStat_1.0.4.tar.gz
###
##############################################################################
##############################################################################
* using log directory ‘/home/biocbuild/bbs-3.7-bioc/meat/BioNetStat.Rcheck’
* using R version 3.5.1 Patched (2018-07-12 r74967)
* using platform: x86_64-pc-linux-gnu (64-bit)
* using session charset: UTF-8
* using option ‘--no-vignettes’
* checking for file ‘BioNetStat/DESCRIPTION’ ... OK
* checking extension type ... Package
* this is package ‘BioNetStat’ version ‘1.0.4’
* package encoding: UTF-8
* checking package namespace information ... OK
* checking package dependencies ... OK
* checking if this is a source package ... OK
* checking if there is a namespace ... OK
* checking for hidden files and directories ... OK
* checking for portable file names ... OK
* checking for sufficient/correct file permissions ... OK
* checking whether package ‘BioNetStat’ can be installed ... OK
* checking installed package size ... NOTE
installed size is 5.1Mb
sub-directories of 1Mb or more:
extdata 1.9Mb
shiny 1.6Mb
* checking package directory ... OK
* checking ‘build’ directory ... OK
* checking DESCRIPTION meta-information ... OK
* checking top-level files ... OK
* checking for left-over files ... OK
* checking index information ... OK
* checking package subdirectories ... OK
* checking R files for non-ASCII characters ... OK
* checking R files for syntax errors ... OK
* checking whether the package can be loaded ... OK
* checking whether the package can be loaded with stated dependencies ... OK
* checking whether the package can be unloaded cleanly ... OK
* checking whether the namespace can be loaded with stated dependencies ... OK
* checking whether the namespace can be unloaded cleanly ... OK
* checking dependencies in R code ... OK
* checking S3 generic/method consistency ... OK
* checking replacement functions ... OK
* checking foreign function calls ... OK
* checking R code for possible problems ... OK
* checking Rd files ... OK
* checking Rd metadata ... OK
* checking Rd cross-references ... OK
* checking for missing documentation entries ... OK
* checking for code/documentation mismatches ... OK
* checking Rd \usage sections ... OK
* checking Rd contents ... OK
* checking for unstated dependencies in examples ... OK
* checking contents of ‘data’ directory ... OK
* checking data for non-ASCII characters ... OK
* checking data for ASCII and uncompressed saves ... OK
* checking installed files from ‘inst/doc’ ... OK
* checking files in ‘vignettes’ ... OK
* checking examples ... OK
Examples with CPU or elapsed time > 5s
user system elapsed
centralityPathPlot 7.476 1.448 11.778
pathPlot 5.668 0.916 6.606
* checking for unstated dependencies in vignettes ... OK
* checking package vignettes in ‘inst/doc’ ... OK
* checking running R code from vignettes ... SKIPPED
* checking re-building of vignette outputs ... SKIPPED
* checking PDF version of manual ... OK
* DONE
Status: 1 NOTE
See
‘/home/biocbuild/bbs-3.7-bioc/meat/BioNetStat.Rcheck/00check.log’
for details.
BioNetStat.Rcheck/00install.out
############################################################################## ############################################################################## ### ### Running command: ### ### /home/biocbuild/bbs-3.7-bioc/R/bin/R CMD INSTALL BioNetStat ### ############################################################################## ############################################################################## * installing to library ‘/home/biocbuild/bbs-3.7-bioc/R/library’ * installing *source* package ‘BioNetStat’ ... ** R ** data ** inst ** byte-compile and prepare package for lazy loading ** help *** installing help indices ** building package indices ** installing vignettes ‘BNS_tutorial_by_command_line.Rmd’ using ‘UTF-8’ ‘vignette.Rmd’ using ‘UTF-8’ ** testing if installed package can be loaded * DONE (BioNetStat)
BioNetStat.Rcheck/BioNetStat-Ex.timings
| name | user | system | elapsed | |
| KLdegree | 0.016 | 0.000 | 0.013 | |
| KLspectrum | 0.024 | 0.000 | 0.022 | |
| adjacencyMatrix | 0.004 | 0.000 | 0.003 | |
| centralityPathPlot | 7.476 | 1.448 | 11.778 | |
| diffNetAnalysis | 1.336 | 0.156 | 1.603 | |
| doLabels | 0.264 | 0.132 | 0.138 | |
| labels | 0.000 | 0.000 | 0.001 | |
| nDegreeDensities | 0.028 | 0.000 | 0.031 | |
| nSpectralDensities | 0.024 | 0.000 | 0.025 | |
| networkFeature | 0.068 | 0.008 | 0.075 | |
| networkTest | 0.340 | 0.288 | 0.674 | |
| nodeScores | 0.048 | 0.000 | 0.048 | |
| nodeTest | 0.136 | 0.160 | 0.326 | |
| pathPlot | 5.668 | 0.916 | 6.606 | |
| readGmtFile | 0.100 | 0.000 | 0.104 | |
| readVarFile | 0.128 | 0.000 | 0.127 | |
| runBioNetStat | 0 | 0 | 0 | |
| varFile | 0.012 | 0.000 | 0.009 | |