| Back to Multiple platform build/check report for BioC 3.7 |
|
This page was generated on 2018-10-17 08:36:13 -0400 (Wed, 17 Oct 2018).
| Package 705/1561 | Hostname | OS / Arch | INSTALL | BUILD | CHECK | BUILD BIN | ||||||
| iBBiG 1.24.0 Aedin Culhane
| malbec2 | Linux (Ubuntu 16.04.1 LTS) / x86_64 | OK | OK | OK | |||||||
| tokay2 | Windows Server 2012 R2 Standard / x64 | [ OK ] | OK | WARNINGS | OK | |||||||
| merida2 | OS X 10.11.6 El Capitan / x86_64 | OK | OK | OK | OK |
| Package: iBBiG |
| Version: 1.24.0 |
| Command: C:\cygwin\bin\curl.exe -O https://malbec2.bioconductor.org/BBS/3.7/bioc/src/contrib/iBBiG_1.24.0.tar.gz && rm -rf iBBiG.buildbin-libdir && mkdir iBBiG.buildbin-libdir && C:\Users\biocbuild\bbs-3.7-bioc\R\bin\R.exe CMD INSTALL --merge-multiarch --build --library=iBBiG.buildbin-libdir iBBiG_1.24.0.tar.gz && C:\Users\biocbuild\bbs-3.7-bioc\R\bin\R.exe CMD INSTALL iBBiG_1.24.0.zip && rm iBBiG_1.24.0.tar.gz iBBiG_1.24.0.zip |
| StartedAt: 2018-10-16 18:58:53 -0400 (Tue, 16 Oct 2018) |
| EndedAt: 2018-10-16 18:59:37 -0400 (Tue, 16 Oct 2018) |
| EllapsedTime: 43.7 seconds |
| RetCode: 0 |
| Status: OK |
##############################################################################
##############################################################################
###
### Running command:
###
### C:\cygwin\bin\curl.exe -O https://malbec2.bioconductor.org/BBS/3.7/bioc/src/contrib/iBBiG_1.24.0.tar.gz && rm -rf iBBiG.buildbin-libdir && mkdir iBBiG.buildbin-libdir && C:\Users\biocbuild\bbs-3.7-bioc\R\bin\R.exe CMD INSTALL --merge-multiarch --build --library=iBBiG.buildbin-libdir iBBiG_1.24.0.tar.gz && C:\Users\biocbuild\bbs-3.7-bioc\R\bin\R.exe CMD INSTALL iBBiG_1.24.0.zip && rm iBBiG_1.24.0.tar.gz iBBiG_1.24.0.zip
###
##############################################################################
##############################################################################
% Total % Received % Xferd Average Speed Time Time Time Current
Dload Upload Total Spent Left Speed
0 0 0 0 0 0 0 0 --:--:-- --:--:-- --:--:-- 0
100 18835 100 18835 0 0 358k 0 --:--:-- --:--:-- --:--:-- 418k
install for i386
* installing *source* package 'iBBiG' ...
** libs
C:/Rtools/mingw_32/bin/gcc -I"C:/Users/BIOCBU˜1/BBS-3˜1.7-B/R/include" -DNDEBUG -I"C:/extsoft/include" -O3 -Wall -std=gnu99 -mtune=generic -c R_init_iBBiG.c -o R_init_iBBiG.o
C:/Rtools/mingw_32/bin/gcc -I"C:/Users/BIOCBU˜1/BBS-3˜1.7-B/R/include" -DNDEBUG -I"C:/extsoft/include" -O3 -Wall -std=gnu99 -mtune=generic -c iBBiG.c -o iBBiG.o
iBBiG.c: In function 'clusterCovsC':
iBBiG.c:300:6: warning: implicit declaration of function 'time' [-Wimplicit-function-declaration]
srand((unsigned)time(NULL));
^
C:/Rtools/mingw_32/bin/gcc -shared -s -static-libgcc -o iBBiG.dll tmp.def R_init_iBBiG.o iBBiG.o -LC:/extsoft/lib/i386 -LC:/extsoft/lib -LC:/Users/BIOCBU˜1/BBS-3˜1.7-B/R/bin/i386 -lR
installing to C:/Users/biocbuild/bbs-3.7-bioc/meat/iBBiG.buildbin-libdir/iBBiG/libs/i386
** R
** byte-compile and prepare package for lazy loading
** help
*** installing help indices
converting help for package 'iBBiG'
finding HTML links ... done
iBBiG-class html
finding level-2 HTML links ... done
iBBiG-package html
Rd warning: C:/Users/biocbuild/bbs-3.7-bioc/tmpdir/Rtmp8GY7i9/R.INSTALL84c5d023708/iBBiG/man/iBBiG-package.Rd:44: file link 'biclust' in package 'biclust' does not exist and so has been treated as a topic
iBBiG html
makeArtificial html
** building package indices
** installing vignettes
** testing if installed package can be loaded
In R CMD INSTALL
install for x64
* installing *source* package 'iBBiG' ...
** libs
C:/Rtools/mingw_64/bin/gcc -I"C:/Users/BIOCBU˜1/BBS-3˜1.7-B/R/include" -DNDEBUG -I"C:/extsoft/include" -O2 -Wall -std=gnu99 -mtune=generic -c R_init_iBBiG.c -o R_init_iBBiG.o
C:/Rtools/mingw_64/bin/gcc -I"C:/Users/BIOCBU˜1/BBS-3˜1.7-B/R/include" -DNDEBUG -I"C:/extsoft/include" -O2 -Wall -std=gnu99 -mtune=generic -c iBBiG.c -o iBBiG.o
iBBiG.c: In function 'clusterCovsC':
iBBiG.c:300:6: warning: implicit declaration of function 'time' [-Wimplicit-function-declaration]
srand((unsigned)time(NULL));
^
C:/Rtools/mingw_64/bin/gcc -shared -s -static-libgcc -o iBBiG.dll tmp.def R_init_iBBiG.o iBBiG.o -LC:/extsoft/lib/x64 -LC:/extsoft/lib -LC:/Users/BIOCBU˜1/BBS-3˜1.7-B/R/bin/x64 -lR
installing to C:/Users/biocbuild/bbs-3.7-bioc/meat/iBBiG.buildbin-libdir/iBBiG/libs/x64
** testing if installed package can be loaded
* MD5 sums
packaged installation of 'iBBiG' as iBBiG_1.24.0.zip
* DONE (iBBiG)
In R CMD INSTALL
In R CMD INSTALL
* installing to library 'C:/Users/biocbuild/bbs-3.7-bioc/R/library'
package 'iBBiG' successfully unpacked and MD5 sums checked
In R CMD INSTALL