| Back to Multiple platform build/check report for BioC 3.7 |
|
This page was generated on 2018-10-17 08:24:16 -0400 (Wed, 17 Oct 2018).
| Package 705/1561 | Hostname | OS / Arch | INSTALL | BUILD | CHECK | BUILD BIN | ||||||
| iBBiG 1.24.0 Aedin Culhane
| malbec2 | Linux (Ubuntu 16.04.1 LTS) / x86_64 | [ OK ] | OK | OK | |||||||
| tokay2 | Windows Server 2012 R2 Standard / x64 | OK | OK | WARNINGS | OK | |||||||
| merida2 | OS X 10.11.6 El Capitan / x86_64 | OK | OK | OK | OK |
| Package: iBBiG |
| Version: 1.24.0 |
| Command: /home/biocbuild/bbs-3.7-bioc/R/bin/R CMD INSTALL iBBiG |
| StartedAt: 2018-10-15 18:02:40 -0400 (Mon, 15 Oct 2018) |
| EndedAt: 2018-10-15 18:02:46 -0400 (Mon, 15 Oct 2018) |
| EllapsedTime: 5.9 seconds |
| RetCode: 0 |
| Status: OK |
##############################################################################
##############################################################################
###
### Running command:
###
### /home/biocbuild/bbs-3.7-bioc/R/bin/R CMD INSTALL iBBiG
###
##############################################################################
##############################################################################
* installing to library ‘/home/biocbuild/bbs-3.7-bioc/R/library’
* installing *source* package ‘iBBiG’ ...
** libs
gcc -I"/home/biocbuild/bbs-3.7-bioc/R/include" -DNDEBUG -I/usr/local/include -fpic -g -O2 -Wall -c R_init_iBBiG.c -o R_init_iBBiG.o
gcc -I"/home/biocbuild/bbs-3.7-bioc/R/include" -DNDEBUG -I/usr/local/include -fpic -g -O2 -Wall -c iBBiG.c -o iBBiG.o
iBBiG.c: In function ‘clusterCovsC’:
iBBiG.c:300:22: warning: implicit declaration of function ‘time’ [-Wimplicit-function-declaration]
srand((unsigned)time(NULL));
^
gcc -shared -L/home/biocbuild/bbs-3.7-bioc/R/lib -L/usr/local/lib -o iBBiG.so R_init_iBBiG.o iBBiG.o -L/home/biocbuild/bbs-3.7-bioc/R/lib -lR
installing to /home/biocbuild/bbs-3.7-bioc/R/library/iBBiG/libs
** R
** byte-compile and prepare package for lazy loading
** help
*** installing help indices
** building package indices
** installing vignettes
** testing if installed package can be loaded
* DONE (iBBiG)