| Back to Multiple platform build/check report for BioC 3.7 |
|
This page was generated on 2018-10-17 08:34:49 -0400 (Wed, 17 Oct 2018).
| Package 474/1561 | Hostname | OS / Arch | INSTALL | BUILD | CHECK | BUILD BIN | ||||||
| fabia 2.26.0 Sepp Hochreiter
| malbec2 | Linux (Ubuntu 16.04.1 LTS) / x86_64 | OK | OK | OK | |||||||
| tokay2 | Windows Server 2012 R2 Standard / x64 | OK | [ OK ] | OK | OK | |||||||
| merida2 | OS X 10.11.6 El Capitan / x86_64 | OK | OK | OK | OK |
| Package: fabia |
| Version: 2.26.0 |
| Command: chmod a+r fabia -R && C:\Users\biocbuild\bbs-3.7-bioc\R\bin\R.exe CMD build --keep-empty-dirs --no-resave-data fabia |
| StartedAt: 2018-10-16 21:20:22 -0400 (Tue, 16 Oct 2018) |
| EndedAt: 2018-10-16 21:20:54 -0400 (Tue, 16 Oct 2018) |
| EllapsedTime: 32.2 seconds |
| RetCode: 0 |
| Status: OK |
| PackageFile: fabia_2.26.0.tar.gz |
| PackageFileSize: 795.9 KiB |
############################################################################## ############################################################################## ### ### Running command: ### ### chmod a+r fabia -R && C:\Users\biocbuild\bbs-3.7-bioc\R\bin\R.exe CMD build --keep-empty-dirs --no-resave-data fabia ### ############################################################################## ############################################################################## * checking for file 'fabia/DESCRIPTION' ... OK * preparing 'fabia': * checking DESCRIPTION meta-information ... OK * cleaning src * installing the package to build vignettes * creating vignettes ... OK * cleaning src * checking for LF line-endings in source and make files and shell scripts * checking for empty or unneeded directories * building 'fabia_2.26.0.tar.gz' Warning: file 'fabia/cleanup' did not have execute permissions: corrected Warning: file 'fabia/configure' did not have execute permissions: corrected