| Back to Multiple platform build/check report for BioC 3.7 |
|
This page was generated on 2018-10-17 08:45:03 -0400 (Wed, 17 Oct 2018).
| Package 819/1561 | Hostname | OS / Arch | INSTALL | BUILD | CHECK | BUILD BIN | ||||||
| MAGeCKFlute 1.0.1 Wubing Zhang
| malbec2 | Linux (Ubuntu 16.04.1 LTS) / x86_64 | OK | OK | OK | |||||||
| tokay2 | Windows Server 2012 R2 Standard / x64 | [ OK ] | OK | OK | OK | |||||||
| merida2 | OS X 10.11.6 El Capitan / x86_64 | OK | OK | OK | OK |
| Package: MAGeCKFlute |
| Version: 1.0.1 |
| Command: C:\cygwin\bin\curl.exe -O https://malbec2.bioconductor.org/BBS/3.7/bioc/src/contrib/MAGeCKFlute_1.0.1.tar.gz && rm -rf MAGeCKFlute.buildbin-libdir && mkdir MAGeCKFlute.buildbin-libdir && C:\Users\biocbuild\bbs-3.7-bioc\R\bin\R.exe CMD INSTALL --merge-multiarch --build --library=MAGeCKFlute.buildbin-libdir MAGeCKFlute_1.0.1.tar.gz && C:\Users\biocbuild\bbs-3.7-bioc\R\bin\R.exe CMD INSTALL MAGeCKFlute_1.0.1.zip && rm MAGeCKFlute_1.0.1.tar.gz MAGeCKFlute_1.0.1.zip |
| StartedAt: 2018-10-16 20:17:14 -0400 (Tue, 16 Oct 2018) |
| EndedAt: 2018-10-16 20:18:48 -0400 (Tue, 16 Oct 2018) |
| EllapsedTime: 94.1 seconds |
| RetCode: 0 |
| Status: OK |
##############################################################################
##############################################################################
###
### Running command:
###
### C:\cygwin\bin\curl.exe -O https://malbec2.bioconductor.org/BBS/3.7/bioc/src/contrib/MAGeCKFlute_1.0.1.tar.gz && rm -rf MAGeCKFlute.buildbin-libdir && mkdir MAGeCKFlute.buildbin-libdir && C:\Users\biocbuild\bbs-3.7-bioc\R\bin\R.exe CMD INSTALL --merge-multiarch --build --library=MAGeCKFlute.buildbin-libdir MAGeCKFlute_1.0.1.tar.gz && C:\Users\biocbuild\bbs-3.7-bioc\R\bin\R.exe CMD INSTALL MAGeCKFlute_1.0.1.zip && rm MAGeCKFlute_1.0.1.tar.gz MAGeCKFlute_1.0.1.zip
###
##############################################################################
##############################################################################
% Total % Received % Xferd Average Speed Time Time Time Current
Dload Upload Total Spent Left Speed
0 0 0 0 0 0 0 0 --:--:-- --:--:-- --:--:-- 0
100 4624k 100 4624k 0 0 39.1M 0 --:--:-- --:--:-- --:--:-- 41.8M
install for i386
* installing *source* package 'MAGeCKFlute' ...
** R
** data
*** moving datasets to lazyload DB
** inst
** byte-compile and prepare package for lazy loading
** help
*** installing help indices
converting help for package 'MAGeCKFlute'
finding HTML links ... done
BatchRemove html
CellCycleView html
CorrView html
CutoffCalling html
DensityDiffView html
DensityView html
EnrichAB html
EnrichSquare html
EnrichedGSEView html
EnrichedView html
FluteMLE html
FluteRRA html
HeatmapView html
IdentBarView html
KeggPathwayView html
finding level-2 HTML links ... done
MAView html
MLE_Data html
MapRatesView html
NormalizeBeta html
RRA_Data html
RankView html
ReadBeta html
ReadRRA html
ScatterView html
Selector html
SquareView html
TransGeneID html
ViolinView html
Zuber_Essential html
arrangePathview html
enrich.DAVID html
enrich.GOstats html
enrich.GSE html
enrich.HGT html
enrich.ORT html
enrichment_analysis html
getOrg html
normalize.loess html
** building package indices
** installing vignettes
** testing if installed package can be loaded
In R CMD INSTALL
install for x64
* installing *source* package 'MAGeCKFlute' ...
** testing if installed package can be loaded
* MD5 sums
packaged installation of 'MAGeCKFlute' as MAGeCKFlute_1.0.1.zip
* DONE (MAGeCKFlute)
In R CMD INSTALL
In R CMD INSTALL
* installing to library 'C:/Users/biocbuild/bbs-3.7-bioc/R/library'
package 'MAGeCKFlute' successfully unpacked and MD5 sums checked
In R CMD INSTALL