| Back to Multiple platform build/check report for BioC 3.7 |
|
This page was generated on 2018-10-17 08:31:04 -0400 (Wed, 17 Oct 2018).
| Package 819/1561 | Hostname | OS / Arch | INSTALL | BUILD | CHECK | BUILD BIN | ||||||
| MAGeCKFlute 1.0.1 Wubing Zhang
| malbec2 | Linux (Ubuntu 16.04.1 LTS) / x86_64 | OK | OK | [ OK ] | |||||||
| tokay2 | Windows Server 2012 R2 Standard / x64 | OK | OK | OK | OK | |||||||
| merida2 | OS X 10.11.6 El Capitan / x86_64 | OK | OK | OK | OK |
| Package: MAGeCKFlute |
| Version: 1.0.1 |
| Command: /home/biocbuild/bbs-3.7-bioc/R/bin/R CMD check --install=check:MAGeCKFlute.install-out.txt --library=/home/biocbuild/bbs-3.7-bioc/R/library --no-vignettes --timings MAGeCKFlute_1.0.1.tar.gz |
| StartedAt: 2018-10-16 01:37:06 -0400 (Tue, 16 Oct 2018) |
| EndedAt: 2018-10-16 01:43:01 -0400 (Tue, 16 Oct 2018) |
| EllapsedTime: 355.2 seconds |
| RetCode: 0 |
| Status: OK |
| CheckDir: MAGeCKFlute.Rcheck |
| Warnings: 0 |
##############################################################################
##############################################################################
###
### Running command:
###
### /home/biocbuild/bbs-3.7-bioc/R/bin/R CMD check --install=check:MAGeCKFlute.install-out.txt --library=/home/biocbuild/bbs-3.7-bioc/R/library --no-vignettes --timings MAGeCKFlute_1.0.1.tar.gz
###
##############################################################################
##############################################################################
* using log directory ‘/home/biocbuild/bbs-3.7-bioc/meat/MAGeCKFlute.Rcheck’
* using R version 3.5.1 Patched (2018-07-12 r74967)
* using platform: x86_64-pc-linux-gnu (64-bit)
* using session charset: UTF-8
* using option ‘--no-vignettes’
* checking for file ‘MAGeCKFlute/DESCRIPTION’ ... OK
* checking extension type ... Package
* this is package ‘MAGeCKFlute’ version ‘1.0.1’
* checking package namespace information ... OK
* checking package dependencies ... OK
* checking if this is a source package ... OK
* checking if there is a namespace ... OK
* checking for hidden files and directories ... OK
* checking for portable file names ... OK
* checking for sufficient/correct file permissions ... OK
* checking whether package ‘MAGeCKFlute’ can be installed ... OK
* checking installed package size ... NOTE
installed size is 7.0Mb
sub-directories of 1Mb or more:
doc 1.4Mb
extdata 4.7Mb
* checking package directory ... OK
* checking ‘build’ directory ... OK
* checking DESCRIPTION meta-information ... OK
* checking top-level files ... OK
* checking for left-over files ... OK
* checking index information ... OK
* checking package subdirectories ... OK
* checking R files for non-ASCII characters ... OK
* checking R files for syntax errors ... OK
* checking whether the package can be loaded ... OK
* checking whether the package can be loaded with stated dependencies ... OK
* checking whether the package can be unloaded cleanly ... OK
* checking whether the namespace can be loaded with stated dependencies ... OK
* checking whether the namespace can be unloaded cleanly ... OK
* checking dependencies in R code ... OK
* checking S3 generic/method consistency ... OK
* checking replacement functions ... OK
* checking foreign function calls ... OK
* checking R code for possible problems ... NOTE
BatchRemove: no visible binding for global variable ‘PC1’
BatchRemove: no visible binding for global variable ‘PC2’
BatchRemove: no visible binding for global variable ‘shape’
CellCycleView: no visible binding for global variable ‘x’
CellCycleView: no visible binding for global variable ‘y’
DensityDiffView: no visible binding for global variable ‘Diff’
DensityDiffView: no visible binding for global variable ‘..density..’
DensityDiffView: no visible binding for global variable ‘r’
DensityView: no visible binding for global variable ‘value’
DensityView: no visible binding for global variable ‘variable’
EnrichedGSEView: no visible binding for global variable ‘NES’
EnrichedGSEView: no visible binding for global variable ‘Name’
EnrichedGSEView: no visible binding for global variable ‘logP’
EnrichedView: no visible binding for global variable ‘logP’
EnrichedView: no visible binding for global variable ‘Name’
EnrichedView: no visible binding for global variable ‘Count’
FluteMLE: no visible binding for global variable ‘Zuber_Essential’
KeggPathwayView: no visible binding for global variable ‘bods’
KeggPathwayView: no visible global function definition for ‘keggConv’
KeggPathwayView: no visible binding for global variable ‘rn.list’
KeggPathwayView: no visible global function definition for
‘parseKGML2Graph2’
MapRatesView: no visible binding for global variable ‘count’
MapRatesView: no visible binding for global variable ‘category’
MapRatesView: no visible binding for global variable ‘pos’
MapRatesView: no visible binding for global variable ‘percent’
NormalizeBeta: no visible binding for global variable ‘Zuber_Essential’
RankView: no visible binding for global variable ‘Rank’
RankView: no visible binding for global variable ‘group’
RankView: no visible binding for global variable ‘Gene’
ScatterView: no visible binding for global variable ‘Control’
ScatterView: no visible binding for global variable ‘Treatment’
ScatterView: no visible binding for global variable ‘group’
Selector: no visible binding for global variable ‘GeneNum’
Selector: no visible binding for global variable ‘x’
Selector: no visible binding for global variable ‘y’
SquareView: no visible binding for global variable ‘Control’
SquareView: no visible binding for global variable ‘Treatment’
SquareView: no visible binding for global variable ‘group’
SquareView: no visible binding for global variable ‘Gene’
TransGeneID: no visible binding for global variable ‘bods’
ViolinView: no visible binding for global variable ‘variable’
ViolinView: no visible binding for global variable ‘value’
enrich.DAVID: no visible global function definition for ‘qvalue’
getOrg: no visible binding for global variable ‘bods’
Undefined global functions or variables:
..density.. Control Count Diff Gene GeneNum NES Name PC1 PC2 Rank
Treatment Zuber_Essential bods category count group keggConv logP
parseKGML2Graph2 percent pos qvalue r rn.list shape value variable x
y
* checking Rd files ... OK
* checking Rd metadata ... OK
* checking Rd cross-references ... OK
* checking for missing documentation entries ... OK
* checking for code/documentation mismatches ... OK
* checking Rd \usage sections ... OK
* checking Rd contents ... OK
* checking for unstated dependencies in examples ... OK
* checking contents of ‘data’ directory ... OK
* checking data for non-ASCII characters ... OK
* checking data for ASCII and uncompressed saves ... OK
* checking installed files from ‘inst/doc’ ... OK
* checking files in ‘vignettes’ ... OK
* checking examples ... OK
Examples with CPU or elapsed time > 5s
user system elapsed
enrich.ORT 13.548 0.028 43.148
EnrichedView 9.568 0.080 24.681
enrich.HGT 7.684 0.012 30.036
enrichment_analysis 7.452 0.020 14.575
TransGeneID 6.384 0.020 23.688
getOrg 6.252 0.004 6.263
MAView 5.156 0.024 5.185
NormalizeBeta 1.428 0.008 17.738
ReadRRA 0.432 0.004 19.107
* checking for unstated dependencies in vignettes ... OK
* checking package vignettes in ‘inst/doc’ ... OK
* checking running R code from vignettes ... SKIPPED
* checking re-building of vignette outputs ... SKIPPED
* checking PDF version of manual ... OK
* DONE
Status: 2 NOTEs
See
‘/home/biocbuild/bbs-3.7-bioc/meat/MAGeCKFlute.Rcheck/00check.log’
for details.
MAGeCKFlute.Rcheck/00install.out
############################################################################## ############################################################################## ### ### Running command: ### ### /home/biocbuild/bbs-3.7-bioc/R/bin/R CMD INSTALL MAGeCKFlute ### ############################################################################## ############################################################################## * installing to library ‘/home/biocbuild/bbs-3.7-bioc/R/library’ * installing *source* package ‘MAGeCKFlute’ ... ** R ** data *** moving datasets to lazyload DB ** inst ** byte-compile and prepare package for lazy loading ** help *** installing help indices ** building package indices ** installing vignettes ** testing if installed package can be loaded * DONE (MAGeCKFlute)
MAGeCKFlute.Rcheck/MAGeCKFlute-Ex.timings
| name | user | system | elapsed | |
| BatchRemove | 2.056 | 0.084 | 2.153 | |
| CellCycleView | 1.180 | 0.068 | 1.247 | |
| CorrView | 0.516 | 0.000 | 0.517 | |
| DensityDiffView | 0.332 | 0.000 | 0.330 | |
| DensityView | 0.688 | 0.000 | 0.688 | |
| EnrichedGSEView | 0.000 | 0.000 | 0.001 | |
| EnrichedView | 9.568 | 0.080 | 24.681 | |
| FluteMLE | 0.004 | 0.000 | 0.002 | |
| FluteRRA | 0.000 | 0.008 | 0.007 | |
| HeatmapView | 0.072 | 0.000 | 0.071 | |
| IdentBarView | 0.140 | 0.000 | 0.141 | |
| KeggPathwayView | 0.016 | 0.000 | 0.035 | |
| MAView | 5.156 | 0.024 | 5.185 | |
| MLE_Data | 0.012 | 0.000 | 0.012 | |
| MapRatesView | 0.408 | 0.000 | 0.407 | |
| NormalizeBeta | 1.428 | 0.008 | 17.738 | |
| RRA_Data | 0.008 | 0.000 | 0.009 | |
| RankView | 1.148 | 0.000 | 1.150 | |
| ReadBeta | 0.020 | 0.000 | 0.022 | |
| ReadRRA | 0.432 | 0.004 | 19.107 | |
| ScatterView | 0.508 | 0.012 | 0.522 | |
| Selector | 0.232 | 0.004 | 0.233 | |
| SquareView | 1.060 | 0.004 | 1.065 | |
| TransGeneID | 6.384 | 0.020 | 23.688 | |
| ViolinView | 1.048 | 0.000 | 1.051 | |
| arrangePathview | 0 | 0 | 0 | |
| enrich.DAVID | 0.012 | 0.000 | 0.011 | |
| enrich.GOstats | 0.012 | 0.000 | 0.010 | |
| enrich.GSE | 0.008 | 0.000 | 0.010 | |
| enrich.HGT | 7.684 | 0.012 | 30.036 | |
| enrich.ORT | 13.548 | 0.028 | 43.148 | |
| enrichment_analysis | 7.452 | 0.020 | 14.575 | |
| getOrg | 6.252 | 0.004 | 6.263 | |
| normalize.loess | 1.144 | 0.000 | 1.144 | |