| Back to Multiple platform build/check report for BioC 3.7 |
|
This page was generated on 2018-10-10 10:22:34 -0400 (Wed, 10 Oct 2018).
| Package 728/1561 | Hostname | OS / Arch | INSTALL | BUILD | CHECK | BUILD BIN | ||||||
| ImmuneSpaceR 1.8.2 ImmuneSpace Package Maintainer
| malbec2 | Linux (Ubuntu 16.04.1 LTS) / x86_64 | OK | OK | OK | |||||||
| tokay2 | Windows Server 2012 R2 Standard / x64 | OK | OK | OK | [ OK ] | |||||||
| merida2 | OS X 10.11.6 El Capitan / x86_64 | OK | OK | OK | OK |
| Package: ImmuneSpaceR |
| Version: 1.8.2 |
| Command: rm -rf ImmuneSpaceR.buildbin-libdir && mkdir ImmuneSpaceR.buildbin-libdir && C:\Users\biocbuild\bbs-3.7-bioc\R\bin\R.exe CMD INSTALL --merge-multiarch --build --library=ImmuneSpaceR.buildbin-libdir ImmuneSpaceR_1.8.2.tar.gz |
| StartedAt: 2018-10-10 06:42:11 -0400 (Wed, 10 Oct 2018) |
| EndedAt: 2018-10-10 06:44:34 -0400 (Wed, 10 Oct 2018) |
| EllapsedTime: 142.5 seconds |
| RetCode: 0 |
| Status: OK |
| PackageFile: ImmuneSpaceR_1.8.2.zip |
| PackageFileSize: 2.396 MiB |
##############################################################################
##############################################################################
###
### Running command:
###
### rm -rf ImmuneSpaceR.buildbin-libdir && mkdir ImmuneSpaceR.buildbin-libdir && C:\Users\biocbuild\bbs-3.7-bioc\R\bin\R.exe CMD INSTALL --merge-multiarch --build --library=ImmuneSpaceR.buildbin-libdir ImmuneSpaceR_1.8.2.tar.gz
###
##############################################################################
##############################################################################
install for i386
* installing *source* package 'ImmuneSpaceR' ...
** R
** inst
** byte-compile and prepare package for lazy loading
** help
*** installing help indices
converting help for package 'ImmuneSpaceR'
finding HTML links ... done
CreateConnection html
ISpalette html
ImmuneSpaceConnection html
ImmuneSpaceR-package html
check_netrc html
loadConnection html
template_IS html
theme_IS html
write_netrc html
*** copying figures
** building package indices
** installing vignettes
** testing if installed package can be loaded
In R CMD INSTALL
install for x64
* installing *source* package 'ImmuneSpaceR' ...
** testing if installed package can be loaded
* MD5 sums
packaged installation of 'ImmuneSpaceR' as ImmuneSpaceR_1.8.2.zip
* DONE (ImmuneSpaceR)
In R CMD INSTALL
In R CMD INSTALL