| Back to Multiple platform build/check report for BioC 3.7 |
|
This page was generated on 2018-10-10 10:37:08 -0400 (Wed, 10 Oct 2018).
| Package 728/1561 | Hostname | OS / Arch | INSTALL | BUILD | CHECK | BUILD BIN | ||||||
| ImmuneSpaceR 1.8.2 ImmuneSpace Package Maintainer
| malbec2 | Linux (Ubuntu 16.04.1 LTS) / x86_64 | OK | OK | OK | |||||||
| tokay2 | Windows Server 2012 R2 Standard / x64 | OK | OK | OK | OK | |||||||
| merida2 | OS X 10.11.6 El Capitan / x86_64 | OK | OK | OK | [ OK ] |
| Package: ImmuneSpaceR |
| Version: 1.8.2 |
| Command: rm -rf ImmuneSpaceR.buildbin-libdir && mkdir ImmuneSpaceR.buildbin-libdir && /Users/biocbuild/BBS/utils/build-universal.sh ImmuneSpaceR_1.8.2.tar.gz /Library/Frameworks/R.framework/Versions/Current/Resources/bin/R ImmuneSpaceR.buildbin-libdir |
| StartedAt: 2018-10-10 06:01:27 -0400 (Wed, 10 Oct 2018) |
| EndedAt: 2018-10-10 06:02:22 -0400 (Wed, 10 Oct 2018) |
| EllapsedTime: 55.0 seconds |
| RetCode: 0 |
| Status: OK |
| PackageFile: ImmuneSpaceR_1.8.2.tgz |
| PackageFileSize: 3.68 MiB |
############################################################################## ############################################################################## ### ### Running command: ### ### rm -rf ImmuneSpaceR.buildbin-libdir && mkdir ImmuneSpaceR.buildbin-libdir && /Users/biocbuild/BBS/utils/build-universal.sh ImmuneSpaceR_1.8.2.tar.gz /Library/Frameworks/R.framework/Versions/Current/Resources/bin/R ImmuneSpaceR.buildbin-libdir ### ############################################################################## ############################################################################## >>>>>>> >>>>>>> INSTALLATION WITH 'R CMD INSTALL --preclean --no-multiarch --library=ImmuneSpaceR.buildbin-libdir ImmuneSpaceR_1.8.2.tar.gz' >>>>>>> * installing *source* package ‘ImmuneSpaceR’ ... ** R ** inst ** byte-compile and prepare package for lazy loading ** help *** installing help indices *** copying figures ** building package indices ** installing vignettes ** testing if installed package can be loaded * DONE (ImmuneSpaceR)