| Back to Multiple platform build/check report for BioC 3.6 |
|
This page was generated on 2018-04-12 13:26:01 -0400 (Thu, 12 Apr 2018).
| Package 1155/1472 | Hostname | OS / Arch | INSTALL | BUILD | CHECK | BUILD BIN | ||||||
| regioneR 1.10.0 Bernat Gel
| malbec1 | Linux (Ubuntu 16.04.1 LTS) / x86_64 | OK | OK | OK | |||||||
| tokay1 | Windows Server 2012 R2 Standard / x64 | OK | OK | [ OK ] | OK | |||||||
| veracruz1 | OS X 10.11.6 El Capitan / x86_64 | OK | OK | OK | OK |
| Package: regioneR |
| Version: 1.10.0 |
| Command: rm -rf regioneR.buildbin-libdir regioneR.Rcheck && mkdir regioneR.buildbin-libdir regioneR.Rcheck && C:\Users\biocbuild\bbs-3.6-bioc\R\bin\R.exe CMD INSTALL --build --merge-multiarch --library=regioneR.buildbin-libdir regioneR_1.10.0.tar.gz >regioneR.Rcheck\00install.out 2>&1 && cp regioneR.Rcheck\00install.out regioneR-install.out && C:\Users\biocbuild\bbs-3.6-bioc\R\bin\R.exe CMD check --library=regioneR.buildbin-libdir --install="check:regioneR-install.out" --force-multiarch --no-vignettes --timings regioneR_1.10.0.tar.gz |
| StartedAt: 2018-04-12 02:34:45 -0400 (Thu, 12 Apr 2018) |
| EndedAt: 2018-04-12 02:53:31 -0400 (Thu, 12 Apr 2018) |
| EllapsedTime: 1126.3 seconds |
| RetCode: 0 |
| Status: OK |
| CheckDir: regioneR.Rcheck |
| Warnings: 0 |
##############################################################################
##############################################################################
###
### Running command:
###
### rm -rf regioneR.buildbin-libdir regioneR.Rcheck && mkdir regioneR.buildbin-libdir regioneR.Rcheck && C:\Users\biocbuild\bbs-3.6-bioc\R\bin\R.exe CMD INSTALL --build --merge-multiarch --library=regioneR.buildbin-libdir regioneR_1.10.0.tar.gz >regioneR.Rcheck\00install.out 2>&1 && cp regioneR.Rcheck\00install.out regioneR-install.out && C:\Users\biocbuild\bbs-3.6-bioc\R\bin\R.exe CMD check --library=regioneR.buildbin-libdir --install="check:regioneR-install.out" --force-multiarch --no-vignettes --timings regioneR_1.10.0.tar.gz
###
##############################################################################
##############################################################################
* using log directory 'C:/Users/biocbuild/bbs-3.6-bioc/meat/regioneR.Rcheck'
* using R version 3.4.4 (2018-03-15)
* using platform: x86_64-w64-mingw32 (64-bit)
* using session charset: ISO8859-1
* using option '--no-vignettes'
* checking for file 'regioneR/DESCRIPTION' ... OK
* checking extension type ... Package
* this is package 'regioneR' version '1.10.0'
* checking package namespace information ... OK
* checking package dependencies ... OK
* checking if this is a source package ... OK
* checking if there is a namespace ... OK
* checking for hidden files and directories ... OK
* checking for portable file names ... OK
* checking whether package 'regioneR' can be installed ... OK
* checking installed package size ... OK
* checking package directory ... OK
* checking 'build' directory ... OK
* checking DESCRIPTION meta-information ... NOTE
Packages listed in more than one of Depends, Imports, Suggests, Enhances:
'memoise' 'GenomicRanges' 'BSgenome' 'rtracklayer' 'parallel'
A package should be listed in only one of these fields.
* checking top-level files ... OK
* checking for left-over files ... OK
* checking index information ... OK
* checking package subdirectories ... OK
* checking R files for non-ASCII characters ... OK
* checking R files for syntax errors ... OK
* loading checks for arch 'i386'
** checking whether the package can be loaded ... OK
** checking whether the package can be loaded with stated dependencies ... OK
** checking whether the package can be unloaded cleanly ... OK
** checking whether the namespace can be loaded with stated dependencies ... OK
** checking whether the namespace can be unloaded cleanly ... OK
* loading checks for arch 'x64'
** checking whether the package can be loaded ... OK
** checking whether the package can be loaded with stated dependencies ... OK
** checking whether the package can be unloaded cleanly ... OK
** checking whether the namespace can be loaded with stated dependencies ... OK
** checking whether the namespace can be unloaded cleanly ... OK
* checking dependencies in R code ... OK
* checking S3 generic/method consistency ... OK
* checking replacement functions ... OK
* checking foreign function calls ... OK
* checking R code for possible problems ... OK
* checking Rd files ... OK
* checking Rd metadata ... OK
* checking Rd cross-references ... OK
* checking for missing documentation entries ... OK
* checking for code/documentation mismatches ... OK
* checking Rd \usage sections ... OK
* checking Rd contents ... OK
* checking for unstated dependencies in examples ... OK
* checking installed files from 'inst/doc' ... OK
* checking files in 'vignettes' ... OK
* checking examples ...
** running examples for arch 'i386' ... OK
Examples with CPU or elapsed time > 5s
user system elapsed
filterChromosomes 82.47 5.32 87.80
maskFromBSGenome 81.67 4.77 86.46
circularRandomizeRegions 79.25 4.47 83.79
getMask 74.03 3.62 77.66
** running examples for arch 'x64' ... OK
Examples with CPU or elapsed time > 5s
user system elapsed
filterChromosomes 82.62 6.28 88.97
maskFromBSGenome 82.69 4.59 87.32
getMask 73.48 3.84 77.34
circularRandomizeRegions 72.14 3.85 75.98
localZScore 5.92 0.06 5.98
* checking for unstated dependencies in 'tests' ... OK
* checking tests ...
** running tests for arch 'i386' ...
Running 'testthat.R'
OK
** running tests for arch 'x64' ...
Running 'testthat.R'
OK
* checking for unstated dependencies in vignettes ... OK
* checking package vignettes in 'inst/doc' ... OK
* checking running R code from vignettes ... SKIPPED
* checking re-building of vignette outputs ... SKIPPED
* checking PDF version of manual ... OK
* DONE
Status: 1 NOTE
See
'C:/Users/biocbuild/bbs-3.6-bioc/meat/regioneR.Rcheck/00check.log'
for details.
regioneR.Rcheck/00install.out
install for i386
* installing *source* package 'regioneR' ...
** R
** inst
** preparing package for lazy loading
** help
*** installing help indices
converting help for package 'regioneR'
finding HTML links ... done
characterToBSGenome html
finding level-2 HTML links ... done
circularRandomizeRegions html
commonRegions html
createFunctionsList html
createRandomRegions html
emptyCacheRegioneR html
extendRegions html
filterChromosomes html
getChromosomesByOrganism html
getGenome html
getGenomeAndMask html
getMask html
joinRegions html
listChrTypes html
localZScore html
maskFromBSGenome html
meanDistance html
meanInRegions html
mergeRegions html
numOverlaps html
overlapGraphicalSummary html
overlapPermTest html
overlapRegions html
permTest html
plot.localZScoreResults html
plot.localZScoreResultsList html
plot.permTestResults html
plot.permTestResultsList html
plotRegions html
print.permTestResults html
randomizeRegions html
recomputePermTest html
resampleRegions html
splitRegions html
subtractRegions html
summary.permTestResults html
summary.permTestResultsList html
toDataframe html
toGRanges html
uniqueRegions html
** building package indices
** installing vignettes
** testing if installed package can be loaded
In R CMD INSTALL
install for x64
* installing *source* package 'regioneR' ...
** testing if installed package can be loaded
* MD5 sums
packaged installation of 'regioneR' as regioneR_1.10.0.zip
* DONE (regioneR)
In R CMD INSTALL
In R CMD INSTALL
|
regioneR.Rcheck/tests_i386/testthat.Rout
R version 3.4.4 (2018-03-15) -- "Someone to Lean On"
Copyright (C) 2018 The R Foundation for Statistical Computing
Platform: i386-w64-mingw32/i386 (32-bit)
R is free software and comes with ABSOLUTELY NO WARRANTY.
You are welcome to redistribute it under certain conditions.
Type 'license()' or 'licence()' for distribution details.
R is a collaborative project with many contributors.
Type 'contributors()' for more information and
'citation()' on how to cite R or R packages in publications.
Type 'demo()' for some demos, 'help()' for on-line help, or
'help.start()' for an HTML browser interface to help.
Type 'q()' to quit R.
> library(testthat)
> library(regioneR)
Loading required package: memoise
Loading required package: GenomicRanges
Loading required package: stats4
Loading required package: BiocGenerics
Loading required package: parallel
Attaching package: 'BiocGenerics'
The following objects are masked from 'package:parallel':
clusterApply, clusterApplyLB, clusterCall, clusterEvalQ,
clusterExport, clusterMap, parApply, parCapply, parLapply,
parLapplyLB, parRapply, parSapply, parSapplyLB
The following objects are masked from 'package:stats':
IQR, mad, sd, var, xtabs
The following objects are masked from 'package:base':
Filter, Find, Map, Position, Reduce, anyDuplicated, append,
as.data.frame, cbind, colMeans, colSums, colnames, do.call,
duplicated, eval, evalq, get, grep, grepl, intersect, is.unsorted,
lapply, lengths, mapply, match, mget, order, paste, pmax, pmax.int,
pmin, pmin.int, rank, rbind, rowMeans, rowSums, rownames, sapply,
setdiff, sort, table, tapply, union, unique, unsplit, which,
which.max, which.min
Loading required package: S4Vectors
Attaching package: 'S4Vectors'
The following object is masked from 'package:base':
expand.grid
Loading required package: IRanges
Loading required package: GenomeInfoDb
Loading required package: BSgenome
Loading required package: Biostrings
Loading required package: XVector
Attaching package: 'Biostrings'
The following object is masked from 'package:base':
strsplit
Loading required package: rtracklayer
>
> test_check("regioneR")
== testthat results ===========================================================
OK: 24 SKIPPED: 0 FAILED: 0
>
> proc.time()
user system elapsed
85.15 4.67 89.82
|
regioneR.Rcheck/tests_x64/testthat.Rout
R version 3.4.4 (2018-03-15) -- "Someone to Lean On"
Copyright (C) 2018 The R Foundation for Statistical Computing
Platform: x86_64-w64-mingw32/x64 (64-bit)
R is free software and comes with ABSOLUTELY NO WARRANTY.
You are welcome to redistribute it under certain conditions.
Type 'license()' or 'licence()' for distribution details.
R is a collaborative project with many contributors.
Type 'contributors()' for more information and
'citation()' on how to cite R or R packages in publications.
Type 'demo()' for some demos, 'help()' for on-line help, or
'help.start()' for an HTML browser interface to help.
Type 'q()' to quit R.
> library(testthat)
> library(regioneR)
Loading required package: memoise
Loading required package: GenomicRanges
Loading required package: stats4
Loading required package: BiocGenerics
Loading required package: parallel
Attaching package: 'BiocGenerics'
The following objects are masked from 'package:parallel':
clusterApply, clusterApplyLB, clusterCall, clusterEvalQ,
clusterExport, clusterMap, parApply, parCapply, parLapply,
parLapplyLB, parRapply, parSapply, parSapplyLB
The following objects are masked from 'package:stats':
IQR, mad, sd, var, xtabs
The following objects are masked from 'package:base':
Filter, Find, Map, Position, Reduce, anyDuplicated, append,
as.data.frame, cbind, colMeans, colSums, colnames, do.call,
duplicated, eval, evalq, get, grep, grepl, intersect, is.unsorted,
lapply, lengths, mapply, match, mget, order, paste, pmax, pmax.int,
pmin, pmin.int, rank, rbind, rowMeans, rowSums, rownames, sapply,
setdiff, sort, table, tapply, union, unique, unsplit, which,
which.max, which.min
Loading required package: S4Vectors
Attaching package: 'S4Vectors'
The following object is masked from 'package:base':
expand.grid
Loading required package: IRanges
Loading required package: GenomeInfoDb
Loading required package: BSgenome
Loading required package: Biostrings
Loading required package: XVector
Attaching package: 'Biostrings'
The following object is masked from 'package:base':
strsplit
Loading required package: rtracklayer
>
> test_check("regioneR")
== testthat results ===========================================================
OK: 24 SKIPPED: 0 FAILED: 0
>
> proc.time()
user system elapsed
85.51 4.71 90.26
|
|
regioneR.Rcheck/examples_i386/regioneR-Ex.timings
|
regioneR.Rcheck/examples_x64/regioneR-Ex.timings
|