| Back to Multiple platform build/check report for BioC 3.6 |
|
This page was generated on 2018-04-12 13:18:21 -0400 (Thu, 12 Apr 2018).
| Package 63/1472 | Hostname | OS / Arch | INSTALL | BUILD | CHECK | BUILD BIN | ||||||
| aroma.light 3.8.0 Henrik Bengtsson
| malbec1 | Linux (Ubuntu 16.04.1 LTS) / x86_64 | OK | OK | OK | |||||||
| tokay1 | Windows Server 2012 R2 Standard / x64 | [ OK ] | OK | OK | OK | |||||||
| veracruz1 | OS X 10.11.6 El Capitan / x86_64 | OK | OK | OK | OK |
| Package: aroma.light |
| Version: 3.8.0 |
| Command: rm -rf aroma.light.buildbin-libdir && mkdir aroma.light.buildbin-libdir && C:\cygwin\bin\curl.exe -O https://malbec1.bioconductor.org/BBS/3.6/bioc/src/contrib/aroma.light_3.8.0.tar.gz && C:\Users\biocbuild\bbs-3.6-bioc\R\bin\R.exe CMD INSTALL --build --library=aroma.light.buildbin-libdir --merge-multiarch aroma.light_3.8.0.tar.gz && C:\Users\biocbuild\bbs-3.6-bioc\R\bin\R.exe CMD INSTALL aroma.light_3.8.0.zip && rm aroma.light_3.8.0.tar.gz aroma.light_3.8.0.zip |
| StartedAt: 2018-04-11 18:12:40 -0400 (Wed, 11 Apr 2018) |
| EndedAt: 2018-04-11 18:15:10 -0400 (Wed, 11 Apr 2018) |
| EllapsedTime: 150.1 seconds |
| RetCode: 0 |
| Status: OK |
##############################################################################
##############################################################################
###
### Running command:
###
### rm -rf aroma.light.buildbin-libdir && mkdir aroma.light.buildbin-libdir && C:\cygwin\bin\curl.exe -O https://malbec1.bioconductor.org/BBS/3.6/bioc/src/contrib/aroma.light_3.8.0.tar.gz && C:\Users\biocbuild\bbs-3.6-bioc\R\bin\R.exe CMD INSTALL --build --library=aroma.light.buildbin-libdir --merge-multiarch aroma.light_3.8.0.tar.gz && C:\Users\biocbuild\bbs-3.6-bioc\R\bin\R.exe CMD INSTALL aroma.light_3.8.0.zip && rm aroma.light_3.8.0.tar.gz aroma.light_3.8.0.zip
###
##############################################################################
##############################################################################
% Total % Received % Xferd Average Speed Time Time Time Current
Dload Upload Total Spent Left Speed
0 0 0 0 0 0 0 0 --:--:-- --:--:-- --:--:-- 0
100 439k 100 439k 0 0 7194k 0 --:--:-- --:--:-- --:--:-- 7576k
install for i386
* installing *source* package 'aroma.light' ...
** R
** inst
** preparing package for lazy loading
** help
*** installing help indices
converting help for package 'aroma.light'
finding HTML links ... done
1._Calibration_and_Normalization html
Non-documented_objects html
aroma.light-package html
averageQuantile html
backtransformAffine html
backtransformPrincipalCurve html
calibrateMultiscan html
callNaiveGenotypes html
distanceBetweenLines html
findPeaksAndValleys html
fitIWPCA html
fitNaiveGenotypes html
fitPrincipalCurve html
fitXYCurve html
iwpca html
likelihood.smooth.spline html
medianPolish html
normalizeAffine html
normalizeAverage html
normalizeCurveFit html
normalizeDifferencesToAverage html
normalizeFragmentLength html
normalizeQuantileRank html
normalizeQuantileRank.matrix html
normalizeQuantileSpline html
normalizeTumorBoost html
pairedAlleleSpecificCopyNumbers html
plotDensity html
plotMvsA html
plotMvsAPairs html
plotMvsMPairs html
plotXYCurve html
print.SmoothSplineLikelihood html
robustSmoothSpline html
sampleCorrelations html
sampleTuples html
wpca html
** building package indices
** testing if installed package can be loaded
In R CMD INSTALL
install for x64
* installing *source* package 'aroma.light' ...
** testing if installed package can be loaded
* MD5 sums
packaged installation of 'aroma.light' as aroma.light_3.8.0.zip
* DONE (aroma.light)
In R CMD INSTALL
In R CMD INSTALL
* installing to library 'C:/Users/biocbuild/bbs-3.6-bioc/R/library'
package 'aroma.light' successfully unpacked and MD5 sums checked
In R CMD INSTALL