ncdfFlow 2.23.2 Mike Jiang
 | Snapshot Date: 2017-08-15 17:18:21 -0400 (Tue, 15 Aug 2017) |  | URL: https://hedgehog.fhcrc.org/bioconductor/trunk/madman/Rpacks/ncdfFlow |  | Last Changed Rev: 131703 / Revision: 131943 |  | Last Changed Date: 2017-08-01 17:40:06 -0400 (Tue, 01 Aug 2017) |  
  | malbec1  | Linux (Ubuntu 16.04.1 LTS) / x86_64  |  OK  |  OK  |  OK  |  |   | 
| tokay1  | Windows Server 2012 R2 Standard / x64  |  OK  | [ OK ] |  OK  |  OK  |   | 
| veracruz1  | OS X 10.11.6 El Capitan / x86_64  |  OK  |  OK  |  OK  |  OK  |   | 
##############################################################################
##############################################################################
###
### Running command:
###
###   chmod a+r ncdfFlow -R && C:\Users\biocbuild\bbs-3.6-bioc\R\bin\R.exe CMD build --keep-empty-dirs --no-resave-data ncdfFlow
###
##############################################################################
##############################################################################
* checking for file 'ncdfFlow/DESCRIPTION' ... OK
* preparing 'ncdfFlow':
* checking DESCRIPTION meta-information ... OK
* cleaning src
* installing the package to build vignettes
* creating vignettes ... OK
* cleaning src
* checking for LF line-endings in source and make files
* checking for empty or unneeded directories
WARNING: directory 'ncdfFlow/inst/tests' is empty
WARNING: directory 'ncdfFlow/src/includeWin/i386' is empty
WARNING: directory 'ncdfFlow/src/includeWin/x64' is empty
WARNING: directory 'ncdfFlow/src/libwin/i386' is empty
WARNING: directory 'ncdfFlow/src/libwin/x64' is empty
* building 'ncdfFlow_2.23.2.tar.gz'