ncdfFlow 2.23.2 Mike Jiang
 | Snapshot Date: 2017-08-15 17:18:21 -0400 (Tue, 15 Aug 2017) |  | URL: https://hedgehog.fhcrc.org/bioconductor/trunk/madman/Rpacks/ncdfFlow |  | Last Changed Rev: 131703 / Revision: 131943 |  | Last Changed Date: 2017-08-01 17:40:06 -0400 (Tue, 01 Aug 2017) |  
  | malbec1  | Linux (Ubuntu 16.04.1 LTS) / x86_64  |  OK  |  OK  |  OK  |  |   | 
| tokay1  | Windows Server 2012 R2 Standard / x64  |  OK  |  OK  |  OK  | [ OK ] |   | 
| veracruz1  | OS X 10.11.6 El Capitan / x86_64  |  OK  |  OK  |  OK  |  OK  |   | 
##############################################################################
##############################################################################
###
### Running command:
###
###   cd ncdfFlow.buildbin-libdir/ncdfFlow && zip -r ../../ncdfFlow_2.23.2.zip . & cd ../..
###
##############################################################################
##############################################################################
  adding: DESCRIPTION (332 bytes security) (deflated 37%)
  adding: doc/ (372 bytes security) (stored 0%)
  adding: doc/index.html (332 bytes security) (deflated 58%)
  adding: doc/ncdfFlow.pdf (332 bytes security) (deflated 8%)
  adding: doc/ncdfFlow.R (332 bytes security) (deflated 77%)
  adding: doc/ncdfFlow.Rnw (332 bytes security) (deflated 63%)
  adding: help/ (372 bytes security) (stored 0%)
  adding: help/aliases.rds (332 bytes security) (stored 0%)
  adding: help/AnIndex (332 bytes security) (deflated 82%)
  adding: help/ncdfFlow.rdb (332 bytes security) (deflated 1%)
  adding: help/ncdfFlow.rdx (332 bytes security) (stored 0%)
  adding: help/paths.rds (332 bytes security) (stored 0%)
  adding: html/ (372 bytes security) (stored 0%)
  adding: html/00Index.html (332 bytes security) (deflated 83%)
  adding: html/R.css (332 bytes security) (deflated 75%)
  adding: include/ (372 bytes security) (stored 0%)
  adding: include/ncdfFlow.h (332 bytes security) (deflated 23%)
  adding: include/ncdfFlowAPI.h (332 bytes security) (deflated 66%)
  adding: INDEX (332 bytes security) (deflated 69%)
  adding: lib/ (548 bytes security) (stored 0%)
  adding: lib/i386/ (548 bytes security) (stored 0%)
  adding: lib/i386/libncdfFlow.a (332 bytes security) (deflated 75%)
  adding: lib/x64/ (548 bytes security) (stored 0%)
  adding: lib/x64/libncdfFlow.a (332 bytes security) (deflated 76%)
  adding: libs/ (372 bytes security) (stored 0%)
  adding: libs/i386/ (372 bytes security) (stored 0%)
  adding: libs/i386/ncdfFlow.dll (332 bytes security) (deflated 66%)
  adding: libs/x64/ (372 bytes security) (stored 0%)
  adding: libs/x64/ncdfFlow.dll (332 bytes security) (deflated 63%)
  adding: MD5 (332 bytes security) (deflated 44%)
  adding: Meta/ (372 bytes security) (stored 0%)
  adding: Meta/features.rds (332 bytes security) (stored 0%)
  adding: Meta/hsearch.rds (332 bytes security) (stored 0%)
  adding: Meta/links.rds (332 bytes security) (stored 0%)
  adding: Meta/nsInfo.rds (332 bytes security) (stored 0%)
  adding: Meta/package.rds (332 bytes security) (stored 0%)
  adding: Meta/Rd.rds (332 bytes security) (stored 0%)
  adding: Meta/vignette.rds (332 bytes security) (stored 0%)
  adding: NAMESPACE (332 bytes security) (deflated 77%)
  adding: NEWS (332 bytes security) (deflated 51%)
  adding: R/ (372 bytes security) (stored 0%)
  adding: R/ncdfFlow (332 bytes security) (deflated 41%)
  adding: R/ncdfFlow.rdb (332 bytes security) (deflated 35%)
  adding: R/ncdfFlow.rdx (332 bytes security) (stored 0%)
  adding: tests/ (372 bytes security) (stored 0%)