csaw 1.11.1 Aaron Lun
 | Snapshot Date: 2017-08-15 17:18:21 -0400 (Tue, 15 Aug 2017) |  | URL: https://hedgehog.fhcrc.org/bioconductor/trunk/madman/Rpacks/csaw |  | Last Changed Rev: 130607 / Revision: 131943 |  | Last Changed Date: 2017-06-22 06:48:22 -0400 (Thu, 22 Jun 2017) |  
  | malbec1  | Linux (Ubuntu 16.04.1 LTS) / x86_64  |  OK  |  OK  |  OK  |  |   | 
| tokay1  | Windows Server 2012 R2 Standard / x64  |  OK  | [ OK ] |  OK  |  OK  |   | 
| veracruz1  | OS X 10.11.6 El Capitan / x86_64  |  OK  |  OK  |  OK  |  OK  |   | 
##############################################################################
##############################################################################
###
### Running command:
###
###   chmod a+r csaw -R && C:\Users\biocbuild\bbs-3.6-bioc\R\bin\R.exe CMD build --keep-empty-dirs --no-resave-data csaw
###
##############################################################################
##############################################################################
* checking for file 'csaw/DESCRIPTION' ... OK
* preparing 'csaw':
* checking DESCRIPTION meta-information ... OK
* cleaning src
* installing the package to build vignettes
* creating vignettes ... OK
* cleaning src
* checking for LF line-endings in source and make files
* checking for empty or unneeded directories
* building 'csaw_1.11.1.tar.gz'