csaw 1.11.1 Aaron Lun
 | Snapshot Date: 2017-08-15 17:18:21 -0400 (Tue, 15 Aug 2017) |  | URL: https://hedgehog.fhcrc.org/bioconductor/trunk/madman/Rpacks/csaw |  | Last Changed Rev: 130607 / Revision: 131943 |  | Last Changed Date: 2017-06-22 06:48:22 -0400 (Thu, 22 Jun 2017) |  
  | malbec1  | Linux (Ubuntu 16.04.1 LTS) / x86_64  |  OK  |  OK  |  OK  |  |   | 
| tokay1  | Windows Server 2012 R2 Standard / x64  |  OK  |  OK  |  OK  | [ OK ] |   | 
| veracruz1  | OS X 10.11.6 El Capitan / x86_64  |  OK  |  OK  |  OK  |  OK  |   | 
##############################################################################
##############################################################################
###
### Running command:
###
###   cd csaw.buildbin-libdir/csaw && zip -r ../../csaw_1.11.1.zip . & cd ../..
###
##############################################################################
##############################################################################
  adding: CITATION (332 bytes security) (deflated 61%)
  adding: DESCRIPTION (332 bytes security) (deflated 40%)
  adding: doc/ (372 bytes security) (stored 0%)
  adding: doc/csaw.pdf (332 bytes security) (deflated 6%)
  adding: doc/csaw.Rnw (332 bytes security) (deflated 50%)
  adding: doc/csawUserGuide.pdf (332 bytes security) (deflated 11%)
  adding: doc/index.html (332 bytes security) (deflated 61%)
  adding: doc/sra2bam.sh (332 bytes security) (deflated 64%)
  adding: exdata/ (372 bytes security) (stored 0%)
  adding: exdata/autogen.R (332 bytes security) (deflated 46%)
  adding: exdata/exrange.rds (332 bytes security) (stored 0%)
  adding: exdata/pet.bam (332 bytes security) (deflated 2%)
  adding: exdata/pet.bam.bai (332 bytes security) (deflated 68%)
  adding: exdata/pet.sam (332 bytes security) (deflated 77%)
  adding: exdata/rep1.bam (332 bytes security) (deflated 1%)
  adding: exdata/rep1.bam.bai (332 bytes security) (deflated 71%)
  adding: exdata/rep2.bam (332 bytes security) (deflated 2%)
  adding: exdata/rep2.bam.bai (332 bytes security) (deflated 70%)
  adding: help/ (372 bytes security) (stored 0%)
  adding: help/aliases.rds (332 bytes security) (stored 0%)
  adding: help/AnIndex (332 bytes security) (deflated 67%)
  adding: help/csaw.rdb (332 bytes security) (deflated 0%)
  adding: help/csaw.rdx (332 bytes security) (stored 0%)
  adding: help/paths.rds (332 bytes security) (stored 0%)
  adding: html/ (372 bytes security) (stored 0%)
  adding: html/00Index.html (332 bytes security) (deflated 78%)
  adding: html/R.css (332 bytes security) (deflated 75%)
  adding: INDEX (332 bytes security) (deflated 60%)
  adding: libs/ (372 bytes security) (stored 0%)
  adding: libs/i386/ (372 bytes security) (stored 0%)
  adding: libs/i386/csaw.dll (332 bytes security) (deflated 60%)
  adding: libs/x64/ (372 bytes security) (stored 0%)
  adding: libs/x64/csaw.dll (332 bytes security) (deflated 65%)
  adding: MD5 (332 bytes security) (deflated 49%)
  adding: Meta/ (372 bytes security) (stored 0%)
  adding: Meta/features.rds (332 bytes security) (stored 0%)
  adding: Meta/hsearch.rds (332 bytes security) (stored 0%)
  adding: Meta/links.rds (332 bytes security) (stored 0%)
  adding: Meta/nsInfo.rds (332 bytes security) (stored 0%)
  adding: Meta/package.rds (332 bytes security) (stored 0%)
  adding: Meta/Rd.rds (332 bytes security) (stored 0%)
  adding: Meta/vignette.rds (332 bytes security) (stored 0%)
  adding: NAMESPACE (332 bytes security) (deflated 46%)
  adding: NEWS.Rd (332 bytes security) (deflated 64%)
  adding: R/ (372 bytes security) (stored 0%)
  adding: R/csaw (332 bytes security) (deflated 41%)
  adding: R/csaw.rdb (332 bytes security) (deflated 23%)
  adding: R/csaw.rdx (332 bytes security) (stored 0%)
  adding: tests/ (372 bytes security) (stored 0%)
  adding: tests/run_all_tests.sh (332 bytes security) (deflated 25%)
  adding: tests/simsam.R (332 bytes security) (deflated 63%)
  adding: tests/test-best.R (332 bytes security) (deflated 65%)
  adding: tests/test-best.Rout.save (332 bytes security) (deflated 59%)
  adding: tests/test-bimodal.R (332 bytes security) (deflated 70%)
  adding: tests/test-bimodal.Rout.save (332 bytes security) (deflated 67%)
  adding: tests/test-ccf.R (332 bytes security) (deflated 75%)
  adding: tests/test-ccf.Rout.save (332 bytes security) (deflated 73%)
  adding: tests/test-chip.R (332 bytes security) (deflated 75%)
  adding: tests/test-chip.Rout.save (332 bytes security) (deflated 87%)
  adding: tests/test-cluster.R (332 bytes security) (deflated 72%)
  adding: tests/test-cluster.Rout.save (332 bytes security) (deflated 69%)
  adding: tests/test-combine.R (332 bytes security) (deflated 68%)
  adding: tests/test-combine.Rout.save (332 bytes security) (deflated 75%)
  adding: tests/test-cons.R (332 bytes security) (deflated 76%)
  adding: tests/test-cons.Rout.save (332 bytes security) (deflated 76%)
  adding: tests/test-detail.R (332 bytes security) (deflated 68%)
  adding: tests/test-detail.Rout.save (332 bytes security) (deflated 74%)
  adding: tests/test-empirical.R (332 bytes security) (deflated 65%)
  adding: tests/test-empirical.Rout.save (332 bytes security) (deflated 61%)
  adding: tests/test-empty.R (332 bytes security) (deflated 63%)
  adding: tests/test-empty.Rout.save (332 bytes security) (deflated 70%)
  adding: tests/test-filter.R (332 bytes security) (deflated 79%)
  adding: tests/test-filter.Rout.save (332 bytes security) (deflated 78%)
  adding: tests/test-maxima.R (332 bytes security) (deflated 74%)
  adding: tests/test-maxima.Rout.save (332 bytes security) (deflated 67%)
  adding: tests/test-merge.R (332 bytes security) (deflated 74%)
  adding: tests/test-merge.Rout.save (332 bytes security) (deflated 81%)
  adding: tests/test-overlap.R (332 bytes security) (deflated 83%)
  adding: tests/test-overlap.Rout.save (332 bytes security) (deflated 77%)
  adding: tests/test-pet3.R (332 bytes security) (deflated 69%)
  adding: tests/test-pet3.Rout.save (332 bytes security) (deflated 81%)
  adding: tests/test-profile.R (332 bytes security) (deflated 69%)
  adding: tests/test-profile.Rout.save (332 bytes security) (deflated 69%)
  adding: tests/test-region.R (332 bytes security) (deflated 77%)
  adding: tests/test-region.Rout.save (332 bytes security) (deflated 76%)