HDF5Array 1.5.17 Hervé Pagès
 | Snapshot Date: 2017-08-15 17:18:21 -0400 (Tue, 15 Aug 2017) |  | URL: https://hedgehog.fhcrc.org/bioconductor/trunk/madman/Rpacks/HDF5Array |  | Last Changed Rev: 131596 / Revision: 131943 |  | Last Changed Date: 2017-07-26 13:21:20 -0400 (Wed, 26 Jul 2017) |  
  | malbec1  | Linux (Ubuntu 16.04.1 LTS) / x86_64  |  OK  |  OK  |  OK  |  |   | 
| tokay1  | Windows Server 2012 R2 Standard / x64  |  OK  | [ OK ] |  OK  |  OK  |   | 
| veracruz1  | OS X 10.11.6 El Capitan / x86_64  |  OK  |  OK  |  OK  |  OK  |   | 
##############################################################################
##############################################################################
###
### Running command:
###
###   chmod a+r HDF5Array -R && C:\Users\biocbuild\bbs-3.6-bioc\R\bin\R.exe CMD build --keep-empty-dirs --no-resave-data HDF5Array
###
##############################################################################
##############################################################################
* checking for file 'HDF5Array/DESCRIPTION' ... OK
* preparing 'HDF5Array':
* checking DESCRIPTION meta-information ... OK
* checking for LF line-endings in source and make files
* checking for empty or unneeded directories
* building 'HDF5Array_1.5.17.tar.gz'