HDF5Array 1.5.17 Hervé Pagès
 | Snapshot Date: 2017-08-15 17:18:21 -0400 (Tue, 15 Aug 2017) |  | URL: https://hedgehog.fhcrc.org/bioconductor/trunk/madman/Rpacks/HDF5Array |  | Last Changed Rev: 131596 / Revision: 131943 |  | Last Changed Date: 2017-07-26 13:21:20 -0400 (Wed, 26 Jul 2017) |  
  | malbec1  | Linux (Ubuntu 16.04.1 LTS) / x86_64  |  OK  |  OK  |  OK  |  |   | 
| tokay1  | Windows Server 2012 R2 Standard / x64  |  OK  |  OK  |  OK  | [ OK ] |   | 
| veracruz1  | OS X 10.11.6 El Capitan / x86_64  |  OK  |  OK  |  OK  |  OK  |   | 
##############################################################################
##############################################################################
###
### Running command:
###
###   cd HDF5Array.buildbin-libdir/HDF5Array && zip -r ../../HDF5Array_1.5.17.zip . & cd ../..
###
##############################################################################
##############################################################################
  adding: DESCRIPTION (332 bytes security) (deflated 37%)
  adding: extdata/ (372 bytes security) (stored 0%)
  adding: extdata/toy.h5 (332 bytes security) (deflated 1%)
  adding: help/ (372 bytes security) (stored 0%)
  adding: help/aliases.rds (332 bytes security) (stored 0%)
  adding: help/AnIndex (332 bytes security) (deflated 80%)
  adding: help/HDF5Array.rdb (332 bytes security) (deflated 0%)
  adding: help/HDF5Array.rdx (332 bytes security) (stored 0%)
  adding: help/paths.rds (332 bytes security) (stored 0%)
  adding: html/ (372 bytes security) (stored 0%)
  adding: html/00Index.html (332 bytes security) (deflated 85%)
  adding: html/R.css (332 bytes security) (deflated 75%)
  adding: INDEX (332 bytes security) (deflated 37%)
  adding: MD5 (332 bytes security) (deflated 40%)
  adding: Meta/ (372 bytes security) (stored 0%)
  adding: Meta/features.rds (332 bytes security) (stored 0%)
  adding: Meta/hsearch.rds (332 bytes security) (stored 0%)
  adding: Meta/links.rds (332 bytes security) (stored 0%)
  adding: Meta/nsInfo.rds (332 bytes security) (stored 0%)
  adding: Meta/package.rds (332 bytes security) (stored 0%)
  adding: Meta/Rd.rds (332 bytes security) (stored 0%)
  adding: NAMESPACE (332 bytes security) (deflated 67%)
  adding: R/ (372 bytes security) (stored 0%)
  adding: R/HDF5Array (332 bytes security) (deflated 41%)
  adding: R/HDF5Array.rdb (332 bytes security) (deflated 33%)
  adding: R/HDF5Array.rdx (332 bytes security) (deflated 1%)
  adding: unitTests/ (372 bytes security) (stored 0%)
  adding: unitTests/test_HDF5Array-class.R (332 bytes security) (stored 0%)