AnnotationFilter 1.1.3 Bioconductor Maintainer
 | Snapshot Date: 2017-08-15 17:18:21 -0400 (Tue, 15 Aug 2017) |  | URL: https://hedgehog.fhcrc.org/bioconductor/trunk/madman/Rpacks/AnnotationFilter |  | Last Changed Rev: 130696 / Revision: 131943 |  | Last Changed Date: 2017-06-26 18:28:29 -0400 (Mon, 26 Jun 2017) |  
  | malbec1  | Linux (Ubuntu 16.04.1 LTS) / x86_64  |  OK  |  OK  |  OK  |  |   | 
| tokay1  | Windows Server 2012 R2 Standard / x64  | [ OK ] |  OK  |  OK  |  OK  |   | 
| veracruz1  | OS X 10.11.6 El Capitan / x86_64  |  OK  |  OK  |  OK  |  OK  |   | 
##############################################################################
##############################################################################
###
### Running command:
###
###   rm -rf AnnotationFilter.buildbin-libdir && mkdir AnnotationFilter.buildbin-libdir  && C:\cygwin\bin\curl.exe -O https://malbec1.bioconductor.org/BBS/3.6/bioc/src/contrib/AnnotationFilter_1.1.3.tar.gz && C:\Users\biocbuild\bbs-3.6-bioc\R\bin\R.exe CMD INSTALL --build --library=AnnotationFilter.buildbin-libdir --merge-multiarch AnnotationFilter_1.1.3.tar.gz && C:\Users\biocbuild\bbs-3.6-bioc\R\bin\R.exe CMD INSTALL AnnotationFilter_1.1.3.zip  && rm AnnotationFilter_1.1.3.tar.gz AnnotationFilter_1.1.3.zip
###
##############################################################################
##############################################################################
  % Total    % Received % Xferd  Average Speed   Time    Time     Time  Current
                                 Dload  Upload   Total   Spent    Left  Speed
  0     0    0     0    0     0      0      0 --:--:-- --:--:-- --:--:--     0
100 17511  100 17511    0     0   519k      0 --:--:-- --:--:-- --:--:--  589k
install for i386
* installing *source* package 'AnnotationFilter' ...
** R
** preparing package for lazy loading
** help
*** installing help indices
** building package indices
** installing vignettes
** testing if installed package can be loaded
install for x64
* installing *source* package 'AnnotationFilter' ...
** testing if installed package can be loaded
* MD5 sums
packaged installation of 'AnnotationFilter' as AnnotationFilter_1.1.3.zip
* DONE (AnnotationFilter)
* installing to library 'C:/Users/biocbuild/bbs-3.6-bioc/R/library'
package 'AnnotationFilter' successfully unpacked and MD5 sums checked