AnnotationFilter 1.1.3 Bioconductor Maintainer
 | Snapshot Date: 2017-08-15 17:18:21 -0400 (Tue, 15 Aug 2017) |  | URL: https://hedgehog.fhcrc.org/bioconductor/trunk/madman/Rpacks/AnnotationFilter |  | Last Changed Rev: 130696 / Revision: 131943 |  | Last Changed Date: 2017-06-26 18:28:29 -0400 (Mon, 26 Jun 2017) |  
  | malbec1  | Linux (Ubuntu 16.04.1 LTS) / x86_64  |  OK  |  OK  |  OK  |  |   | 
| tokay1  | Windows Server 2012 R2 Standard / x64  |  OK  |  OK  |  OK  | [ OK ] |   | 
| veracruz1  | OS X 10.11.6 El Capitan / x86_64  |  OK  |  OK  |  OK  |  OK  |   | 
##############################################################################
##############################################################################
###
### Running command:
###
###   cd AnnotationFilter.buildbin-libdir/AnnotationFilter && zip -r ../../AnnotationFilter_1.1.3.zip . & cd ../..
###
##############################################################################
##############################################################################
  adding: DESCRIPTION (332 bytes security) (deflated 50%)
  adding: doc/ (372 bytes security) (stored 0%)
  adding: doc/AnnotationFilter.html (332 bytes security) (deflated 69%)
  adding: doc/AnnotationFilter.R (332 bytes security) (deflated 73%)
  adding: doc/AnnotationFilter.Rmd (332 bytes security) (deflated 65%)
  adding: doc/index.html (332 bytes security) (deflated 60%)
  adding: help/ (372 bytes security) (stored 0%)
  adding: help/aliases.rds (332 bytes security) (stored 0%)
  adding: help/AnIndex (332 bytes security) (deflated 85%)
  adding: help/AnnotationFilter.rdb (332 bytes security) (deflated 0%)
  adding: help/AnnotationFilter.rdx (332 bytes security) (stored 0%)
  adding: help/paths.rds (332 bytes security) (stored 0%)
  adding: html/ (372 bytes security) (stored 0%)
  adding: html/00Index.html (332 bytes security) (deflated 90%)
  adding: html/R.css (332 bytes security) (deflated 75%)
  adding: INDEX (332 bytes security) (deflated 40%)
  adding: MD5 (332 bytes security) (deflated 45%)
  adding: Meta/ (372 bytes security) (stored 0%)
  adding: Meta/features.rds (332 bytes security) (stored 0%)
  adding: Meta/hsearch.rds (332 bytes security) (stored 0%)
  adding: Meta/links.rds (332 bytes security) (stored 0%)
  adding: Meta/nsInfo.rds (332 bytes security) (stored 0%)
  adding: Meta/package.rds (332 bytes security) (stored 0%)
  adding: Meta/Rd.rds (332 bytes security) (stored 0%)
  adding: Meta/vignette.rds (332 bytes security) (stored 0%)
  adding: NAMESPACE (332 bytes security) (deflated 77%)
  adding: NEWS (332 bytes security) (deflated 42%)
  adding: R/ (372 bytes security) (stored 0%)
  adding: R/AnnotationFilter (332 bytes security) (deflated 41%)
  adding: R/AnnotationFilter.rdb (332 bytes security) (deflated 26%)
  adding: R/AnnotationFilter.rdx (332 bytes security) (deflated 1%)