ReactomePA 1.20.2 Guangchuang Yu
 | Snapshot Date: 2017-10-17 17:00:52 -0400 (Tue, 17 Oct 2017) |  | URL: https://git.bioconductor.org/packages/ReactomePA |  | Branch: RELEASE_3_5 |  | Last Commit: 75a083a |  | Last Changed Date: 2017-05-18 00:51:50 -0400 (Thu, 18 May 2017) |  
  | malbec2  | Linux (Ubuntu 16.04.1 LTS) / x86_64  |  OK  |  OK  |  OK  |  |   | 
| tokay2  | Windows Server 2012 R2 Standard / x64  | [ OK ] |  OK  |  OK  |  OK  |   | 
| veracruz2  | OS X 10.11.6 El Capitan / x86_64  |  OK  |  OK  |  OK  |  OK  |   | 
##############################################################################
##############################################################################
###
### Running command:
###
###   rm -rf ReactomePA.buildbin-libdir && mkdir ReactomePA.buildbin-libdir  && C:\cygwin\bin\curl.exe -O http://172.29.0.4/BBS/3.5/bioc/src/contrib/ReactomePA_1.20.2.tar.gz && C:\Users\biocbuild\bbs-3.5-bioc\R\bin\R.exe CMD INSTALL --build --library=ReactomePA.buildbin-libdir --merge-multiarch ReactomePA_1.20.2.tar.gz && C:\Users\biocbuild\bbs-3.5-bioc\R\bin\R.exe CMD INSTALL ReactomePA_1.20.2.zip  && rm ReactomePA_1.20.2.tar.gz ReactomePA_1.20.2.zip
###
##############################################################################
##############################################################################
  % Total    % Received % Xferd  Average Speed   Time    Time     Time  Current
                                 Dload  Upload   Total   Spent    Left  Speed
  0     0    0     0    0     0      0      0 --:--:-- --:--:-- --:--:--     0
100 1712k  100 1712k    0     0  33.8M      0 --:--:-- --:--:-- --:--:-- 34.8M
install for i386
* installing *source* package 'ReactomePA' ...
** R
** inst
** byte-compile and prepare package for lazy loading
** help
*** installing help indices
** building package indices
** installing vignettes
** testing if installed package can be loaded
install for x64
* installing *source* package 'ReactomePA' ...
** testing if installed package can be loaded
* MD5 sums
packaged installation of 'ReactomePA' as ReactomePA_1.20.2.zip
* DONE (ReactomePA)
* installing to library 'C:/Users/biocbuild/bbs-3.5-bioc/R/library'
package 'ReactomePA' successfully unpacked and MD5 sums checked