ReactomePA 1.20.2 Guangchuang Yu
 | Snapshot Date: 2017-10-17 17:00:52 -0400 (Tue, 17 Oct 2017) |  | URL: https://git.bioconductor.org/packages/ReactomePA |  | Branch: RELEASE_3_5 |  | Last Commit: 75a083a |  | Last Changed Date: 2017-05-18 00:51:50 -0400 (Thu, 18 May 2017) |  
  | malbec2  | Linux (Ubuntu 16.04.1 LTS) / x86_64  |  OK  |  OK  |  OK  |  |   | 
| tokay2  | Windows Server 2012 R2 Standard / x64  |  OK  |  OK  |  OK  | [ OK ] |   | 
| veracruz2  | OS X 10.11.6 El Capitan / x86_64  |  OK  |  OK  |  OK  |  OK  |   | 
##############################################################################
##############################################################################
###
### Running command:
###
###   cd ReactomePA.buildbin-libdir/ReactomePA && zip -r ../../ReactomePA_1.20.2.zip . & cd ../..
###
##############################################################################
##############################################################################
  adding: CITATION (264 bytes security) (deflated 54%)
  adding: DESCRIPTION (264 bytes security) (deflated 45%)
  adding: doc/ (304 bytes security) (stored 0%)
  adding: doc/index.html (264 bytes security) (deflated 59%)
  adding: doc/ReactomePA.html (264 bytes security) (deflated 31%)
  adding: doc/ReactomePA.R (264 bytes security) (deflated 67%)
  adding: doc/ReactomePA.Rmd (264 bytes security) (deflated 57%)
  adding: help/ (304 bytes security) (stored 0%)
  adding: help/aliases.rds (264 bytes security) (stored 0%)
  adding: help/AnIndex (264 bytes security) (deflated 51%)
  adding: help/paths.rds (264 bytes security) (stored 0%)
  adding: help/ReactomePA.rdb (264 bytes security) (deflated 1%)
  adding: help/ReactomePA.rdx (264 bytes security) (stored 0%)
  adding: html/ (304 bytes security) (stored 0%)
  adding: html/00Index.html (264 bytes security) (deflated 63%)
  adding: html/R.css (264 bytes security) (deflated 75%)
  adding: INDEX (264 bytes security) (deflated 55%)
  adding: MD5 (264 bytes security) (deflated 43%)
  adding: Meta/ (304 bytes security) (stored 0%)
  adding: Meta/features.rds (264 bytes security) (stored 0%)
  adding: Meta/hsearch.rds (264 bytes security) (stored 0%)
  adding: Meta/links.rds (264 bytes security) (stored 0%)
  adding: Meta/nsInfo.rds (264 bytes security) (stored 0%)
  adding: Meta/package.rds (264 bytes security) (stored 0%)
  adding: Meta/Rd.rds (264 bytes security) (stored 0%)
  adding: Meta/vignette.rds (264 bytes security) (stored 0%)
  adding: NAMESPACE (264 bytes security) (deflated 62%)
  adding: NEWS (264 bytes security) (deflated 69%)
  adding: R/ (304 bytes security) (stored 0%)
  adding: R/ReactomePA (264 bytes security) (deflated 41%)
  adding: R/ReactomePA.rdb (264 bytes security) (deflated 1%)
  adding: R/ReactomePA.rdx (264 bytes security) (stored 0%)