Back to Multiple platform build/check report for BioC 3.22: simplified long |
|
This page was generated on 2025-10-18 12:06 -0400 (Sat, 18 Oct 2025).
Hostname | OS | Arch (*) | R version | Installed pkgs |
---|---|---|---|---|
nebbiolo2 | Linux (Ubuntu 24.04.3 LTS) | x86_64 | 4.5.1 Patched (2025-08-23 r88802) -- "Great Square Root" | 4887 |
lconway | macOS 12.7.6 Monterey | x86_64 | 4.5.1 Patched (2025-09-10 r88807) -- "Great Square Root" | 4677 |
kjohnson3 | macOS 13.7.7 Ventura | arm64 | 4.5.1 Patched (2025-09-10 r88807) -- "Great Square Root" | 4622 |
taishan | Linux (openEuler 24.03 LTS) | aarch64 | 4.5.0 (2025-04-11) -- "How About a Twenty-Six" | 4632 |
Click on any hostname to see more info about the system (e.g. compilers) (*) as reported by 'uname -p', except on Windows and Mac OS X |
Package 1984/2353 | Hostname | OS / Arch | INSTALL | BUILD | CHECK | BUILD BIN | ||||||||
sesame 1.27.1 (landing page) Wanding Zhou
| nebbiolo2 | Linux (Ubuntu 24.04.3 LTS) / x86_64 | OK | OK | OK | ![]() | ||||||||
lconway | macOS 12.7.6 Monterey / x86_64 | OK | OK | OK | OK | ![]() | ||||||||
kjohnson3 | macOS 13.7.7 Ventura / arm64 | OK | OK | OK | OK | ![]() | ||||||||
taishan | Linux (openEuler 24.03 LTS) / aarch64 | OK | OK | OK | ||||||||||
To the developers/maintainers of the sesame package: - Allow up to 24 hours (and sometimes 48 hours) for your latest push to git@git.bioconductor.org:packages/sesame.git to reflect on this report. See Troubleshooting Build Report for more information. - Use the following Renviron settings to reproduce errors and warnings. - If 'R CMD check' started to fail recently on the Linux builder(s) over a missing dependency, add the missing dependency to 'Suggests:' in your DESCRIPTION file. See Renviron.bioc for more information. |
Package: sesame |
Version: 1.27.1 |
Command: /Library/Frameworks/R.framework/Resources/bin/R CMD check --install=check:sesame.install-out.txt --library=/Library/Frameworks/R.framework/Resources/library --no-vignettes --timings sesame_1.27.1.tar.gz |
StartedAt: 2025-10-17 22:08:43 -0400 (Fri, 17 Oct 2025) |
EndedAt: 2025-10-17 22:13:28 -0400 (Fri, 17 Oct 2025) |
EllapsedTime: 285.4 seconds |
RetCode: 0 |
Status: OK |
CheckDir: sesame.Rcheck |
Warnings: 0 |
############################################################################## ############################################################################## ### ### Running command: ### ### /Library/Frameworks/R.framework/Resources/bin/R CMD check --install=check:sesame.install-out.txt --library=/Library/Frameworks/R.framework/Resources/library --no-vignettes --timings sesame_1.27.1.tar.gz ### ############################################################################## ############################################################################## * using log directory ‘/Users/biocbuild/bbs-3.22-bioc/meat/sesame.Rcheck’ * using R version 4.5.1 Patched (2025-09-10 r88807) * using platform: aarch64-apple-darwin20 * R was compiled by Apple clang version 16.0.0 (clang-1600.0.26.6) GNU Fortran (GCC) 14.2.0 * running under: macOS Ventura 13.7.7 * using session charset: UTF-8 * using option ‘--no-vignettes’ * checking for file ‘sesame/DESCRIPTION’ ... OK * checking extension type ... Package * this is package ‘sesame’ version ‘1.27.1’ * package encoding: UTF-8 * checking package namespace information ... OK * checking package dependencies ... OK * checking if this is a source package ... OK * checking if there is a namespace ... OK * checking for hidden files and directories ... OK * checking for portable file names ... OK * checking for sufficient/correct file permissions ... OK * checking whether package ‘sesame’ can be installed ... OK * checking installed package size ... OK * checking package directory ... OK * checking ‘build’ directory ... OK * checking DESCRIPTION meta-information ... OK * checking top-level files ... OK * checking for left-over files ... OK * checking index information ... OK * checking package subdirectories ... OK * checking code files for non-ASCII characters ... OK * checking R files for syntax errors ... OK * checking whether the package can be loaded ... OK * checking whether the package can be loaded with stated dependencies ... OK * checking whether the package can be unloaded cleanly ... OK * checking whether the namespace can be loaded with stated dependencies ... OK * checking whether the namespace can be unloaded cleanly ... OK * checking whether startup messages can be suppressed ... OK * checking dependencies in R code ... OK * checking S3 generic/method consistency ... OK * checking replacement functions ... OK * checking foreign function calls ... OK * checking R code for possible problems ... OK * checking Rd files ... OK * checking Rd metadata ... OK * checking Rd cross-references ... OK * checking for missing documentation entries ... OK * checking for code/documentation mismatches ... OK * checking Rd \usage sections ... OK * checking Rd contents ... OK * checking for unstated dependencies in examples ... OK * checking files in ‘vignettes’ ... OK * checking examples ... OK Examples with CPU (user + system) or elapsed time > 5s user system elapsed imputeBetasByGenomicNeighbors 14.191 0.602 14.911 inferSex 9.199 0.507 9.824 sesameQC_calcStats 8.566 0.768 9.516 sesameQC_plotHeatSNPs 7.776 0.738 8.774 imputeBetas 7.054 0.641 7.858 ELBAR 6.082 1.284 7.448 sesameQC_plotBar 6.490 0.206 6.836 diffRefSet 6.167 0.270 6.493 inferSpecies 5.802 0.287 6.136 getRefSet 5.529 0.181 5.864 * checking for unstated dependencies in ‘tests’ ... OK * checking tests ... Running ‘testthat.R’ OK * checking for unstated dependencies in vignettes ... OK * checking package vignettes ... OK * checking running R code from vignettes ... SKIPPED * checking re-building of vignette outputs ... SKIPPED * checking PDF version of manual ... OK * DONE Status: OK
sesame.Rcheck/00install.out
############################################################################## ############################################################################## ### ### Running command: ### ### /Library/Frameworks/R.framework/Resources/bin/R CMD INSTALL sesame ### ############################################################################## ############################################################################## * installing to library ‘/Library/Frameworks/R.framework/Versions/4.5-arm64/Resources/library’ * installing *source* package ‘sesame’ ... ** this is package ‘sesame’ version ‘1.27.1’ ** using staged installation ** R ** inst ** byte-compile and prepare package for lazy loading ** help *** installing help indices ** building package indices ** installing vignettes ** testing if installed package can be loaded from temporary location ** testing if installed package can be loaded from final location ** testing if installed package keeps a record of temporary installation path * DONE (sesame)
sesame.Rcheck/tests/testthat.Rout
R version 4.5.1 Patched (2025-09-10 r88807) -- "Great Square Root" Copyright (C) 2025 The R Foundation for Statistical Computing Platform: aarch64-apple-darwin20 R is free software and comes with ABSOLUTELY NO WARRANTY. You are welcome to redistribute it under certain conditions. Type 'license()' or 'licence()' for distribution details. R is a collaborative project with many contributors. Type 'contributors()' for more information and 'citation()' on how to cite R or R packages in publications. Type 'demo()' for some demos, 'help()' for on-line help, or 'help.start()' for an HTML browser interface to help. Type 'q()' to quit R. > library(testthat) > library(sesame) Loading required package: sesameData Loading required package: ExperimentHub Loading required package: BiocGenerics Loading required package: generics Attaching package: 'generics' The following objects are masked from 'package:base': as.difftime, as.factor, as.ordered, intersect, is.element, setdiff, setequal, union Attaching package: 'BiocGenerics' The following objects are masked from 'package:stats': IQR, mad, sd, var, xtabs The following objects are masked from 'package:base': Filter, Find, Map, Position, Reduce, anyDuplicated, aperm, append, as.data.frame, basename, cbind, colnames, dirname, do.call, duplicated, eval, evalq, get, grep, grepl, is.unsorted, lapply, mapply, match, mget, order, paste, pmax, pmax.int, pmin, pmin.int, rank, rbind, rownames, sapply, saveRDS, table, tapply, unique, unsplit, which.max, which.min Loading required package: AnnotationHub Loading required package: BiocFileCache Loading required package: dbplyr Loading sesameData. ---------------------------------------------------------- | SEnsible Step-wise Analysis of DNA MEthylation (SeSAMe) | -------------------------------------------------------- | Please cache auxiliary data by "sesameDataCache()". | This needs to be done only once per SeSAMe installation. ---------------------------------------------------------- > > test_check("sesame") [ FAIL 0 | WARN 0 | SKIP 0 | PASS 5 ] > > proc.time() user system elapsed 8.297 0.500 8.871
sesame.Rcheck/sesame-Ex.timings
name | user | system | elapsed | |
BetaValueToMValue | 0 | 0 | 0 | |
DML | 2.979 | 0.327 | 3.332 | |
DMLpredict | 0.426 | 0.035 | 0.466 | |
DMR | 3.102 | 0.075 | 3.192 | |
ELBAR | 6.082 | 1.284 | 7.448 | |
MValueToBetaValue | 0 | 0 | 0 | |
SigDF | 0.088 | 0.014 | 0.105 | |
addMask | 0.048 | 0.007 | 0.056 | |
betasCollapseToPfx | 0.005 | 0.000 | 0.005 | |
bisConversionControl | 2.273 | 0.115 | 2.409 | |
calcEffectSize | 0.453 | 0.053 | 0.516 | |
checkLevels | 1.224 | 0.097 | 1.352 | |
cnSegmentation | 0.080 | 0.012 | 0.092 | |
compareMouseStrainReference | 3.623 | 0.151 | 3.819 | |
compareMouseTissueReference | 0.000 | 0.001 | 0.000 | |
compareReference | 4.165 | 0.231 | 4.440 | |
controls | 0.808 | 0.106 | 0.923 | |
createUCSCtrack | 2.298 | 0.140 | 2.467 | |
deIdentify | 1.991 | 0.087 | 2.118 | |
detectionPnegEcdf | 0.396 | 0.015 | 0.419 | |
diffRefSet | 6.167 | 0.270 | 6.493 | |
dmContrasts | 0.752 | 0.070 | 0.840 | |
dyeBiasCorr | 1.000 | 0.111 | 1.114 | |
dyeBiasCorrMostBalanced | 3.348 | 0.130 | 3.545 | |
dyeBiasL | 0.973 | 0.067 | 1.047 | |
dyeBiasNL | 2.444 | 0.203 | 2.702 | |
estimateLeukocyte | 2.661 | 0.179 | 2.891 | |
formatVCF | 0.767 | 0.090 | 0.883 | |
getAFTypeIbySumAlleles | 0.548 | 0.086 | 0.654 | |
getAFs | 0.390 | 0.046 | 0.443 | |
getBetas | 0.257 | 0.041 | 0.306 | |
getMask | 2.246 | 0.239 | 2.493 | |
getRefSet | 5.529 | 0.181 | 5.864 | |
imputeBetas | 7.054 | 0.641 | 7.858 | |
imputeBetasByGenomicNeighbors | 14.191 | 0.602 | 14.911 | |
imputeBetasMatrixByMean | 0.000 | 0.000 | 0.001 | |
inferEthnicity | 0.001 | 0.000 | 0.000 | |
inferInfiniumIChannel | 0.141 | 0.147 | 0.298 | |
inferSex | 9.199 | 0.507 | 9.824 | |
inferSpecies | 5.802 | 0.287 | 6.136 | |
inferStrain | 2.729 | 0.262 | 2.997 | |
inferTissue | 2.411 | 0.369 | 2.815 | |
initFileSet | 0.373 | 0.053 | 0.426 | |
listAvailableMasks | 0.413 | 0.074 | 0.490 | |
mLiftOver | 0.001 | 0.000 | 0.000 | |
mapFileSet | 0.016 | 0.001 | 0.018 | |
mapToMammal40 | 0.818 | 0.127 | 0.967 | |
matchDesign | 4.451 | 0.281 | 4.750 | |
meanIntensity | 0.920 | 0.128 | 1.053 | |
medianTotalIntensity | 0.278 | 0.050 | 0.328 | |
noMasked | 1.414 | 0.151 | 1.569 | |
noob | 0.799 | 0.104 | 0.905 | |
openSesame | 1.805 | 0.269 | 2.124 | |
openSesameToFile | 0.586 | 0.061 | 0.663 | |
pOOBAH | 0.530 | 0.024 | 0.557 | |
palgen | 0.015 | 0.003 | 0.019 | |
parseGEOsignalMU | 1.249 | 0.123 | 1.382 | |
predictAge | 1.076 | 0.079 | 1.182 | |
predictAgeHorvath353 | 0 | 0 | 0 | |
predictAgeSkinBlood | 0 | 0 | 0 | |
predictMouseAgeInMonth | 0 | 0 | 0 | |
prefixMask | 0.178 | 0.002 | 0.197 | |
prefixMaskButC | 0.046 | 0.001 | 0.047 | |
prefixMaskButCG | 0.017 | 0.001 | 0.018 | |
prepSesame | 1.347 | 0.146 | 1.495 | |
prepSesameList | 0.001 | 0.000 | 0.001 | |
print.DMLSummary | 1.101 | 0.141 | 1.256 | |
print.fileSet | 0.392 | 0.069 | 0.463 | |
probeID_designType | 0 | 0 | 0 | |
probeSuccessRate | 1.986 | 0.183 | 2.195 | |
qualityMask | 0.570 | 0.095 | 0.666 | |
reIdentify | 1.517 | 0.076 | 1.594 | |
readFileSet | 0.028 | 0.001 | 0.029 | |
readIDATpair | 0.041 | 0.001 | 0.041 | |
recommendedMaskNames | 0 | 0 | 0 | |
resetMask | 0.103 | 0.015 | 0.118 | |
scrub | 0.949 | 0.161 | 1.128 | |
scrubSoft | 1.363 | 0.275 | 1.668 | |
sdfPlatform | 0.081 | 0.013 | 0.093 | |
sdf_read_table | 3.488 | 0.166 | 3.677 | |
sdf_write_table | 0.948 | 0.042 | 0.998 | |
searchIDATprefixes | 0.001 | 0.001 | 0.005 | |
sesame-package | 0.882 | 0.091 | 0.983 | |
sesameAnno_attachManifest | 0 | 0 | 0 | |
sesameAnno_buildAddressFile | 0 | 0 | 0 | |
sesameAnno_buildManifestGRanges | 0 | 0 | 0 | |
sesameAnno_download | 0 | 0 | 0 | |
sesameAnno_readManifestTSV | 0 | 0 | 0 | |
sesameQC_calcStats | 8.566 | 0.768 | 9.516 | |
sesameQC_getStats | 0.871 | 0.074 | 0.989 | |
sesameQC_plotBar | 6.490 | 0.206 | 6.836 | |
sesameQC_plotBetaByDesign | 3.763 | 0.557 | 4.399 | |
sesameQC_plotHeatSNPs | 7.776 | 0.738 | 8.774 | |
sesameQC_plotIntensVsBetas | 0.656 | 0.137 | 0.793 | |
sesameQC_plotRedGrnQQ | 0.452 | 0.073 | 0.526 | |
sesameQC_rankStats | 1.161 | 0.172 | 1.349 | |
sesameQCtoDF | 0.896 | 0.062 | 0.973 | |
sesame_checkVersion | 0.002 | 0.000 | 0.002 | |
sesamize | 0 | 0 | 0 | |
setMask | 0.024 | 0.003 | 0.026 | |
signalMU | 0.259 | 0.032 | 0.293 | |
sliceFileSet | 0.016 | 0.001 | 0.017 | |
summaryExtractTest | 1.207 | 0.147 | 1.375 | |
totalIntensities | 0.895 | 0.099 | 0.998 | |
updateSigDF | 1.058 | 0.180 | 1.271 | |
visualizeGene | 3.562 | 0.164 | 3.769 | |
visualizeProbes | 0.378 | 0.014 | 0.402 | |
visualizeRegion | 0.115 | 0.008 | 0.123 | |
visualizeSegments | 0.857 | 0.097 | 0.955 | |