| Back to Multiple platform build/check report for BioC 3.22: simplified long |
|
This page was generated on 2025-08-15 12:06 -0400 (Fri, 15 Aug 2025).
| Hostname | OS | Arch (*) | R version | Installed pkgs |
|---|---|---|---|---|
| nebbiolo2 | Linux (Ubuntu 24.04.3 LTS) | x86_64 | 4.5.1 (2025-06-13) -- "Great Square Root" | 4818 |
| palomino8 | Windows Server 2022 Datacenter | x64 | 4.5.1 (2025-06-13 ucrt) -- "Great Square Root" | 4554 |
| lconway | macOS 12.7.1 Monterey | x86_64 | 4.5.1 (2025-06-13) -- "Great Square Root" | 4595 |
| kjohnson3 | macOS 13.7.7 Ventura | arm64 | 4.5.1 Patched (2025-06-14 r88325) -- "Great Square Root" | 4537 |
| taishan | Linux (openEuler 24.03 LTS) | aarch64 | 4.5.0 (2025-04-11) -- "How About a Twenty-Six" | 4535 |
| Click on any hostname to see more info about the system (e.g. compilers) (*) as reported by 'uname -p', except on Windows and Mac OS X | ||||
| Package 116/2317 | Hostname | OS / Arch | INSTALL | BUILD | CHECK | BUILD BIN | ||||||||
| autonomics 1.17.0 (landing page) Aditya Bhagwat
| nebbiolo2 | Linux (Ubuntu 24.04.3 LTS) / x86_64 | OK | OK | OK | |||||||||
| palomino8 | Windows Server 2022 Datacenter / x64 | OK | OK | OK | OK | |||||||||
| lconway | macOS 12.7.1 Monterey / x86_64 | OK | OK | OK | OK | |||||||||
| kjohnson3 | macOS 13.7.7 Ventura / arm64 | OK | OK | OK | OK | |||||||||
| taishan | Linux (openEuler 24.03 LTS) / aarch64 | OK | OK | OK | ||||||||||
|
To the developers/maintainers of the autonomics package: - Allow up to 24 hours (and sometimes 48 hours) for your latest push to git@git.bioconductor.org:packages/autonomics.git to reflect on this report. See Troubleshooting Build Report for more information. - Use the following Renviron settings to reproduce errors and warnings. - If 'R CMD check' started to fail recently on the Linux builder(s) over a missing dependency, add the missing dependency to 'Suggests:' in your DESCRIPTION file. See Renviron.bioc for more information. |
| Package: autonomics |
| Version: 1.17.0 |
| Command: F:\biocbuild\bbs-3.22-bioc\R\bin\R.exe CMD check --no-multiarch --install=check:autonomics.install-out.txt --library=F:\biocbuild\bbs-3.22-bioc\R\library --no-vignettes --timings autonomics_1.17.0.tar.gz |
| StartedAt: 2025-08-15 00:36:08 -0400 (Fri, 15 Aug 2025) |
| EndedAt: 2025-08-15 00:56:06 -0400 (Fri, 15 Aug 2025) |
| EllapsedTime: 1198.7 seconds |
| RetCode: 0 |
| Status: OK |
| CheckDir: autonomics.Rcheck |
| Warnings: 0 |
##############################################################################
##############################################################################
###
### Running command:
###
### F:\biocbuild\bbs-3.22-bioc\R\bin\R.exe CMD check --no-multiarch --install=check:autonomics.install-out.txt --library=F:\biocbuild\bbs-3.22-bioc\R\library --no-vignettes --timings autonomics_1.17.0.tar.gz
###
##############################################################################
##############################################################################
* using log directory 'F:/biocbuild/bbs-3.22-bioc/meat/autonomics.Rcheck'
* using R version 4.5.1 (2025-06-13 ucrt)
* using platform: x86_64-w64-mingw32
* R was compiled by
gcc.exe (GCC) 14.2.0
GNU Fortran (GCC) 14.2.0
* running under: Windows Server 2022 x64 (build 20348)
* using session charset: UTF-8
* using option '--no-vignettes'
* checking for file 'autonomics/DESCRIPTION' ... OK
* checking extension type ... Package
* this is package 'autonomics' version '1.17.0'
* package encoding: UTF-8
* checking package namespace information ... OK
* checking package dependencies ... INFO
Imports includes 30 non-default packages.
Importing from so many packages makes the package vulnerable to any of
them becoming unavailable. Move as many as possible to Suggests and
use conditionally.
* checking if this is a source package ... OK
* checking if there is a namespace ... OK
* checking for hidden files and directories ... NOTE
Found the following hidden files and directories:
.BBSoptions
These were most likely included in error. See section 'Package
structure' in the 'Writing R Extensions' manual.
* checking for portable file names ... OK
* checking whether package 'autonomics' can be installed ... OK
* checking installed package size ... OK
* checking package directory ... OK
* checking 'build' directory ... OK
* checking DESCRIPTION meta-information ... OK
* checking top-level files ... OK
* checking for left-over files ... OK
* checking index information ... OK
* checking package subdirectories ... OK
* checking code files for non-ASCII characters ... OK
* checking R files for syntax errors ... OK
* checking whether the package can be loaded ... OK
* checking whether the package can be loaded with stated dependencies ... OK
* checking whether the package can be unloaded cleanly ... OK
* checking whether the namespace can be loaded with stated dependencies ... OK
* checking whether the namespace can be unloaded cleanly ... OK
* checking dependencies in R code ... OK
* checking S3 generic/method consistency ... OK
* checking replacement functions ... OK
* checking foreign function calls ... OK
* checking R code for possible problems ... OK
* checking Rd files ... OK
* checking Rd metadata ... OK
* checking Rd cross-references ... NOTE
Non-topic package-anchored link(s) in Rd file 'reexports.Rd':
'[magrittr:compound]{%<>%}' '[magrittr:pipe]{%>%}'
'[magrittr:aliases]{extract}'
See section 'Cross-references' in the 'Writing R Extensions' manual.
* checking for missing documentation entries ... OK
* checking for code/documentation mismatches ... OK
* checking Rd \usage sections ... OK
* checking Rd contents ... OK
* checking for unstated dependencies in examples ... OK
* checking files in 'vignettes' ... OK
* checking examples ... OK
Examples with CPU (user + system) or elapsed time > 5s
user system elapsed
read_diann_proteingroups 153.29 6.40 156.38
read_rnaseq_counts 41.83 2.45 49.78
fit_linmod 38.92 0.47 39.56
rm_diann_contaminants 30.69 1.25 31.10
plot_exprs_per_coef 28.41 0.31 28.74
plot_exprs 26.62 0.33 27.48
default_formula 19.47 0.61 19.94
plot_summary 18.92 0.25 19.17
read_metabolon 18.77 0.16 18.92
read_somascan 18.83 0.05 18.87
analyze 17.14 0.31 17.48
plot_volcano 16.50 0.27 16.94
ftype 11.50 0.46 12.03
read_fragpipe 10.71 0.27 10.91
fcluster 8.83 0.14 9.02
extract_coef_features 8.36 0.11 8.50
plot_densities 7.97 0.20 8.18
plot_sample_nas 7.66 0.08 7.75
code 7.01 0.11 7.12
biplot_covariates 6.87 0.11 6.98
fit_survival 6.77 0.12 7.39
reset_fit 6.55 0.11 6.68
subtract_baseline 6.20 0.13 6.33
plot_subgroup_points 6.06 0.07 6.14
plot_violins 5.08 0.19 5.26
biplot 5.17 0.08 5.25
plot_survival 5.10 0.08 5.20
* checking for unstated dependencies in 'tests' ... OK
* checking tests ...
Running 'testthat.R'
OK
* checking for unstated dependencies in vignettes ... OK
* checking package vignettes ... OK
* checking running R code from vignettes ... SKIPPED
* checking re-building of vignette outputs ... SKIPPED
* checking PDF version of manual ... OK
* DONE
Status: 2 NOTEs
See
'F:/biocbuild/bbs-3.22-bioc/meat/autonomics.Rcheck/00check.log'
for details.
autonomics.Rcheck/00install.out
############################################################################## ############################################################################## ### ### Running command: ### ### F:\biocbuild\bbs-3.22-bioc\R\bin\R.exe CMD INSTALL autonomics ### ############################################################################## ############################################################################## * installing to library 'F:/biocbuild/bbs-3.22-bioc/R/library' * installing *source* package 'autonomics' ... ** this is package 'autonomics' version '1.17.0' ** using staged installation ** R ** inst ** byte-compile and prepare package for lazy loading ** help *** installing help indices ** building package indices ** installing vignettes ** testing if installed package can be loaded from temporary location ** testing if installed package can be loaded from final location ** testing if installed package keeps a record of temporary installation path * DONE (autonomics)
autonomics.Rcheck/tests/testthat.Rout
R version 4.5.1 (2025-06-13 ucrt) -- "Great Square Root"
Copyright (C) 2025 The R Foundation for Statistical Computing
Platform: x86_64-w64-mingw32/x64
R is free software and comes with ABSOLUTELY NO WARRANTY.
You are welcome to redistribute it under certain conditions.
Type 'license()' or 'licence()' for distribution details.
R is a collaborative project with many contributors.
Type 'contributors()' for more information and
'citation()' on how to cite R or R packages in publications.
Type 'demo()' for some demos, 'help()' for on-line help, or
'help.start()' for an HTML browser interface to help.
Type 'q()' to quit R.
> library(testthat)
> library(autonomics)
Attaching package: 'autonomics'
The following objects are masked from 'package:stats':
biplot, loadings
The following object is masked from 'package:base':
beta
>
> test_check("autonomics")
[ FAIL 0 | WARN 2 | SKIP 0 | PASS 158 ]
[ FAIL 0 | WARN 2 | SKIP 0 | PASS 158 ]
>
> proc.time()
user system elapsed
190.85 13.92 214.36
autonomics.Rcheck/autonomics-Ex.timings
| name | user | system | elapsed | |
| AUTONOMICS_DATASETS | 0 | 0 | 0 | |
| COMPOUNDDISCOVERER_PATTERNS | 0 | 0 | 0 | |
| FITSEP | 0 | 0 | 0 | |
| LINMODENGINES | 0 | 0 | 0 | |
| MAXQUANT_PATTERNS | 0 | 0 | 0 | |
| SURVIVALENGINES | 0 | 0 | 0 | |
| TAXON_TO_ORGNAME | 0 | 0 | 0 | |
| TESTS | 0 | 0 | 0 | |
| X | 2.83 | 0.11 | 2.98 | |
| abstract_fit | 2.19 | 0.20 | 2.39 | |
| add_adjusted_pvalues | 0.81 | 0.02 | 0.84 | |
| add_assay_means | 0.44 | 0.02 | 0.46 | |
| add_facetvars | 1.92 | 0.11 | 2.03 | |
| add_opentargets_by_uniprot | 0.53 | 0.00 | 0.55 | |
| add_psp | 0.69 | 0.06 | 0.75 | |
| add_smiles | 0.62 | 0.06 | 0.68 | |
| analysis | 0.58 | 0.05 | 0.63 | |
| analyze | 17.14 | 0.31 | 17.48 | |
| annotate_maxquant | 1.00 | 0.11 | 1.11 | |
| annotate_uniprot_rest | 0.03 | 0.01 | 1.41 | |
| assert_is_valid_sumexp | 0.56 | 0.08 | 0.64 | |
| bin | 1.24 | 0.00 | 1.23 | |
| biplot | 5.17 | 0.08 | 5.25 | |
| biplot_corrections | 4.22 | 0.08 | 4.30 | |
| biplot_covariates | 6.87 | 0.11 | 6.98 | |
| block2lme | 0 | 0 | 0 | |
| center | 2.13 | 0.00 | 2.13 | |
| code | 7.01 | 0.11 | 7.12 | |
| coefs | 0.96 | 0.09 | 1.05 | |
| collapsed_entrezg_to_symbol | 0 | 0 | 0 | |
| contrast_subgroup_cols | 0.69 | 0.10 | 0.78 | |
| count_in | 0 | 0 | 0 | |
| counts | 0.45 | 0.00 | 0.45 | |
| counts2cpm | 0.39 | 0.00 | 0.39 | |
| counts2tpm | 0.41 | 0.00 | 0.41 | |
| cpm | 0.44 | 0.00 | 0.44 | |
| create_design | 0.81 | 0.06 | 0.88 | |
| default_formula | 19.47 | 0.61 | 19.94 | |
| default_geom | 0.59 | 0.01 | 0.61 | |
| default_sfile | 0 | 0 | 0 | |
| demultiplex | 0.02 | 0.00 | 0.01 | |
| dequantify | 0 | 0 | 0 | |
| dequantify_compounddiscoverer | 0 | 0 | 0 | |
| dot-coxph | 0.45 | 0.04 | 0.49 | |
| dot-merge | 0.03 | 0.00 | 0.03 | |
| dot-read_maxquant_proteingroups | 0.10 | 0.01 | 0.11 | |
| download_data | 0 | 0 | 0 | |
| download_gtf | 0 | 0 | 0 | |
| download_mcclain21 | 0 | 0 | 0 | |
| dt2mat | 0.01 | 0.00 | 0.02 | |
| enrichment | 2.38 | 0.00 | 2.37 | |
| entrezg_to_symbol | 0 | 0 | 0 | |
| extract_coef_features | 8.36 | 0.11 | 8.50 | |
| extract_rectangle | 0.18 | 0.06 | 0.25 | |
| fcluster | 8.83 | 0.14 | 9.02 | |
| fcor | 1.42 | 0.07 | 1.48 | |
| fdata | 0.61 | 0.01 | 0.63 | |
| fdr2p | 1.36 | 0.06 | 1.42 | |
| filter_exprs_replicated_in_some_subgroup | 1.32 | 0.11 | 1.42 | |
| filter_features | 0.71 | 0.05 | 0.76 | |
| filter_medoid | 1.04 | 0.03 | 1.07 | |
| filter_samples | 0.68 | 0.05 | 0.75 | |
| fit_linmod | 38.92 | 0.47 | 39.56 | |
| fit_survival | 6.77 | 0.12 | 7.39 | |
| fitcoefs | 1.14 | 0.11 | 1.25 | |
| fits | 0.90 | 0.08 | 0.99 | |
| fix_xlgenes | 0.02 | 0.00 | 0.01 | |
| flevels | 0.65 | 0.00 | 0.66 | |
| fnames | 0.57 | 0.00 | 0.56 | |
| formula2str | 0 | 0 | 0 | |
| ftype | 11.50 | 0.46 | 12.03 | |
| fvalues | 0.45 | 0.00 | 0.47 | |
| fvars | 0.55 | 0.02 | 0.56 | |
| genome_to_orgdb | 0 | 0 | 0 | |
| group_by_level | 0 | 0 | 0 | |
| guess_compounddiscoverer_quantity | 0 | 0 | 0 | |
| guess_fitsep | 0.63 | 0.03 | 0.65 | |
| guess_maxquant_quantity | 0 | 0 | 0 | |
| guess_sep | 0.44 | 0.08 | 0.52 | |
| has_multiple_levels | 0.06 | 0.00 | 0.06 | |
| hdlproteins | 0.08 | 0.00 | 0.30 | |
| impute | 3.78 | 0.05 | 3.84 | |
| invert_subgroups | 0.78 | 0.03 | 0.83 | |
| is_collapsed_subset | 0 | 0 | 0 | |
| is_correlation_matrix | 0 | 0 | 0 | |
| is_diann_report | 0.33 | 0.09 | 0.55 | |
| is_fastadt | 0.06 | 0.00 | 0.06 | |
| is_file | 0 | 0 | 0 | |
| is_fraction | 0 | 0 | 0 | |
| is_imputed | 0.92 | 0.03 | 0.95 | |
| is_positive_number | 0 | 0 | 0 | |
| is_scalar_subset | 0.38 | 0.00 | 0.39 | |
| is_sig | 2.07 | 0.03 | 2.11 | |
| is_valid_formula | 0.07 | 0.00 | 0.07 | |
| keep_connected_blocks | 0.68 | 0.07 | 0.75 | |
| keep_connected_features | 0.74 | 0.07 | 0.81 | |
| keep_replicated_features | 0.80 | 0.11 | 0.91 | |
| label2index | 0 | 0 | 0 | |
| list2mat | 0 | 0 | 0 | |
| log2counts | 0.34 | 0.00 | 0.34 | |
| log2cpm | 0.38 | 0.02 | 0.39 | |
| log2diffs | 0.34 | 0.01 | 0.36 | |
| log2proteins | 0.39 | 0.00 | 0.41 | |
| log2sites | 0.45 | 0.00 | 0.45 | |
| log2tpm | 0.42 | 0.00 | 0.42 | |
| log2transform | 4.21 | 0.10 | 4.47 | |
| logical2factor | 0 | 0 | 0 | |
| make_alpha_palette | 0.61 | 0.05 | 0.65 | |
| make_colors | 0.01 | 0.00 | 0.02 | |
| make_volcano_dt | 0.91 | 0.02 | 0.92 | |
| map_fvalues | 0.47 | 0.01 | 0.48 | |
| matrix2sumexp | 1.12 | 0.06 | 1.22 | |
| merge_sample_file | 0.69 | 0.00 | 0.71 | |
| merge_sdata | 0.67 | 0.10 | 0.76 | |
| message_df | 0 | 0 | 0 | |
| model_coefs | 0.86 | 0.11 | 0.97 | |
| modelvar | 4.83 | 0.12 | 4.96 | |
| order_on_p | 1.67 | 0.08 | 1.77 | |
| pca | 3.51 | 0.11 | 3.63 | |
| pg_to_canonical | 0.02 | 0.00 | 0.01 | |
| plot_coef_densities | 1.72 | 0.11 | 1.83 | |
| plot_contrast_venn | 2.65 | 0.17 | 2.83 | |
| plot_contrastogram | 2.58 | 0.14 | 3.06 | |
| plot_data | 1.16 | 0.05 | 1.48 | |
| plot_densities | 7.97 | 0.20 | 8.18 | |
| plot_design | 0.75 | 0.02 | 1.03 | |
| plot_exprs | 26.62 | 0.33 | 27.48 | |
| plot_exprs_per_coef | 28.41 | 0.31 | 28.74 | |
| plot_fit_summary | 2.37 | 0.12 | 2.51 | |
| plot_heatmap | 2.80 | 0.11 | 2.92 | |
| plot_joint_density | 3.58 | 0.14 | 3.91 | |
| plot_matrix | 0.45 | 0.10 | 0.55 | |
| plot_sample_nas | 7.66 | 0.08 | 7.75 | |
| plot_subgroup_points | 6.06 | 0.07 | 6.14 | |
| plot_summary | 18.92 | 0.25 | 19.17 | |
| plot_survival | 5.10 | 0.08 | 5.20 | |
| plot_venn | 0 | 0 | 0 | |
| plot_venn_heatmap | 0.03 | 0.00 | 0.03 | |
| plot_violins | 5.08 | 0.19 | 5.26 | |
| plot_volcano | 16.50 | 0.27 | 16.94 | |
| preprocess_rnaseq_counts | 0.63 | 0.02 | 0.65 | |
| pull_columns | 0 | 0 | 0 | |
| read_affymetrix | 0 | 0 | 0 | |
| read_diann_proteingroups | 153.29 | 6.40 | 156.38 | |
| read_fragpipe | 10.71 | 0.27 | 10.91 | |
| read_maxquant_phosphosites | 1.68 | 0.08 | 1.80 | |
| read_maxquant_proteingroups | 1.78 | 0.08 | 1.87 | |
| read_metabolon | 18.77 | 0.16 | 18.92 | |
| read_msigdt | 0 | 0 | 0 | |
| read_olink | 1.85 | 0.09 | 2.63 | |
| read_rectangles | 0.22 | 0.08 | 0.31 | |
| read_rnaseq_counts | 41.83 | 2.45 | 49.78 | |
| read_salmon | 0 | 0 | 0 | |
| read_somascan | 18.83 | 0.05 | 18.87 | |
| read_uniprotdt | 0.36 | 0.04 | 0.41 | |
| reset_fit | 6.55 | 0.11 | 6.68 | |
| rm_diann_contaminants | 30.69 | 1.25 | 31.10 | |
| rm_missing_in_some_samples | 0.62 | 0.10 | 0.72 | |
| rm_unmatched_samples | 0.89 | 0.00 | 0.90 | |
| scaledlibsizes | 0.40 | 0.00 | 0.39 | |
| scoremat | 1.25 | 0.08 | 1.33 | |
| slevels | 0.43 | 0.01 | 0.47 | |
| snames | 0.55 | 0.00 | 0.54 | |
| split_extract_fixed | 0.70 | 0.14 | 0.85 | |
| split_samples | 1.64 | 0.12 | 1.76 | |
| stri_any_regex | 0 | 0 | 0 | |
| stri_detect_fixed_in_collapsed | 0.49 | 0.02 | 0.52 | |
| subgroup_matrix | 0.58 | 0.12 | 0.70 | |
| subtract_baseline | 6.20 | 0.13 | 6.33 | |
| sumexp_to_longdt | 2.50 | 0.15 | 2.64 | |
| sumexp_to_tsv | 0.50 | 0.02 | 0.56 | |
| sumexplist_to_longdt | 1.70 | 0.05 | 1.77 | |
| summarize_fit | 1.70 | 0.04 | 1.75 | |
| svalues | 0.44 | 0.02 | 0.46 | |
| svars | 0.37 | 0.00 | 0.37 | |
| systematic_nas | 0.49 | 0.02 | 0.52 | |
| tag_features | 0.98 | 0.06 | 1.04 | |
| tag_hdlproteins | 0.56 | 0.08 | 0.72 | |
| taxon2org | 0 | 0 | 0 | |
| tpm | 0.52 | 0.01 | 0.53 | |
| uncollapse | 0.03 | 0.00 | 0.03 | |
| values | 0.60 | 0.02 | 0.61 | |
| varlevels_dont_clash | 0.01 | 0.00 | 0.02 | |
| venn_detects | 0.61 | 0.06 | 0.67 | |
| weights | 0.34 | 0.03 | 0.38 | |
| write_xl | 0.60 | 0.11 | 0.70 | |
| zero_to_na | 0 | 0 | 0 | |