Back to Multiple platform build/check report for BioC 3.22: simplified long |
|
This page was generated on 2025-10-18 12:05 -0400 (Sat, 18 Oct 2025).
Hostname | OS | Arch (*) | R version | Installed pkgs |
---|---|---|---|---|
nebbiolo2 | Linux (Ubuntu 24.04.3 LTS) | x86_64 | 4.5.1 Patched (2025-08-23 r88802) -- "Great Square Root" | 4887 |
lconway | macOS 12.7.6 Monterey | x86_64 | 4.5.1 Patched (2025-09-10 r88807) -- "Great Square Root" | 4677 |
kjohnson3 | macOS 13.7.7 Ventura | arm64 | 4.5.1 Patched (2025-09-10 r88807) -- "Great Square Root" | 4622 |
taishan | Linux (openEuler 24.03 LTS) | aarch64 | 4.5.0 (2025-04-11) -- "How About a Twenty-Six" | 4632 |
Click on any hostname to see more info about the system (e.g. compilers) (*) as reported by 'uname -p', except on Windows and Mac OS X |
Package 118/2353 | Hostname | OS / Arch | INSTALL | BUILD | CHECK | BUILD BIN | ||||||||
autonomics 1.17.16 (landing page) Aditya Bhagwat
| nebbiolo2 | Linux (Ubuntu 24.04.3 LTS) / x86_64 | OK | OK | OK | ![]() | ||||||||
lconway | macOS 12.7.6 Monterey / x86_64 | OK | OK | OK | OK | ![]() | ||||||||
kjohnson3 | macOS 13.7.7 Ventura / arm64 | OK | OK | OK | OK | ![]() | ||||||||
taishan | Linux (openEuler 24.03 LTS) / aarch64 | OK | OK | TIMEOUT | ||||||||||
To the developers/maintainers of the autonomics package: - Allow up to 24 hours (and sometimes 48 hours) for your latest push to git@git.bioconductor.org:packages/autonomics.git to reflect on this report. See Troubleshooting Build Report for more information. - Use the following Renviron settings to reproduce errors and warnings. - If 'R CMD check' started to fail recently on the Linux builder(s) over a missing dependency, add the missing dependency to 'Suggests:' in your DESCRIPTION file. See Renviron.bioc for more information. |
Package: autonomics |
Version: 1.17.16 |
Command: /Library/Frameworks/R.framework/Resources/bin/R CMD check --install=check:autonomics.install-out.txt --library=/Library/Frameworks/R.framework/Resources/library --no-vignettes --timings autonomics_1.17.16.tar.gz |
StartedAt: 2025-10-17 18:32:25 -0400 (Fri, 17 Oct 2025) |
EndedAt: 2025-10-17 18:39:08 -0400 (Fri, 17 Oct 2025) |
EllapsedTime: 402.6 seconds |
RetCode: 0 |
Status: OK |
CheckDir: autonomics.Rcheck |
Warnings: 0 |
############################################################################## ############################################################################## ### ### Running command: ### ### /Library/Frameworks/R.framework/Resources/bin/R CMD check --install=check:autonomics.install-out.txt --library=/Library/Frameworks/R.framework/Resources/library --no-vignettes --timings autonomics_1.17.16.tar.gz ### ############################################################################## ############################################################################## * using log directory ‘/Users/biocbuild/bbs-3.22-bioc/meat/autonomics.Rcheck’ * using R version 4.5.1 Patched (2025-09-10 r88807) * using platform: aarch64-apple-darwin20 * R was compiled by Apple clang version 16.0.0 (clang-1600.0.26.6) GNU Fortran (GCC) 14.2.0 * running under: macOS Ventura 13.7.7 * using session charset: UTF-8 * using option ‘--no-vignettes’ * checking for file ‘autonomics/DESCRIPTION’ ... OK * checking extension type ... Package * this is package ‘autonomics’ version ‘1.17.16’ * package encoding: UTF-8 * checking package namespace information ... OK * checking package dependencies ... INFO Imports includes 32 non-default packages. Importing from so many packages makes the package vulnerable to any of them becoming unavailable. Move as many as possible to Suggests and use conditionally. * checking if this is a source package ... OK * checking if there is a namespace ... OK * checking for hidden files and directories ... NOTE Found the following hidden files and directories: .BBSoptions These were most likely included in error. See section ‘Package structure’ in the ‘Writing R Extensions’ manual. * checking for portable file names ... OK * checking for sufficient/correct file permissions ... OK * checking whether package ‘autonomics’ can be installed ... OK * checking installed package size ... OK * checking package directory ... OK * checking ‘build’ directory ... OK * checking DESCRIPTION meta-information ... OK * checking top-level files ... OK * checking for left-over files ... OK * checking index information ... OK * checking package subdirectories ... OK * checking code files for non-ASCII characters ... OK * checking R files for syntax errors ... OK * checking whether the package can be loaded ... OK * checking whether the package can be loaded with stated dependencies ... OK * checking whether the package can be unloaded cleanly ... OK * checking whether the namespace can be loaded with stated dependencies ... OK * checking whether the namespace can be unloaded cleanly ... OK * checking dependencies in R code ... OK * checking S3 generic/method consistency ... OK * checking replacement functions ... OK * checking foreign function calls ... OK * checking R code for possible problems ... OK * checking Rd files ... OK * checking Rd metadata ... OK * checking Rd cross-references ... NOTE Non-topic package-anchored link(s) in Rd file 'reexports.Rd': ‘[magrittr:compound]{%<>%}’ ‘[magrittr:pipe]{%>%}’ ‘[magrittr:aliases]{extract}’ See section 'Cross-references' in the 'Writing R Extensions' manual. * checking for missing documentation entries ... OK * checking for code/documentation mismatches ... OK * checking Rd \usage sections ... OK * checking Rd contents ... OK * checking for unstated dependencies in examples ... OK * checking files in ‘vignettes’ ... OK * checking examples ... OK Examples with CPU (user + system) or elapsed time > 5s user system elapsed write_xl 53.133 2.120 58.059 read_diann_proteingroups 34.533 0.940 35.635 awblinmod 12.462 0.086 13.001 read_rnaseq_counts 9.432 0.830 10.463 rm_diann_contaminants 7.506 0.226 8.066 LINMOD 7.182 0.112 7.852 plot_exprs 6.319 0.058 6.726 default_formula 5.851 0.251 6.129 plot_exprs_per_coef 5.819 0.027 6.030 * checking for unstated dependencies in ‘tests’ ... OK * checking tests ... Running ‘testthat.R’ OK * checking for unstated dependencies in vignettes ... OK * checking package vignettes ... OK * checking running R code from vignettes ... SKIPPED * checking re-building of vignette outputs ... SKIPPED * checking PDF version of manual ... OK * DONE Status: 2 NOTEs See ‘/Users/biocbuild/bbs-3.22-bioc/meat/autonomics.Rcheck/00check.log’ for details.
autonomics.Rcheck/00install.out
############################################################################## ############################################################################## ### ### Running command: ### ### /Library/Frameworks/R.framework/Resources/bin/R CMD INSTALL autonomics ### ############################################################################## ############################################################################## * installing to library ‘/Library/Frameworks/R.framework/Versions/4.5-arm64/Resources/library’ * installing *source* package ‘autonomics’ ... ** this is package ‘autonomics’ version ‘1.17.16’ ** using staged installation ** R ** inst ** byte-compile and prepare package for lazy loading Note: wrong number of arguments to 'seq_along' Note: wrong number of arguments to 'sqrt' ** help *** installing help indices ** building package indices ** installing vignettes ** testing if installed package can be loaded from temporary location ** testing if installed package can be loaded from final location ** testing if installed package keeps a record of temporary installation path * DONE (autonomics)
autonomics.Rcheck/tests/testthat.Rout
R version 4.5.1 Patched (2025-09-10 r88807) -- "Great Square Root" Copyright (C) 2025 The R Foundation for Statistical Computing Platform: aarch64-apple-darwin20 R is free software and comes with ABSOLUTELY NO WARRANTY. You are welcome to redistribute it under certain conditions. Type 'license()' or 'licence()' for distribution details. R is a collaborative project with many contributors. Type 'contributors()' for more information and 'citation()' on how to cite R or R packages in publications. Type 'demo()' for some demos, 'help()' for on-line help, or 'help.start()' for an HTML browser interface to help. Type 'q()' to quit R. > library(testthat) > library(autonomics) Attaching package: 'autonomics' The following objects are masked from 'package:stats': biplot, loadings The following object is masked from 'package:base': beta > > test_check("autonomics") [ FAIL 0 | WARN 3 | SKIP 0 | PASS 158 ] [ FAIL 0 | WARN 3 | SKIP 0 | PASS 158 ] > > proc.time() user system elapsed 52.574 3.388 58.388
autonomics.Rcheck/autonomics-Ex.timings
name | user | system | elapsed | |
AUTONOMICS_DATASETS | 0.000 | 0.000 | 0.001 | |
COMPOUNDDISCOVERER_PATTERNS | 0 | 0 | 0 | |
LINMOD | 7.182 | 0.112 | 7.852 | |
LINMODENGINES | 0 | 0 | 0 | |
MAXQUANT_PATTERNS | 0.000 | 0.001 | 0.001 | |
TAXON_TO_ORGNAME | 0 | 0 | 0 | |
TESTS | 0 | 0 | 0 | |
X | 0.362 | 0.019 | 0.409 | |
abstract_fit | 0.309 | 0.019 | 0.401 | |
add_adjusted_pvalues | 0.169 | 0.005 | 0.217 | |
add_assay_means | 0.103 | 0.002 | 0.106 | |
add_facetvars | 0.416 | 0.025 | 0.556 | |
add_opentargets_by_uniprot | 0.127 | 0.002 | 0.177 | |
add_psp | 0.157 | 0.005 | 0.169 | |
add_smiles | 0.139 | 0.014 | 0.155 | |
all_non_numeric | 0.164 | 0.001 | 0.165 | |
analysis | 0.118 | 0.002 | 0.120 | |
analyze | 3.935 | 0.046 | 4.034 | |
annotate_maxquant | 0.322 | 0.021 | 0.345 | |
annotate_uniprot_rest | 0.038 | 0.008 | 2.028 | |
assert_is_valid_sumexp | 0.234 | 0.015 | 0.267 | |
awblinmod | 12.462 | 0.086 | 13.001 | |
biplot | 1.163 | 0.024 | 1.423 | |
biplot_corrections | 1.061 | 0.019 | 1.197 | |
biplot_covariates | 2.147 | 0.025 | 2.393 | |
block2limma | 0.001 | 0.000 | 0.001 | |
block2lm | 0.001 | 0.001 | 0.003 | |
block2lme | 0.001 | 0.000 | 0.001 | |
block2lmer | 0.001 | 0.001 | 0.002 | |
block_has_two_levels | 0.214 | 0.017 | 0.322 | |
center | 0.574 | 0.010 | 0.702 | |
code | 1.422 | 0.020 | 1.544 | |
collapsed_entrezg_to_symbol | 0.302 | 0.020 | 0.335 | |
contrast_subgroup_cols | 0.194 | 0.016 | 0.211 | |
contrastdt | 0.182 | 0.001 | 0.191 | |
count_in | 0.000 | 0.001 | 0.000 | |
counts | 0.106 | 0.001 | 0.107 | |
counts2cpm | 0.093 | 0.000 | 0.098 | |
counts2tpm | 0.081 | 0.001 | 0.093 | |
cpm | 0.100 | 0.001 | 0.101 | |
create_design | 0.222 | 0.014 | 0.276 | |
default_formula | 5.851 | 0.251 | 6.129 | |
default_geom | 0.157 | 0.024 | 0.207 | |
default_sfile | 0.001 | 0.000 | 0.001 | |
demultiplex | 0.004 | 0.001 | 0.005 | |
densities | 0.068 | 0.005 | 0.074 | |
dequantify | 0.001 | 0.001 | 0.001 | |
dequantify_compounddiscoverer | 0.001 | 0.000 | 0.000 | |
dot-coxph | 0.154 | 0.011 | 0.177 | |
dot-merge | 0.009 | 0.001 | 0.010 | |
dot-read_maxquant_proteingroups | 0.046 | 0.001 | 0.048 | |
download_data | 0 | 0 | 0 | |
download_gtf | 0 | 0 | 0 | |
download_mcclain21 | 0 | 0 | 0 | |
dt2mat | 0.002 | 0.000 | 0.001 | |
enrichment | 0.345 | 0.002 | 0.350 | |
entrezg_to_symbol | 0.049 | 0.002 | 0.050 | |
explore-transforms | 3.041 | 0.026 | 3.114 | |
extract_contrast_features | 1.336 | 0.018 | 1.433 | |
extract_rectangle | 0.044 | 0.015 | 0.059 | |
factor.vars | 0.049 | 0.000 | 0.049 | |
factorize | 0.250 | 0.004 | 0.259 | |
fcluster | 2.884 | 0.016 | 3.110 | |
fcor | 0.511 | 0.011 | 0.538 | |
fdata | 0.161 | 0.003 | 0.167 | |
fdr2p | 0.301 | 0.014 | 0.324 | |
filter_exprs_replicated_in_some_subgroup | 0.288 | 0.015 | 0.303 | |
filter_features | 0.161 | 0.016 | 0.195 | |
filter_medoid | 0.159 | 0.001 | 0.162 | |
filter_samples | 0.191 | 0.013 | 0.205 | |
fit_survival | 3.289 | 0.062 | 3.410 | |
fits | 0.09 | 0.00 | 0.09 | |
fix_xlgenes | 0 | 0 | 0 | |
flevels | 0.120 | 0.001 | 0.122 | |
fnames | 0.131 | 0.002 | 0.142 | |
formula2str | 0 | 0 | 0 | |
ftype | 2.586 | 0.116 | 2.822 | |
fvalues | 0.163 | 0.002 | 0.170 | |
fvars | 0.122 | 0.001 | 0.130 | |
genome_to_orgdb | 0 | 0 | 0 | |
group_by_level | 0.001 | 0.001 | 0.000 | |
guess_compounddiscoverer_quantity | 0.000 | 0.000 | 0.001 | |
guess_fitsep | 0.132 | 0.001 | 0.135 | |
guess_maxquant_quantity | 0.002 | 0.001 | 0.003 | |
guess_sep | 0.168 | 0.014 | 0.220 | |
has_multiple_levels | 0.017 | 0.000 | 0.018 | |
hdlproteins | 0.019 | 0.010 | 0.031 | |
impute | 1.066 | 0.005 | 1.088 | |
invert_subgroups | 0.175 | 0.002 | 0.178 | |
is_character_matrix | 0.070 | 0.000 | 0.071 | |
is_collapsed_subset | 0.000 | 0.000 | 0.001 | |
is_compounddiscoverer_output | 0.036 | 0.005 | 0.067 | |
is_correlation_matrix | 0.001 | 0.000 | 0.000 | |
is_diann_report | 0.053 | 0.004 | 0.058 | |
is_fastadt | 0.021 | 0.000 | 0.021 | |
is_file | 0.000 | 0.000 | 0.001 | |
is_fraction | 0.001 | 0.000 | 0.000 | |
is_fragpipe_tsv | 0.048 | 0.004 | 0.044 | |
is_imputed | 0.206 | 0.001 | 0.224 | |
is_maxquant_phosphosites | 0.031 | 0.002 | 0.033 | |
is_maxquant_proteingroups | 0.034 | 0.003 | 0.031 | |
is_positive_number | 0.000 | 0.000 | 0.001 | |
is_scalar_subset | 0.092 | 0.002 | 0.093 | |
is_sig | 0.422 | 0.004 | 0.435 | |
is_valid_formula | 0.013 | 0.001 | 0.013 | |
keep_estimable_features | 0.262 | 0.021 | 0.309 | |
label2index | 0 | 0 | 0 | |
list2mat | 0.000 | 0.000 | 0.001 | |
log2counts | 0.088 | 0.001 | 0.089 | |
log2cpm | 0.091 | 0.001 | 0.092 | |
log2diffs | 0.122 | 0.001 | 0.127 | |
log2proteins | 0.098 | 0.002 | 0.100 | |
log2sites | 0.092 | 0.001 | 0.098 | |
log2tpm | 0.085 | 0.001 | 0.086 | |
log2transform | 1.601 | 0.017 | 1.648 | |
logical2factor | 0.000 | 0.000 | 0.001 | |
make_alpha_palette | 0.154 | 0.014 | 0.172 | |
make_colors | 0.004 | 0.000 | 0.004 | |
make_volcano_dt | 0.771 | 0.008 | 0.830 | |
map_fvalues | 0.108 | 0.002 | 0.112 | |
matrix2sumexp | 0.319 | 0.017 | 0.405 | |
mclust_breaks | 0.183 | 0.021 | 0.210 | |
merge_sample_file | 0.182 | 0.003 | 0.188 | |
merge_sdata | 0.155 | 0.017 | 0.196 | |
message_df | 0.000 | 0.000 | 0.001 | |
model_coefs | 0.219 | 0.017 | 0.263 | |
modelvar | 0.993 | 0.022 | 1.110 | |
object1 | 0.160 | 0.002 | 0.165 | |
order_on_p | 0.390 | 0.022 | 0.434 | |
overall_parameters | 0.009 | 0.001 | 0.009 | |
pca | 0.973 | 0.019 | 1.057 | |
pg_to_canonical | 0.002 | 0.000 | 0.002 | |
plot_coef_densities | 0.407 | 0.016 | 0.483 | |
plot_contrast_venn | 0.651 | 0.022 | 0.886 | |
plot_contrastogram | 1.064 | 0.049 | 1.195 | |
plot_data | 0.622 | 0.022 | 0.688 | |
plot_densities | 3.132 | 0.116 | 3.477 | |
plot_design | 0.215 | 0.002 | 0.228 | |
plot_detections | 2.289 | 0.011 | 2.414 | |
plot_exprs | 6.319 | 0.058 | 6.726 | |
plot_exprs_per_coef | 5.819 | 0.027 | 6.030 | |
plot_fit_summary | 0.666 | 0.017 | 0.793 | |
plot_heatmap | 0.629 | 0.004 | 0.656 | |
plot_matrix | 0.190 | 0.017 | 0.244 | |
plot_subgroup_points | 1.850 | 0.024 | 1.970 | |
plot_summary | 4.095 | 0.023 | 4.322 | |
plot_venn | 0.008 | 0.000 | 0.009 | |
plot_venn_heatmap | 0.008 | 0.002 | 0.008 | |
plot_violins | 1.559 | 0.042 | 1.648 | |
plot_volcano | 4.153 | 0.051 | 4.295 | |
plot_xy_density | 1.980 | 0.013 | 2.043 | |
preprocess_rnaseq_counts | 0.095 | 0.001 | 0.095 | |
pull_columns | 0.001 | 0.000 | 0.001 | |
pvalues_estimable | 0.011 | 0.002 | 0.013 | |
read_affymetrix | 0 | 0 | 0 | |
read_diann_proteingroups | 34.533 | 0.940 | 35.635 | |
read_fragpipe | 2.711 | 0.113 | 2.783 | |
read_maxquant_phosphosites | 0.474 | 0.007 | 0.504 | |
read_maxquant_proteingroups | 0.361 | 0.008 | 0.369 | |
read_metabolon | 3.676 | 0.025 | 3.884 | |
read_msigdt | 0 | 0 | 0 | |
read_olink | 0.504 | 0.023 | 0.655 | |
read_rectangles | 0.065 | 0.012 | 0.085 | |
read_rnaseq_counts | 9.432 | 0.830 | 10.463 | |
read_salmon | 0 | 0 | 0 | |
read_somascan | 3.987 | 0.013 | 4.239 | |
read_uniprotdt | 0.106 | 0.006 | 0.115 | |
reset_fit | 1.406 | 0.031 | 1.687 | |
rm_diann_contaminants | 7.506 | 0.226 | 8.066 | |
rm_missing_in_some_samples | 0.153 | 0.015 | 0.168 | |
rm_unmatched_samples | 0.232 | 0.005 | 0.244 | |
sbind | 1.331 | 0.006 | 1.362 | |
scaledlibsizes | 0.098 | 0.001 | 0.104 | |
scoremat | 0.280 | 0.016 | 0.331 | |
slevels | 0.123 | 0.002 | 0.128 | |
snames | 0.124 | 0.002 | 0.125 | |
split_extract_fixed | 0.189 | 0.015 | 0.231 | |
split_samples | 0.380 | 0.014 | 0.485 | |
stepauc | 0.107 | 0.001 | 0.107 | |
stri_any_regex | 0 | 0 | 0 | |
stri_detect_fixed_in_collapsed | 0.097 | 0.001 | 0.099 | |
subgroup_matrix | 0.193 | 0.014 | 0.217 | |
subtract_baseline | 1.552 | 0.030 | 1.599 | |
sumexp_to_longdt | 0.598 | 0.027 | 0.638 | |
sumexp_to_tsv | 0.144 | 0.002 | 0.150 | |
sumexplist_to_longdt | 0.490 | 0.006 | 0.557 | |
summarize_fit | 0.542 | 0.015 | 0.666 | |
survobj | 0.044 | 0.001 | 0.051 | |
svalues | 0.126 | 0.001 | 0.128 | |
svars | 0.125 | 0.002 | 0.132 | |
systematic_nas | 0.204 | 0.002 | 0.206 | |
tag_features | 0.436 | 0.013 | 0.454 | |
tag_hdlproteins | 0.213 | 0.013 | 0.241 | |
taxon2org | 0.000 | 0.000 | 0.001 | |
tpm | 0.101 | 0.001 | 0.119 | |
uncollapse | 0.009 | 0.000 | 0.015 | |
values | 0.132 | 0.002 | 0.151 | |
varlevels_dont_clash | 0.011 | 0.000 | 0.019 | |
venn_detects | 0.213 | 0.005 | 0.278 | |
weights | 0.098 | 0.000 | 0.123 | |
write_xl | 53.133 | 2.120 | 58.059 | |
zero_to_na | 0.001 | 0.000 | 0.001 | |