Back to Multiple platform build/check report for BioC 3.22:   simplified   long
ABCDEFGHIJKLMNOPQ[R]STUVWXYZ

This page was generated on 2025-10-20 12:05 -0400 (Mon, 20 Oct 2025).

HostnameOSArch (*)R versionInstalled pkgs
nebbiolo2Linux (Ubuntu 24.04.3 LTS)x86_644.5.1 Patched (2025-08-23 r88802) -- "Great Square Root" 4887
lconwaymacOS 12.7.6 Montereyx86_644.5.1 Patched (2025-09-10 r88807) -- "Great Square Root" 4677
kjohnson3macOS 13.7.7 Venturaarm644.5.1 Patched (2025-09-10 r88807) -- "Great Square Root" 4622
taishanLinux (openEuler 24.03 LTS)aarch644.5.0 (2025-04-11) -- "How About a Twenty-Six" 4632
Click on any hostname to see more info about the system (e.g. compilers)      (*) as reported by 'uname -p', except on Windows and Mac OS X

Package 1694/2353HostnameOS / ArchINSTALLBUILDCHECKBUILD BIN
RAIDS 1.7.3  (landing page)
Pascal Belleau
Snapshot Date: 2025-10-19 13:45 -0400 (Sun, 19 Oct 2025)
git_url: https://git.bioconductor.org/packages/RAIDS
git_branch: devel
git_last_commit: 3a182eb
git_last_commit_date: 2025-10-07 16:32:58 -0400 (Tue, 07 Oct 2025)
nebbiolo2Linux (Ubuntu 24.04.3 LTS) / x86_64  OK    OK    OK  UNNEEDED, same version is already published
lconwaymacOS 12.7.6 Monterey / x86_64  OK    OK    OK    OK  UNNEEDED, same version is already published
kjohnson3macOS 13.7.7 Ventura / arm64  OK    OK    OK    OK  UNNEEDED, same version is already published
taishanLinux (openEuler 24.03 LTS) / aarch64  OK    OK    OK  


CHECK results for RAIDS on lconway

To the developers/maintainers of the RAIDS package:
- Allow up to 24 hours (and sometimes 48 hours) for your latest push to git@git.bioconductor.org:packages/RAIDS.git to reflect on this report. See Troubleshooting Build Report for more information.
- Use the following Renviron settings to reproduce errors and warnings.
- If 'R CMD check' started to fail recently on the Linux builder(s) over a missing dependency, add the missing dependency to 'Suggests:' in your DESCRIPTION file. See Renviron.bioc for more information.

raw results


Summary

Package: RAIDS
Version: 1.7.3
Command: /Library/Frameworks/R.framework/Resources/bin/R CMD check --install=check:RAIDS.install-out.txt --library=/Library/Frameworks/R.framework/Resources/library --no-vignettes --timings RAIDS_1.7.3.tar.gz
StartedAt: 2025-10-20 00:57:51 -0400 (Mon, 20 Oct 2025)
EndedAt: 2025-10-20 01:06:15 -0400 (Mon, 20 Oct 2025)
EllapsedTime: 504.8 seconds
RetCode: 0
Status:   OK  
CheckDir: RAIDS.Rcheck
Warnings: 0

Command output

##############################################################################
##############################################################################
###
### Running command:
###
###   /Library/Frameworks/R.framework/Resources/bin/R CMD check --install=check:RAIDS.install-out.txt --library=/Library/Frameworks/R.framework/Resources/library --no-vignettes --timings RAIDS_1.7.3.tar.gz
###
##############################################################################
##############################################################################


* using log directory ‘/Users/biocbuild/bbs-3.22-bioc/meat/RAIDS.Rcheck’
* using R version 4.5.1 Patched (2025-09-10 r88807)
* using platform: x86_64-apple-darwin20
* R was compiled by
    Apple clang version 14.0.0 (clang-1400.0.29.202)
    GNU Fortran (GCC) 14.2.0
* running under: macOS Monterey 12.7.6
* using session charset: UTF-8
* using option ‘--no-vignettes’
* checking for file ‘RAIDS/DESCRIPTION’ ... OK
* checking extension type ... Package
* this is package ‘RAIDS’ version ‘1.7.3’
* package encoding: UTF-8
* checking package namespace information ... OK
* checking package dependencies ... OK
* checking if this is a source package ... OK
* checking if there is a namespace ... OK
* checking for hidden files and directories ... OK
* checking for portable file names ... OK
* checking for sufficient/correct file permissions ... OK
* checking whether package ‘RAIDS’ can be installed ... OK
* checking installed package size ... OK
* checking package directory ... OK
* checking ‘build’ directory ... OK
* checking DESCRIPTION meta-information ... OK
* checking top-level files ... OK
* checking for left-over files ... OK
* checking index information ... OK
* checking package subdirectories ... OK
* checking code files for non-ASCII characters ... OK
* checking R files for syntax errors ... OK
* checking whether the package can be loaded ... OK
* checking whether the package can be loaded with stated dependencies ... OK
* checking whether the package can be unloaded cleanly ... OK
* checking whether the namespace can be loaded with stated dependencies ... OK
* checking whether the namespace can be unloaded cleanly ... OK
* checking dependencies in R code ... OK
* checking S3 generic/method consistency ... OK
* checking replacement functions ... OK
* checking foreign function calls ... OK
* checking R code for possible problems ... OK
* checking Rd files ... OK
* checking Rd metadata ... OK
* checking Rd cross-references ... OK
* checking for missing documentation entries ... OK
* checking for code/documentation mismatches ... OK
* checking Rd \usage sections ... NOTE
Documented arguments not in \usage in Rd file 'wrapperAncestry.Rd':
  ‘pathGeno’

Functions with \usage entries need to have the appropriate \alias
entries, and all their arguments documented.
The \usage entries must correspond to syntactically valid R code.
See chapter ‘Writing R documentation files’ in the ‘Writing R
Extensions’ manual.
* checking Rd contents ... OK
* checking for unstated dependencies in examples ... OK
* checking contents of ‘data’ directory ... OK
* checking data for non-ASCII characters ... OK
* checking data for ASCII and uncompressed saves ... OK
* checking files in ‘vignettes’ ... OK
* checking examples ... OK
Examples with CPU (user + system) or elapsed time > 5s
                                  user system elapsed
computeAncestryFromSyntheticFile 7.552  0.248   7.845
selParaPCAUpQuartile             6.356  0.035   6.410
readSNVVCF                       5.997  0.063   6.084
readSNVBAM                       5.853  0.025   5.900
* checking for unstated dependencies in ‘tests’ ... OK
* checking tests ...
  Running ‘testthat.R’
 OK
* checking for unstated dependencies in vignettes ... OK
* checking package vignettes ... OK
* checking running R code from vignettes ... SKIPPED
* checking re-building of vignette outputs ... SKIPPED
* checking PDF version of manual ... OK
* DONE

Status: 1 NOTE
See
  ‘/Users/biocbuild/bbs-3.22-bioc/meat/RAIDS.Rcheck/00check.log’
for details.


Installation output

RAIDS.Rcheck/00install.out

##############################################################################
##############################################################################
###
### Running command:
###
###   /Library/Frameworks/R.framework/Resources/bin/R CMD INSTALL RAIDS
###
##############################################################################
##############################################################################


* installing to library ‘/Library/Frameworks/R.framework/Versions/4.5-x86_64/Resources/library’
* installing *source* package ‘RAIDS’ ...
** this is package ‘RAIDS’ version ‘1.7.3’
** using staged installation
** R
** data
** inst
** byte-compile and prepare package for lazy loading
** help
*** installing help indices
** building package indices
** installing vignettes
** testing if installed package can be loaded from temporary location
** testing if installed package can be loaded from final location
** testing if installed package keeps a record of temporary installation path
* DONE (RAIDS)

Tests output

RAIDS.Rcheck/tests/testthat.Rout


R version 4.5.1 Patched (2025-09-10 r88807) -- "Great Square Root"
Copyright (C) 2025 The R Foundation for Statistical Computing
Platform: x86_64-apple-darwin20

R is free software and comes with ABSOLUTELY NO WARRANTY.
You are welcome to redistribute it under certain conditions.
Type 'license()' or 'licence()' for distribution details.

R is a collaborative project with many contributors.
Type 'contributors()' for more information and
'citation()' on how to cite R or R packages in publications.

Type 'demo()' for some demos, 'help()' for on-line help, or
'help.start()' for an HTML browser interface to help.
Type 'q()' to quit R.

> library(testthat)
> library(RAIDS)
Loading required package: gdsfmt
Loading required package: SNPRelate
SNPRelate -- supported by Streaming SIMD Extensions 2 (SSE2)
Loading required package: GENESIS
Loading required package: dplyr

Attaching package: 'dplyr'

The following object is masked from 'package:testthat':

    matches

The following objects are masked from 'package:stats':

    filter, lag

The following objects are masked from 'package:base':

    intersect, setdiff, setequal, union

Loading required package: Rsamtools
Loading required package: Seqinfo
Loading required package: BiocGenerics
Loading required package: generics

Attaching package: 'generics'

The following object is masked from 'package:dplyr':

    explain

The following objects are masked from 'package:base':

    as.difftime, as.factor, as.ordered, intersect, is.element, setdiff,
    setequal, union


Attaching package: 'BiocGenerics'

The following object is masked from 'package:dplyr':

    combine

The following objects are masked from 'package:stats':

    IQR, mad, sd, var, xtabs

The following objects are masked from 'package:base':

    Filter, Find, Map, Position, Reduce, anyDuplicated, aperm, append,
    as.data.frame, basename, cbind, colnames, dirname, do.call,
    duplicated, eval, evalq, get, grep, grepl, is.unsorted, lapply,
    mapply, match, mget, order, paste, pmax, pmax.int, pmin, pmin.int,
    rank, rbind, rownames, sapply, saveRDS, table, tapply, unique,
    unsplit, which.max, which.min

Loading required package: GenomicRanges
Loading required package: stats4
Loading required package: S4Vectors

Attaching package: 'S4Vectors'

The following objects are masked from 'package:dplyr':

    first, rename

The following object is masked from 'package:utils':

    findMatches

The following objects are masked from 'package:base':

    I, expand.grid, unname

Loading required package: IRanges

Attaching package: 'IRanges'

The following objects are masked from 'package:dplyr':

    collapse, desc, slice

Loading required package: Biostrings
Loading required package: XVector

Attaching package: 'Biostrings'

The following object is masked from 'package:base':

    strsplit

> 
> ## Run all unit tests
> test_check("RAIDS")

Attaching package: 'Matrix'

The following object is masked from 'package:S4Vectors':

    expand

[ FAIL 0 | WARN 0 | SKIP 0 | PASS 478 ]
> 
> proc.time()
   user  system elapsed 
 42.627   2.673  45.794 

Example timings

RAIDS.Rcheck/RAIDS-Ex.timings

nameusersystemelapsed
add1KG2SampleGDS0.0780.0300.123
addBlockFromDetFile0.0020.0040.008
addBlockInGDSAnnot0.0050.0050.013
addGDS1KGLDBlock0.0010.0030.006
addGDSRef0.0040.0030.008
addGDSStudyPruning0.0020.0020.004
addGeneBlockGDSRefAnnot1.2400.1341.412
addGeneBlockRefAnnot0.0030.0030.006
addRef2GDS1KG0.0060.0070.014
addStudy1Kg0.0140.0130.034
addStudyGDSSample0.0090.0050.016
addUpdateLap0.0010.0020.004
addUpdateSegment0.0020.0020.004
appendGDSRefSample0.0080.0040.015
appendGDSSampleOnly0.0010.0020.003
appendGDSgenotype0.0170.0150.037
appendGDSgenotypeMat0.0010.0020.003
calcAFMLRNA0.0060.0030.010
computeAlleleFraction0.0030.0010.004
computeAllelicFractionDNA0.1690.0350.276
computeAllelicFractionRNA0.2650.0070.276
computeAllelicImbDNAChr0.0080.0010.008
computeAncestryFromSynthetic0.0200.0050.026
computeAncestryFromSyntheticFile7.5520.2487.845
computeKNNRefSample0.0150.0050.020
computeKNNRefSynthetic2.7650.1052.885
computeLOHBlocksDNAChr0.0120.0020.013
computePCAMultiSynthetic0.0080.0050.013
computePCARefRMMulti0.3440.0050.351
computePCARefSample0.3680.0030.373
computePoolSyntheticAncestryGr0.6290.0140.648
computeSyntheticConfMat0.0220.0060.028
computeSyntheticROC0.0470.0060.053
createAUROCGraph0.9800.0521.039
createAccuracyGraph0.8850.0070.895
createProfile0.0680.0170.088
createStudy2GDS1KG0.0660.0160.087
demoKnownSuperPop1KG1.5940.0521.656
demoPCA1KG0.0070.0040.013
demoPCASyntheticProfiles1.6100.0451.693
demoPedigreeEx10.0160.0040.019
estimateAllelicFraction0.0810.0060.088
extractNucleotide0.0010.0010.000
generateGDS1KG0.0150.0150.033
generateGDS1KGgenotypeFromSNPPileup0.0620.0170.083
generateGDSRefSample0.0060.0030.010
generateGDSSNPinfo0.0050.0030.009
generateGDSgenotype0.0150.0120.029
generateGeneBlock0.0020.0010.002
generateMapSnvSel0.0040.0030.007
generatePhase1KG2GDS0.0160.0120.030
generatePhaseRef0.0140.0130.030
generateProfileGDS0.0600.0150.078
getBlockIDs0.0030.0020.004
getRef1KGPop0.0040.0010.005
getRefSuperPop0.0030.0010.003
getTableSNV0.0130.0030.016
groupChr1KGSNV0.0570.1010.190
identifyRelative0.0100.0040.014
identifyRelativeRef0.0070.0030.011
inferAncestry0.0130.0010.015
inferAncestryDNA0.0130.0010.015
inferAncestryGeneAware0.0110.0010.012
matKNNSynthetic0.0680.0080.076
pedSynthetic0.0480.0050.052
prepPed1KG0.0040.0020.006
prepPedSynthetic1KG0.0040.0010.007
prepSynthetic0.0130.0040.018
processBlockChr0.0030.0010.005
processPileupChrBin3.5340.0603.613
profileAncestry0.0200.0040.024
pruning1KGbyChr0.0030.0010.005
pruningSample0.0400.0100.051
readSNVBAM5.8530.0255.900
readSNVFileGeneric0.0050.0010.006
readSNVPileupFile0.0480.0020.049
readSNVVCF5.9970.0636.084
runExomeAncestry0.0180.0040.023
runIBDKING0.0470.0060.056
runLDPruning0.0240.0110.034
runProfileAncestry0.0220.0060.028
runRNAAncestry0.0210.0050.025
runWrapperAncestry0.0160.0040.020
selParaPCAUpQuartile6.3560.0356.410
select1KGPop0.0040.0020.007
select1KGPopForSynthetic0.0040.0020.006
snpPositionDemo0.0030.0030.005
snvListVCF0.0030.0030.007
splitSelectByPop0.0020.0010.002
syntheticGeno0.0330.0080.042
tableBlockAF0.0220.0030.025
testAlleleFractionChange0.0020.0010.002
testEmptyBox0.0010.0010.002
validateAccuracyGraphInternal000
validateAdd1KG2SampleGDS0.0020.0010.002
validateAddStudy1Kg0.0020.0010.004
validateCharacterString000
validateComputeAncestryFromSyntheticFile0.0020.0020.004
validateComputeKNNRefSample0.0040.0050.008
validateComputeKNNRefSynthetic0.0050.0050.011
validateComputePCAMultiSynthetic0.0030.0020.006
validateComputePCARefSample0.0020.0010.003
validateComputePoolSyntheticAncestryGr0.0020.0010.003
validateComputeSyntheticRoc0.0150.0040.019
validateCreateAccuracyGraph0.0010.0010.002
validateCreateStudy2GDS1KG0.0020.0010.004
validateDataRefSynParameter0.0010.0000.001
validateEstimateAllelicFraction0.0040.0010.005
validateGDSClass0.0020.0010.003
validateGenerateGDS1KG0.0010.0000.001
validateLogical0.0000.0000.001
validatePEDStudyParameter0.0010.0010.001
validatePepSynthetic0.0020.0010.003
validatePositiveIntegerVector0.0010.0010.001
validatePrepPed1KG0.0010.0000.002
validateProfileGDSExist0.0010.0010.002
validatePruningSample0.0020.0010.004
validateRunExomeOrRNAAncestry0.0060.0010.007
validateSingleRatio0.0010.0000.000
validateStudyDataFrameParameter0.0010.0010.001
validateSyntheticGeno0.0010.0010.003
validatecreateAUROCGraph0.0020.0000.003
validatecreateProfile0.0020.0000.003
wrapperAncestry0.0200.0040.025