| Back to Multiple platform build/check report for BioC 3.22: simplified long |
|
This page was generated on 2025-10-20 12:06 -0400 (Mon, 20 Oct 2025).
| Hostname | OS | Arch (*) | R version | Installed pkgs |
|---|---|---|---|---|
| nebbiolo2 | Linux (Ubuntu 24.04.3 LTS) | x86_64 | 4.5.1 Patched (2025-08-23 r88802) -- "Great Square Root" | 4887 |
| lconway | macOS 12.7.6 Monterey | x86_64 | 4.5.1 Patched (2025-09-10 r88807) -- "Great Square Root" | 4677 |
| kjohnson3 | macOS 13.7.7 Ventura | arm64 | 4.5.1 Patched (2025-09-10 r88807) -- "Great Square Root" | 4622 |
| taishan | Linux (openEuler 24.03 LTS) | aarch64 | 4.5.0 (2025-04-11) -- "How About a Twenty-Six" | 4632 |
| Click on any hostname to see more info about the system (e.g. compilers) (*) as reported by 'uname -p', except on Windows and Mac OS X | ||||
| Package 1694/2353 | Hostname | OS / Arch | INSTALL | BUILD | CHECK | BUILD BIN | ||||||||
| RAIDS 1.7.3 (landing page) Pascal Belleau
| nebbiolo2 | Linux (Ubuntu 24.04.3 LTS) / x86_64 | OK | OK | OK | |||||||||
| lconway | macOS 12.7.6 Monterey / x86_64 | OK | OK | OK | OK | |||||||||
| kjohnson3 | macOS 13.7.7 Ventura / arm64 | OK | OK | OK | OK | |||||||||
| taishan | Linux (openEuler 24.03 LTS) / aarch64 | OK | OK | OK | ||||||||||
|
To the developers/maintainers of the RAIDS package: - Allow up to 24 hours (and sometimes 48 hours) for your latest push to git@git.bioconductor.org:packages/RAIDS.git to reflect on this report. See Troubleshooting Build Report for more information. - Use the following Renviron settings to reproduce errors and warnings. - If 'R CMD check' started to fail recently on the Linux builder(s) over a missing dependency, add the missing dependency to 'Suggests:' in your DESCRIPTION file. See Renviron.bioc for more information. |
| Package: RAIDS |
| Version: 1.7.3 |
| Command: /Library/Frameworks/R.framework/Resources/bin/R CMD check --install=check:RAIDS.install-out.txt --library=/Library/Frameworks/R.framework/Resources/library --no-vignettes --timings RAIDS_1.7.3.tar.gz |
| StartedAt: 2025-10-19 21:28:29 -0400 (Sun, 19 Oct 2025) |
| EndedAt: 2025-10-19 21:31:18 -0400 (Sun, 19 Oct 2025) |
| EllapsedTime: 168.4 seconds |
| RetCode: 0 |
| Status: OK |
| CheckDir: RAIDS.Rcheck |
| Warnings: 0 |
##############################################################################
##############################################################################
###
### Running command:
###
### /Library/Frameworks/R.framework/Resources/bin/R CMD check --install=check:RAIDS.install-out.txt --library=/Library/Frameworks/R.framework/Resources/library --no-vignettes --timings RAIDS_1.7.3.tar.gz
###
##############################################################################
##############################################################################
* using log directory ‘/Users/biocbuild/bbs-3.22-bioc/meat/RAIDS.Rcheck’
* using R version 4.5.1 Patched (2025-09-10 r88807)
* using platform: aarch64-apple-darwin20
* R was compiled by
Apple clang version 16.0.0 (clang-1600.0.26.6)
GNU Fortran (GCC) 14.2.0
* running under: macOS Ventura 13.7.7
* using session charset: UTF-8
* using option ‘--no-vignettes’
* checking for file ‘RAIDS/DESCRIPTION’ ... OK
* checking extension type ... Package
* this is package ‘RAIDS’ version ‘1.7.3’
* package encoding: UTF-8
* checking package namespace information ... OK
* checking package dependencies ... OK
* checking if this is a source package ... OK
* checking if there is a namespace ... OK
* checking for hidden files and directories ... OK
* checking for portable file names ... OK
* checking for sufficient/correct file permissions ... OK
* checking whether package ‘RAIDS’ can be installed ... OK
* checking installed package size ... OK
* checking package directory ... OK
* checking ‘build’ directory ... OK
* checking DESCRIPTION meta-information ... OK
* checking top-level files ... OK
* checking for left-over files ... OK
* checking index information ... OK
* checking package subdirectories ... OK
* checking code files for non-ASCII characters ... OK
* checking R files for syntax errors ... OK
* checking whether the package can be loaded ... OK
* checking whether the package can be loaded with stated dependencies ... OK
* checking whether the package can be unloaded cleanly ... OK
* checking whether the namespace can be loaded with stated dependencies ... OK
* checking whether the namespace can be unloaded cleanly ... OK
* checking dependencies in R code ... OK
* checking S3 generic/method consistency ... OK
* checking replacement functions ... OK
* checking foreign function calls ... OK
* checking R code for possible problems ... OK
* checking Rd files ... OK
* checking Rd metadata ... OK
* checking Rd cross-references ... OK
* checking for missing documentation entries ... OK
* checking for code/documentation mismatches ... OK
* checking Rd \usage sections ... NOTE
Documented arguments not in \usage in Rd file 'wrapperAncestry.Rd':
‘pathGeno’
Functions with \usage entries need to have the appropriate \alias
entries, and all their arguments documented.
The \usage entries must correspond to syntactically valid R code.
See chapter ‘Writing R documentation files’ in the ‘Writing R
Extensions’ manual.
* checking Rd contents ... OK
* checking for unstated dependencies in examples ... OK
* checking contents of ‘data’ directory ... OK
* checking data for non-ASCII characters ... OK
* checking data for ASCII and uncompressed saves ... OK
* checking files in ‘vignettes’ ... OK
* checking examples ... OK
* checking for unstated dependencies in ‘tests’ ... OK
* checking tests ...
Running ‘testthat.R’
OK
* checking for unstated dependencies in vignettes ... OK
* checking package vignettes ... OK
* checking running R code from vignettes ... SKIPPED
* checking re-building of vignette outputs ... SKIPPED
* checking PDF version of manual ... OK
* DONE
Status: 1 NOTE
See
‘/Users/biocbuild/bbs-3.22-bioc/meat/RAIDS.Rcheck/00check.log’
for details.
RAIDS.Rcheck/00install.out
############################################################################## ############################################################################## ### ### Running command: ### ### /Library/Frameworks/R.framework/Resources/bin/R CMD INSTALL RAIDS ### ############################################################################## ############################################################################## * installing to library ‘/Library/Frameworks/R.framework/Versions/4.5-arm64/Resources/library’ * installing *source* package ‘RAIDS’ ... ** this is package ‘RAIDS’ version ‘1.7.3’ ** using staged installation ** R ** data ** inst ** byte-compile and prepare package for lazy loading ** help *** installing help indices ** building package indices ** installing vignettes ** testing if installed package can be loaded from temporary location ** testing if installed package can be loaded from final location ** testing if installed package keeps a record of temporary installation path * DONE (RAIDS)
RAIDS.Rcheck/tests/testthat.Rout
R version 4.5.1 Patched (2025-09-10 r88807) -- "Great Square Root"
Copyright (C) 2025 The R Foundation for Statistical Computing
Platform: aarch64-apple-darwin20
R is free software and comes with ABSOLUTELY NO WARRANTY.
You are welcome to redistribute it under certain conditions.
Type 'license()' or 'licence()' for distribution details.
R is a collaborative project with many contributors.
Type 'contributors()' for more information and
'citation()' on how to cite R or R packages in publications.
Type 'demo()' for some demos, 'help()' for on-line help, or
'help.start()' for an HTML browser interface to help.
Type 'q()' to quit R.
> library(testthat)
> library(RAIDS)
Loading required package: gdsfmt
Loading required package: SNPRelate
Loading required package: GENESIS
Loading required package: dplyr
Attaching package: 'dplyr'
The following object is masked from 'package:testthat':
matches
The following objects are masked from 'package:stats':
filter, lag
The following objects are masked from 'package:base':
intersect, setdiff, setequal, union
Loading required package: Rsamtools
Loading required package: Seqinfo
Loading required package: BiocGenerics
Loading required package: generics
Attaching package: 'generics'
The following object is masked from 'package:dplyr':
explain
The following objects are masked from 'package:base':
as.difftime, as.factor, as.ordered, intersect, is.element, setdiff,
setequal, union
Attaching package: 'BiocGenerics'
The following object is masked from 'package:dplyr':
combine
The following objects are masked from 'package:stats':
IQR, mad, sd, var, xtabs
The following objects are masked from 'package:base':
Filter, Find, Map, Position, Reduce, anyDuplicated, aperm, append,
as.data.frame, basename, cbind, colnames, dirname, do.call,
duplicated, eval, evalq, get, grep, grepl, is.unsorted, lapply,
mapply, match, mget, order, paste, pmax, pmax.int, pmin, pmin.int,
rank, rbind, rownames, sapply, saveRDS, table, tapply, unique,
unsplit, which.max, which.min
Loading required package: GenomicRanges
Loading required package: stats4
Loading required package: S4Vectors
Attaching package: 'S4Vectors'
The following objects are masked from 'package:dplyr':
first, rename
The following object is masked from 'package:utils':
findMatches
The following objects are masked from 'package:base':
I, expand.grid, unname
Loading required package: IRanges
Attaching package: 'IRanges'
The following objects are masked from 'package:dplyr':
collapse, desc, slice
Loading required package: Biostrings
Loading required package: XVector
Attaching package: 'Biostrings'
The following object is masked from 'package:base':
strsplit
>
> ## Run all unit tests
> test_check("RAIDS")
Attaching package: 'Matrix'
The following object is masked from 'package:S4Vectors':
expand
[ FAIL 0 | WARN 0 | SKIP 0 | PASS 478 ]
>
> proc.time()
user system elapsed
14.003 0.685 14.802
RAIDS.Rcheck/RAIDS-Ex.timings
| name | user | system | elapsed | |
| add1KG2SampleGDS | 0.019 | 0.007 | 0.028 | |
| addBlockFromDetFile | 0.001 | 0.001 | 0.003 | |
| addBlockInGDSAnnot | 0.002 | 0.001 | 0.003 | |
| addGDS1KGLDBlock | 0.001 | 0.000 | 0.001 | |
| addGDSRef | 0.001 | 0.001 | 0.002 | |
| addGDSStudyPruning | 0.000 | 0.001 | 0.000 | |
| addGeneBlockGDSRefAnnot | 0.404 | 0.034 | 0.439 | |
| addGeneBlockRefAnnot | 0.001 | 0.000 | 0.001 | |
| addRef2GDS1KG | 0.002 | 0.002 | 0.003 | |
| addStudy1Kg | 0.004 | 0.003 | 0.008 | |
| addStudyGDSSample | 0.002 | 0.002 | 0.004 | |
| addUpdateLap | 0.000 | 0.000 | 0.001 | |
| addUpdateSegment | 0.000 | 0.001 | 0.001 | |
| appendGDSRefSample | 0.002 | 0.001 | 0.004 | |
| appendGDSSampleOnly | 0.000 | 0.001 | 0.001 | |
| appendGDSgenotype | 0.005 | 0.003 | 0.010 | |
| appendGDSgenotypeMat | 0.000 | 0.000 | 0.002 | |
| calcAFMLRNA | 0.002 | 0.001 | 0.003 | |
| computeAlleleFraction | 0.001 | 0.000 | 0.001 | |
| computeAllelicFractionDNA | 0.048 | 0.005 | 0.055 | |
| computeAllelicFractionRNA | 0.070 | 0.003 | 0.073 | |
| computeAllelicImbDNAChr | 0.003 | 0.000 | 0.003 | |
| computeAncestryFromSynthetic | 0.007 | 0.002 | 0.009 | |
| computeAncestryFromSyntheticFile | 2.087 | 0.059 | 2.158 | |
| computeKNNRefSample | 0.005 | 0.003 | 0.007 | |
| computeKNNRefSynthetic | 0.967 | 0.050 | 1.043 | |
| computeLOHBlocksDNAChr | 0.003 | 0.000 | 0.004 | |
| computePCAMultiSynthetic | 0.003 | 0.001 | 0.005 | |
| computePCARefRMMulti | 0.043 | 0.003 | 0.047 | |
| computePCARefSample | 0.051 | 0.001 | 0.054 | |
| computePoolSyntheticAncestryGr | 0.122 | 0.011 | 0.136 | |
| computeSyntheticConfMat | 0.005 | 0.002 | 0.008 | |
| computeSyntheticROC | 0.013 | 0.003 | 0.018 | |
| createAUROCGraph | 0.294 | 0.015 | 0.321 | |
| createAccuracyGraph | 0.246 | 0.002 | 0.253 | |
| createProfile | 0.022 | 0.006 | 0.028 | |
| createStudy2GDS1KG | 0.022 | 0.004 | 0.027 | |
| demoKnownSuperPop1KG | 0.474 | 0.064 | 0.538 | |
| demoPCA1KG | 0.003 | 0.002 | 0.005 | |
| demoPCASyntheticProfiles | 0.438 | 0.045 | 0.488 | |
| demoPedigreeEx1 | 0.006 | 0.002 | 0.008 | |
| estimateAllelicFraction | 0.024 | 0.002 | 0.026 | |
| extractNucleotide | 0.000 | 0.001 | 0.000 | |
| generateGDS1KG | 0.003 | 0.002 | 0.007 | |
| generateGDS1KGgenotypeFromSNPPileup | 0.019 | 0.005 | 0.025 | |
| generateGDSRefSample | 0.001 | 0.001 | 0.003 | |
| generateGDSSNPinfo | 0.001 | 0.001 | 0.003 | |
| generateGDSgenotype | 0.004 | 0.002 | 0.006 | |
| generateGeneBlock | 0.000 | 0.000 | 0.001 | |
| generateMapSnvSel | 0.001 | 0.001 | 0.002 | |
| generatePhase1KG2GDS | 0.003 | 0.003 | 0.007 | |
| generatePhaseRef | 0.004 | 0.003 | 0.007 | |
| generateProfileGDS | 0.019 | 0.005 | 0.024 | |
| getBlockIDs | 0.001 | 0.000 | 0.001 | |
| getRef1KGPop | 0.001 | 0.001 | 0.002 | |
| getRefSuperPop | 0.001 | 0.000 | 0.001 | |
| getTableSNV | 0.004 | 0.001 | 0.005 | |
| groupChr1KGSNV | 0.018 | 0.029 | 0.052 | |
| identifyRelative | 0.004 | 0.001 | 0.004 | |
| identifyRelativeRef | 0.002 | 0.001 | 0.003 | |
| inferAncestry | 0.004 | 0.000 | 0.005 | |
| inferAncestryDNA | 0.004 | 0.001 | 0.004 | |
| inferAncestryGeneAware | 0.004 | 0.001 | 0.004 | |
| matKNNSynthetic | 0.013 | 0.002 | 0.016 | |
| pedSynthetic | 0.013 | 0.003 | 0.015 | |
| prepPed1KG | 0.001 | 0.000 | 0.002 | |
| prepPedSynthetic1KG | 0.014 | 0.005 | 0.020 | |
| prepSynthetic | 0.004 | 0.001 | 0.006 | |
| processBlockChr | 0.001 | 0.001 | 0.001 | |
| processPileupChrBin | 1.551 | 0.007 | 1.576 | |
| profileAncestry | 0.006 | 0.002 | 0.008 | |
| pruning1KGbyChr | 0.002 | 0.001 | 0.002 | |
| pruningSample | 0.013 | 0.003 | 0.017 | |
| readSNVBAM | 2.530 | 0.002 | 2.535 | |
| readSNVFileGeneric | 0.002 | 0.000 | 0.002 | |
| readSNVPileupFile | 0.015 | 0.001 | 0.016 | |
| readSNVVCF | 1.581 | 0.031 | 1.615 | |
| runExomeAncestry | 0.005 | 0.002 | 0.006 | |
| runIBDKING | 0.020 | 0.001 | 0.021 | |
| runLDPruning | 0.008 | 0.006 | 0.014 | |
| runProfileAncestry | 0.006 | 0.001 | 0.007 | |
| runRNAAncestry | 0.004 | 0.002 | 0.006 | |
| runWrapperAncestry | 0.005 | 0.002 | 0.006 | |
| selParaPCAUpQuartile | 1.504 | 0.026 | 1.539 | |
| select1KGPop | 0.001 | 0.001 | 0.001 | |
| select1KGPopForSynthetic | 0.001 | 0.000 | 0.001 | |
| snpPositionDemo | 0.001 | 0.001 | 0.002 | |
| snvListVCF | 0.001 | 0.001 | 0.002 | |
| splitSelectByPop | 0.001 | 0.000 | 0.000 | |
| syntheticGeno | 0.010 | 0.002 | 0.013 | |
| tableBlockAF | 0.006 | 0.001 | 0.008 | |
| testAlleleFractionChange | 0.001 | 0.000 | 0.001 | |
| testEmptyBox | 0.000 | 0.000 | 0.001 | |
| validateAccuracyGraphInternal | 0 | 0 | 0 | |
| validateAdd1KG2SampleGDS | 0.001 | 0.001 | 0.001 | |
| validateAddStudy1Kg | 0.000 | 0.000 | 0.001 | |
| validateCharacterString | 0 | 0 | 0 | |
| validateComputeAncestryFromSyntheticFile | 0.000 | 0.000 | 0.001 | |
| validateComputeKNNRefSample | 0.002 | 0.002 | 0.004 | |
| validateComputeKNNRefSynthetic | 0.002 | 0.002 | 0.004 | |
| validateComputePCAMultiSynthetic | 0.002 | 0.002 | 0.003 | |
| validateComputePCARefSample | 0.000 | 0.000 | 0.001 | |
| validateComputePoolSyntheticAncestryGr | 0.001 | 0.000 | 0.001 | |
| validateComputeSyntheticRoc | 0.004 | 0.002 | 0.006 | |
| validateCreateAccuracyGraph | 0.001 | 0.001 | 0.001 | |
| validateCreateStudy2GDS1KG | 0.001 | 0.000 | 0.001 | |
| validateDataRefSynParameter | 0 | 0 | 0 | |
| validateEstimateAllelicFraction | 0.001 | 0.001 | 0.002 | |
| validateGDSClass | 0.000 | 0.000 | 0.001 | |
| validateGenerateGDS1KG | 0.000 | 0.000 | 0.001 | |
| validateLogical | 0.001 | 0.000 | 0.000 | |
| validatePEDStudyParameter | 0 | 0 | 0 | |
| validatePepSynthetic | 0 | 0 | 0 | |
| validatePositiveIntegerVector | 0 | 0 | 0 | |
| validatePrepPed1KG | 0.000 | 0.001 | 0.000 | |
| validateProfileGDSExist | 0 | 0 | 0 | |
| validatePruningSample | 0.001 | 0.000 | 0.001 | |
| validateRunExomeOrRNAAncestry | 0.002 | 0.001 | 0.002 | |
| validateSingleRatio | 0 | 0 | 0 | |
| validateStudyDataFrameParameter | 0 | 0 | 0 | |
| validateSyntheticGeno | 0.001 | 0.001 | 0.001 | |
| validatecreateAUROCGraph | 0.000 | 0.000 | 0.001 | |
| validatecreateProfile | 0.001 | 0.000 | 0.001 | |
| wrapperAncestry | 0.005 | 0.002 | 0.007 | |