| Back to Multiple platform build/check report for BioC 3.22: simplified long |
|
This page was generated on 2025-06-13 12:09 -0400 (Fri, 13 Jun 2025).
| Hostname | OS | Arch (*) | R version | Installed pkgs |
|---|---|---|---|---|
| nebbiolo2 | Linux (Ubuntu 24.04.2 LTS) | x86_64 | 4.5.0 (2025-04-11) -- "How About a Twenty-Six" | 4797 |
| palomino8 | Windows Server 2022 Datacenter | x64 | 4.5.0 (2025-04-11 ucrt) -- "How About a Twenty-Six" | 4538 |
| lconway | macOS 12.7.1 Monterey | x86_64 | 4.5.0 Patched (2025-04-21 r88169) -- "How About a Twenty-Six" | 4571 |
| kjohnson3 | macOS 13.7.1 Ventura | arm64 | 4.5.0 Patched (2025-04-21 r88169) -- "How About a Twenty-Six" | 4515 |
| taishan | Linux (openEuler 24.03 LTS) | aarch64 | 4.5.0 (2025-04-11) -- "How About a Twenty-Six" | 4483 |
| Click on any hostname to see more info about the system (e.g. compilers) (*) as reported by 'uname -p', except on Windows and Mac OS X | ||||
| Package 1554/2309 | Hostname | OS / Arch | INSTALL | BUILD | CHECK | BUILD BIN | ||||||||
| PhenStat 2.45.0 (landing page) Hamed Haselimashhadi
| nebbiolo2 | Linux (Ubuntu 24.04.2 LTS) / x86_64 | OK | OK | OK | |||||||||
| palomino8 | Windows Server 2022 Datacenter / x64 | OK | OK | OK | OK | |||||||||
| lconway | macOS 12.7.1 Monterey / x86_64 | OK | OK | OK | OK | |||||||||
| kjohnson3 | macOS 13.7.1 Ventura / arm64 | OK | OK | OK | OK | |||||||||
| taishan | Linux (openEuler 24.03 LTS) / aarch64 | OK | OK | OK | ||||||||||
|
To the developers/maintainers of the PhenStat package: - Allow up to 24 hours (and sometimes 48 hours) for your latest push to git@git.bioconductor.org:packages/PhenStat.git to reflect on this report. See Troubleshooting Build Report for more information. - Use the following Renviron settings to reproduce errors and warnings. - If 'R CMD check' started to fail recently on the Linux builder(s) over a missing dependency, add the missing dependency to 'Suggests:' in your DESCRIPTION file. See Renviron.bioc for more information. |
| Package: PhenStat |
| Version: 2.45.0 |
| Command: rm -rf PhenStat.buildbin-libdir && mkdir PhenStat.buildbin-libdir && /Users/biocbuild/BBS/utils/build-universal.sh PhenStat_2.45.0.tar.gz /Library/Frameworks/R.framework/Resources/bin/R PhenStat.buildbin-libdir |
| StartedAt: 2025-06-13 01:11:37 -0400 (Fri, 13 Jun 2025) |
| EndedAt: 2025-06-13 01:12:03 -0400 (Fri, 13 Jun 2025) |
| EllapsedTime: 26.6 seconds |
| RetCode: 0 |
| Status: OK |
| PackageFile: PhenStat_2.45.0.tgz |
| PackageFileSize: 1.257 MiB |
############################################################################## ############################################################################## ### ### Running command: ### ### rm -rf PhenStat.buildbin-libdir && mkdir PhenStat.buildbin-libdir && /Users/biocbuild/BBS/utils/build-universal.sh PhenStat_2.45.0.tar.gz /Library/Frameworks/R.framework/Resources/bin/R PhenStat.buildbin-libdir ### ############################################################################## ############################################################################## >>>>>>> >>>>>>> INSTALLATION WITH 'R CMD INSTALL --preclean --no-multiarch --library=PhenStat.buildbin-libdir PhenStat_2.45.0.tar.gz' >>>>>>> * installing *source* package ‘PhenStat’ ... ** this is package ‘PhenStat’ version ‘2.45.0’ ** using staged installation ** R ** inst ** byte-compile and prepare package for lazy loading ** help *** installing help indices ** building package indices ** installing vignettes ** testing if installed package can be loaded from temporary location ** testing if installed package can be loaded from final location ** testing if installed package keeps a record of temporary installation path * DONE (PhenStat)