| Back to Multiple platform build/check report for BioC 3.22: simplified long |
|
This page was generated on 2025-06-19 12:02 -0400 (Thu, 19 Jun 2025).
| Hostname | OS | Arch (*) | R version | Installed pkgs |
|---|---|---|---|---|
| nebbiolo2 | Linux (Ubuntu 24.04.2 LTS) | x86_64 | 4.5.0 (2025-04-11) -- "How About a Twenty-Six" | 4810 |
| palomino8 | Windows Server 2022 Datacenter | x64 | 4.5.0 (2025-04-11 ucrt) -- "How About a Twenty-Six" | 4548 |
| kjohnson3 | macOS 13.7.1 Ventura | arm64 | 4.5.0 Patched (2025-04-21 r88169) -- "How About a Twenty-Six" | 4528 |
| taishan | Linux (openEuler 24.03 LTS) | aarch64 | 4.5.0 (2025-04-11) -- "How About a Twenty-Six" | 4493 |
| Click on any hostname to see more info about the system (e.g. compilers) (*) as reported by 'uname -p', except on Windows and Mac OS X | ||||
| Package 1554/2309 | Hostname | OS / Arch | INSTALL | BUILD | CHECK | BUILD BIN | ||||||||
| PhenStat 2.45.0 (landing page) Hamed Haselimashhadi
| nebbiolo2 | Linux (Ubuntu 24.04.2 LTS) / x86_64 | OK | OK | OK | |||||||||
| palomino8 | Windows Server 2022 Datacenter / x64 | OK | OK | OK | OK | |||||||||
| kjohnson3 | macOS 13.7.1 Ventura / arm64 | OK | OK | OK | OK | |||||||||
| taishan | Linux (openEuler 24.03 LTS) / aarch64 | OK | OK | OK | ||||||||||
|
To the developers/maintainers of the PhenStat package: - Allow up to 24 hours (and sometimes 48 hours) for your latest push to git@git.bioconductor.org:packages/PhenStat.git to reflect on this report. See Troubleshooting Build Report for more information. - Use the following Renviron settings to reproduce errors and warnings. - If 'R CMD check' started to fail recently on the Linux builder(s) over a missing dependency, add the missing dependency to 'Suggests:' in your DESCRIPTION file. See Renviron.bioc for more information. |
| Package: PhenStat |
| Version: 2.45.0 |
| Command: /home/biocbuild/bbs-3.22-bioc/R/bin/R CMD check --install=check:PhenStat.install-out.txt --library=/home/biocbuild/bbs-3.22-bioc/R/site-library --timings PhenStat_2.45.0.tar.gz |
| StartedAt: 2025-06-19 02:04:23 -0400 (Thu, 19 Jun 2025) |
| EndedAt: 2025-06-19 02:06:29 -0400 (Thu, 19 Jun 2025) |
| EllapsedTime: 126.1 seconds |
| RetCode: 0 |
| Status: OK |
| CheckDir: PhenStat.Rcheck |
| Warnings: 0 |
##############################################################################
##############################################################################
###
### Running command:
###
### /home/biocbuild/bbs-3.22-bioc/R/bin/R CMD check --install=check:PhenStat.install-out.txt --library=/home/biocbuild/bbs-3.22-bioc/R/site-library --timings PhenStat_2.45.0.tar.gz
###
##############################################################################
##############################################################################
* using log directory ‘/home/biocbuild/bbs-3.22-bioc/meat/PhenStat.Rcheck’
* using R version 4.5.0 (2025-04-11)
* using platform: x86_64-pc-linux-gnu
* R was compiled by
gcc (Ubuntu 13.3.0-6ubuntu2~24.04) 13.3.0
GNU Fortran (Ubuntu 13.3.0-6ubuntu2~24.04) 13.3.0
* running under: Ubuntu 24.04.2 LTS
* using session charset: UTF-8
* checking for file ‘PhenStat/DESCRIPTION’ ... OK
* checking extension type ... Package
* this is package ‘PhenStat’ version ‘2.45.0’
* checking package namespace information ... OK
* checking package dependencies ... OK
* checking if this is a source package ... OK
* checking if there is a namespace ... OK
* checking for hidden files and directories ... OK
* checking for portable file names ... OK
* checking for sufficient/correct file permissions ... OK
* checking whether package ‘PhenStat’ can be installed ... OK
* checking installed package size ... OK
* checking package directory ... OK
* checking ‘build’ directory ... OK
* checking DESCRIPTION meta-information ... OK
* checking top-level files ... OK
* checking for left-over files ... OK
* checking index information ... OK
* checking package subdirectories ... OK
* checking code files for non-ASCII characters ... OK
* checking R files for syntax errors ... OK
* checking whether the package can be loaded ... OK
* checking whether the package can be loaded with stated dependencies ... OK
* checking whether the package can be unloaded cleanly ... OK
* checking whether the namespace can be loaded with stated dependencies ... OK
* checking whether the namespace can be unloaded cleanly ... OK
* checking loading without being on the library search path ... OK
* checking whether startup messages can be suppressed ... OK
* checking dependencies in R code ... NOTE
Namespace in Imports field not imported from: ‘SmoothWin’
All declared Imports should be used.
* checking S3 generic/method consistency ... OK
* checking replacement functions ... OK
* checking foreign function calls ... OK
* checking R code for possible problems ... OK
* checking Rd files ... NOTE
checkRd: (-1) plot.PhenList.Rd:49-53: Lost braces
49 | \item boxplotSexGenotype. See documentations for {
| ^
checkRd: (-1) plot.PhenList.Rd:54-58: Lost braces
54 | \item boxplotSexGenotypeBatchAdjusted. See documentations for {
| ^
checkRd: (-1) plot.PhenList.Rd:59-63: Lost braces
59 | \item boxplotSexGenotypeWeightBatchAdjusted. See documentations for {
| ^
checkRd: (-1) plot.PhenList.Rd:64-68: Lost braces
64 | \item scatterplotSexGenotypeBatch. See documentations for {
| ^
checkRd: (-1) plot.PhenList.Rd:69-73: Lost braces
69 | \item scatterplotGenotypeWeight. See documentations for {
| ^
checkRd: (-1) plot.PhenList.Rd:74-78: Lost braces
74 | \item boxplotSexGenotypeBatch. See documentations for {
| ^
checkRd: (-1) plot.PhenTestResult.Rd:41-45: Lost braces
41 | \item boxplotSexGenotypeResult. See documentations for {
| ^
checkRd: (-1) plot.PhenTestResult.Rd:46-50: Lost braces
46 | \item scatterplotSexGenotypeBatchResult. See documentations for {
| ^
checkRd: (-1) plot.PhenTestResult.Rd:51-55: Lost braces
51 | \item scatterplotGenotypeWeightResult. See documentations for {
| ^
checkRd: (-1) plot.PhenTestResult.Rd:56-60: Lost braces
56 | \item plotResidualPredicted. See documentations for {
| ^
checkRd: (-1) plot.PhenTestResult.Rd:61-65: Lost braces
61 | \item qqplotRandomEffects. See documentations for {
| ^
checkRd: (-1) plot.PhenTestResult.Rd:66-70: Lost braces
66 | \item boxplotResidualBatch. See documentations for {
| ^
checkRd: (-1) plot.PhenTestResult.Rd:71-75: Lost braces
71 | \item qqplotRotatedResiduals. See documentations for {
| ^
checkRd: (-1) plot.PhenTestResult.Rd:76-80: Lost braces
76 | \item qqplotGenotype. See documentations for {
| ^
checkRd: (-1) plot.PhenTestResult.Rd:81-85: Lost braces
81 | \item categoricalBarplot. See documentations for {
| ^
checkRd: (-1) qqplotRotatedResiduals.Rd:18: Lost braces
18 | Houseman, E. A., Ryan, L. M., Coull, B. A. (2004): Cholesky residuals for assessing normal errors in a linear model with correlated outcomes. \emph{Journal of the American Statistical Association} \bold{99}{466}: pg 383-394. Doi 10.1198
| ^
* checking Rd metadata ... OK
* checking Rd cross-references ... OK
* checking for missing documentation entries ... OK
* checking for code/documentation mismatches ... OK
* checking Rd \usage sections ... NOTE
Documented arguments not in \usage in Rd file 'printLROutput.Rd':
‘effectValues’
Functions with \usage entries need to have the appropriate \alias
entries, and all their arguments documented.
The \usage entries must correspond to syntactically valid R code.
See chapter ‘Writing R documentation files’ in the ‘Writing R
Extensions’ manual.
* checking Rd contents ... NOTE
Argument items with no description in Rd file 'plot.PhenList.Rd':
‘\dots’
Argument items with no description in Rd file 'plot.PhenTestResult.Rd':
‘\dots’
* checking for unstated dependencies in examples ... OK
* checking installed files from ‘inst/doc’ ... OK
* checking files in ‘vignettes’ ... OK
* checking examples ... OK
* checking for unstated dependencies in ‘tests’ ... OK
* checking tests ...
Running ‘runTests.R’
OK
* checking for unstated dependencies in vignettes ... OK
* checking package vignettes ... OK
* checking re-building of vignette outputs ... OK
* checking PDF version of manual ... OK
* DONE
Status: 4 NOTEs
See
‘/home/biocbuild/bbs-3.22-bioc/meat/PhenStat.Rcheck/00check.log’
for details.
PhenStat.Rcheck/00install.out
############################################################################## ############################################################################## ### ### Running command: ### ### /home/biocbuild/bbs-3.22-bioc/R/bin/R CMD INSTALL PhenStat ### ############################################################################## ############################################################################## * installing to library ‘/home/biocbuild/bbs-3.22-bioc/R/site-library’ * installing *source* package ‘PhenStat’ ... ** this is package ‘PhenStat’ version ‘2.45.0’ ** using staged installation ** R ** inst ** byte-compile and prepare package for lazy loading ** help *** installing help indices ** building package indices ** installing vignettes ** testing if installed package can be loaded from temporary location ** testing if installed package can be loaded from final location ** testing if installed package keeps a record of temporary installation path * DONE (PhenStat)
PhenStat.Rcheck/tests/runTests.Rout
R version 4.5.0 (2025-04-11) -- "How About a Twenty-Six"
Copyright (C) 2025 The R Foundation for Statistical Computing
Platform: x86_64-pc-linux-gnu
R is free software and comes with ABSOLUTELY NO WARRANTY.
You are welcome to redistribute it under certain conditions.
Type 'license()' or 'licence()' for distribution details.
R is a collaborative project with many contributors.
Type 'contributors()' for more information and
'citation()' on how to cite R or R packages in publications.
Type 'demo()' for some demos, 'help()' for on-line help, or
'help.start()' for an HTML browser interface to help.
Type 'q()' to quit R.
> BiocGenerics:::testPackage("PhenStat")
>=========================================================================<
This version of PhenStat includes *FEWER* functions than the previous ones
You *still* can use the previous functions by using `:::`. For example :
PhenStat:::boxplotSexGenotype or PhenStat:::FisherExactTest
*** Want to know what is new in this version? run PhenStat:::WhatIsNew()
>=========================================================================<
RUNIT TEST PROTOCOL -- Thu Jun 19 02:06:12 2025
***********************************************
Number of test functions: 0
Number of errors: 0
Number of failures: 0
1 Test Suite :
PhenStat RUnit Tests - 0 test functions, 0 errors, 0 failures
Number of test functions: 0
Number of errors: 0
Number of failures: 0
>
> proc.time()
user system elapsed
2.818 0.239 3.046
PhenStat.Rcheck/PhenStat-Ex.timings
| name | user | system | elapsed | |
| FisherExactTest | 0.132 | 0.008 | 0.140 | |
| JSONOutput | 0.670 | 0.027 | 0.696 | |
| LRDataset | 0.039 | 0.000 | 0.038 | |
| PhenList-class | 0.142 | 0.000 | 0.142 | |
| PhenList | 0.147 | 0.001 | 0.148 | |
| PhenStatReport | 0.029 | 0.000 | 0.030 | |
| PhenTestResult-class | 0.566 | 0.010 | 0.576 | |
| PhenTestResult | 0.473 | 0.002 | 0.475 | |
| RRTest | 0.066 | 0.001 | 0.067 | |
| TFDataset | 0.207 | 0.006 | 0.213 | |
| analysedDataset | 0.569 | 0.006 | 0.574 | |
| analysisResults | 0.772 | 0.008 | 0.780 | |
| boxplotResidualBatch | 0.578 | 0.007 | 0.585 | |
| boxplotSexGenotype | 0.054 | 0.001 | 0.055 | |
| boxplotSexGenotypeBatch | 0.102 | 0.001 | 0.102 | |
| boxplotSexGenotypeBatchAdjusted | 0.063 | 0.000 | 0.063 | |
| boxplotSexGenotypeResult | 0.691 | 0.003 | 0.694 | |
| boxplotSexGenotypeWeightBatchAdjusted | 0.053 | 0.000 | 0.053 | |
| categoricalBarplot | 0.109 | 0.001 | 0.110 | |
| checkDataset | 0.030 | 0.000 | 0.029 | |
| classificationTag | 0.553 | 0.005 | 0.558 | |
| determiningLambda | 0.621 | 0.031 | 0.651 | |
| dim | 0.029 | 0.001 | 0.030 | |
| finalLRModel | 0.432 | 0.001 | 0.435 | |
| finalModel | 0.47 | 0.00 | 0.47 | |
| finalTFModel | 0.370 | 0.009 | 0.379 | |
| htestPhenStat-class | 0.110 | 0.011 | 0.120 | |
| modelFormula | 0 | 0 | 0 | |
| modelFormulaLR | 0 | 0 | 0 | |
| parserOutputSummary | 0.571 | 0.002 | 0.573 | |
| parserOutputSummaryLR | 0.380 | 0.002 | 0.383 | |
| parserOutputTFSummary | 0.078 | 0.001 | 0.080 | |
| performReverseTransformation | 0.000 | 0.000 | 0.001 | |
| performTransformation | 0.001 | 0.000 | 0.000 | |
| plot.PhenList | 1.940 | 0.017 | 1.960 | |
| plot.PhenTestResult | 1.878 | 0.020 | 1.899 | |
| plotResidualPredicted | 0.568 | 0.004 | 0.572 | |
| printLROutput | 0.605 | 0.002 | 0.608 | |
| printTabStyle | 0.000 | 0.000 | 0.001 | |
| qqplotGenotype | 0.555 | 0.004 | 0.560 | |
| qqplotRandomEffects | 0.546 | 0.006 | 0.552 | |
| qqplotRotatedResiduals | 3.029 | 0.041 | 3.070 | |
| recommendMethod | 0.178 | 0.000 | 0.178 | |
| scatterplotGenotypeWeight | 0.125 | 0.002 | 0.128 | |
| scatterplotGenotypeWeightResult | 0.725 | 0.000 | 0.726 | |
| scatterplotSexGenotypeBatch | 0.074 | 0.000 | 0.074 | |
| scatterplotSexGenotypeBatchResult | 0.714 | 0.002 | 0.716 | |
| startLRModel | 0.351 | 0.000 | 0.351 | |
| startModel | 0.431 | 0.013 | 0.444 | |
| startTFModel | 0.346 | 0.024 | 0.370 | |
| summaryOutput | 0.648 | 0.005 | 0.653 | |
| summaryPhenListResult | 0.650 | 0.001 | 0.651 | |
| testDataset | 1.833 | 0.018 | 1.852 | |
| testFinalLRModel | 0.365 | 0.004 | 0.369 | |
| testFinalModel | 0.672 | 0.001 | 0.674 | |
| vectorOutput | 0.649 | 0.001 | 0.650 | |
| vectorOutputMatrices | 0.093 | 0.000 | 0.094 | |