Back to Multiple platform build/check report for BioC 3.22: simplified long |
|
This page was generated on 2025-10-21 12:05 -0400 (Tue, 21 Oct 2025).
Hostname | OS | Arch (*) | R version | Installed pkgs |
---|---|---|---|---|
nebbiolo2 | Linux (Ubuntu 24.04.3 LTS) | x86_64 | 4.5.1 Patched (2025-08-23 r88802) -- "Great Square Root" | 4887 |
lconway | macOS 12.7.6 Monterey | x86_64 | 4.5.1 Patched (2025-09-10 r88807) -- "Great Square Root" | 4677 |
kjohnson3 | macOS 13.7.7 Ventura | arm64 | 4.5.1 Patched (2025-09-10 r88807) -- "Great Square Root" | 4622 |
taishan | Linux (openEuler 24.03 LTS) | aarch64 | 4.5.0 (2025-04-11) -- "How About a Twenty-Six" | 4642 |
Click on any hostname to see more info about the system (e.g. compilers) (*) as reported by 'uname -p', except on Windows and Mac OS X |
Package 1645/2353 | Hostname | OS / Arch | INSTALL | BUILD | CHECK | BUILD BIN | ||||||||
PRONE 1.3.2 (landing page) Lis Arend
| nebbiolo2 | Linux (Ubuntu 24.04.3 LTS) / x86_64 | OK | OK | OK | ![]() | ||||||||
lconway | macOS 12.7.6 Monterey / x86_64 | OK | OK | OK | OK | ![]() | ||||||||
kjohnson3 | macOS 13.7.7 Ventura / arm64 | OK | OK | OK | OK | ![]() | ||||||||
taishan | Linux (openEuler 24.03 LTS) / aarch64 | OK | OK | OK | ||||||||||
To the developers/maintainers of the PRONE package: - Allow up to 24 hours (and sometimes 48 hours) for your latest push to git@git.bioconductor.org:packages/PRONE.git to reflect on this report. See Troubleshooting Build Report for more information. - Use the following Renviron settings to reproduce errors and warnings. - If 'R CMD check' started to fail recently on the Linux builder(s) over a missing dependency, add the missing dependency to 'Suggests:' in your DESCRIPTION file. See Renviron.bioc for more information. |
Package: PRONE |
Version: 1.3.2 |
Command: /Library/Frameworks/R.framework/Resources/bin/R CMD check --install=check:PRONE.install-out.txt --library=/Library/Frameworks/R.framework/Resources/library --no-vignettes --timings PRONE_1.3.2.tar.gz |
StartedAt: 2025-10-21 00:52:14 -0400 (Tue, 21 Oct 2025) |
EndedAt: 2025-10-21 00:58:28 -0400 (Tue, 21 Oct 2025) |
EllapsedTime: 373.9 seconds |
RetCode: 0 |
Status: OK |
CheckDir: PRONE.Rcheck |
Warnings: 0 |
############################################################################## ############################################################################## ### ### Running command: ### ### /Library/Frameworks/R.framework/Resources/bin/R CMD check --install=check:PRONE.install-out.txt --library=/Library/Frameworks/R.framework/Resources/library --no-vignettes --timings PRONE_1.3.2.tar.gz ### ############################################################################## ############################################################################## * using log directory ‘/Users/biocbuild/bbs-3.22-bioc/meat/PRONE.Rcheck’ * using R version 4.5.1 Patched (2025-09-10 r88807) * using platform: x86_64-apple-darwin20 * R was compiled by Apple clang version 14.0.0 (clang-1400.0.29.202) GNU Fortran (GCC) 14.2.0 * running under: macOS Monterey 12.7.6 * using session charset: UTF-8 * using option ‘--no-vignettes’ * checking for file ‘PRONE/DESCRIPTION’ ... OK * checking extension type ... Package * this is package ‘PRONE’ version ‘1.3.2’ * package encoding: UTF-8 * checking package namespace information ... OK * checking package dependencies ... INFO Imports includes 34 non-default packages. Importing from so many packages makes the package vulnerable to any of them becoming unavailable. Move as many as possible to Suggests and use conditionally. * checking if this is a source package ... OK * checking if there is a namespace ... OK * checking for hidden files and directories ... OK * checking for portable file names ... OK * checking for sufficient/correct file permissions ... OK * checking whether package ‘PRONE’ can be installed ... OK * checking installed package size ... OK * checking package directory ... OK * checking ‘build’ directory ... OK * checking DESCRIPTION meta-information ... OK * checking top-level files ... OK * checking for left-over files ... OK * checking index information ... OK * checking package subdirectories ... OK * checking code files for non-ASCII characters ... OK * checking R files for syntax errors ... OK * checking whether the package can be loaded ... OK * checking whether the package can be loaded with stated dependencies ... OK * checking whether the package can be unloaded cleanly ... OK * checking whether the namespace can be loaded with stated dependencies ... OK * checking whether the namespace can be unloaded cleanly ... OK * checking dependencies in R code ... NOTE Unexported objects imported by ':::' calls: ‘NormalyzerDE:::calculateAvgMadMem’ ‘NormalyzerDE:::calculateAvgReplicateVariation’ ‘NormalyzerDE:::calculatePercentageAvgDiffInMat’ ‘NormalyzerDE:::calculateReplicateCV’ ‘NormalyzerDE:::calculateSummarizedCorrelationVector’ See the note in ?`:::` about the use of this operator. * checking S3 generic/method consistency ... OK * checking replacement functions ... OK * checking foreign function calls ... OK * checking R code for possible problems ... NOTE plot_upset_DE: no visible global function definition for ‘packageVersion’ Undefined global functions or variables: packageVersion Consider adding importFrom("utils", "packageVersion") to your NAMESPACE file. * checking Rd files ... OK * checking Rd metadata ... OK * checking Rd cross-references ... OK * checking for missing documentation entries ... OK * checking for code/documentation mismatches ... OK * checking Rd \usage sections ... OK * checking Rd contents ... OK * checking for unstated dependencies in examples ... OK * checking contents of ‘data’ directory ... OK * checking data for non-ASCII characters ... OK * checking data for ASCII and uncompressed saves ... OK * checking files in ‘vignettes’ ... OK * checking examples ... OK Examples with CPU (user + system) or elapsed time > 5s user system elapsed normalize_se_combination 5.512 0.149 5.709 plot_boxplots 5.446 0.050 5.530 * checking for unstated dependencies in vignettes ... OK * checking package vignettes ... OK * checking running R code from vignettes ... SKIPPED * checking re-building of vignette outputs ... SKIPPED * checking PDF version of manual ... OK * DONE Status: 2 NOTEs See ‘/Users/biocbuild/bbs-3.22-bioc/meat/PRONE.Rcheck/00check.log’ for details.
PRONE.Rcheck/00install.out
############################################################################## ############################################################################## ### ### Running command: ### ### /Library/Frameworks/R.framework/Resources/bin/R CMD INSTALL PRONE ### ############################################################################## ############################################################################## * installing to library ‘/Library/Frameworks/R.framework/Versions/4.5-x86_64/Resources/library’ * installing *source* package ‘PRONE’ ... ** this is package ‘PRONE’ version ‘1.3.2’ ** using staged installation ** R ** data ** inst ** byte-compile and prepare package for lazy loading ** help *** installing help indices *** copying figures ** building package indices ** installing vignettes ** testing if installed package can be loaded from temporary location ** testing if installed package can be loaded from final location ** testing if installed package keeps a record of temporary installation path * DONE (PRONE)
PRONE.Rcheck/PRONE-Ex.timings
name | user | system | elapsed | |
apply_thresholds | 0.030 | 0.003 | 0.034 | |
detect_outliers_POMA | 2.080 | 0.082 | 2.175 | |
eigenMSNorm | 0.677 | 0.065 | 0.746 | |
export_data | 0.021 | 0.002 | 0.024 | |
extract_consensus_DE_candidates | 0.085 | 0.005 | 0.090 | |
filter_out_NA_proteins_by_threshold | 0.234 | 0.005 | 0.240 | |
filter_out_complete_NA_proteins | 0.052 | 0.003 | 0.056 | |
filter_out_proteins_by_ID | 0.169 | 0.003 | 0.173 | |
filter_out_proteins_by_value | 0.162 | 0.003 | 0.167 | |
get_NA_overview | 0.032 | 0.003 | 0.034 | |
get_normalization_methods | 0 | 0 | 0 | |
get_overview_DE | 0.039 | 0.002 | 0.042 | |
get_proteins_by_value | 0.158 | 0.003 | 0.162 | |
get_spiked_stats_DE | 0.074 | 0.005 | 0.079 | |
globalIntNorm | 0.155 | 0.005 | 0.160 | |
globalMeanNorm | 0.146 | 0.004 | 0.152 | |
globalMedianNorm | 0.154 | 0.004 | 0.159 | |
impute_se | 0.848 | 0.014 | 0.866 | |
irsNorm | 0.051 | 0.002 | 0.052 | |
limmaNorm | 0.067 | 0.002 | 0.069 | |
load_data | 0.066 | 0.004 | 0.071 | |
load_spike_data | 0.048 | 0.003 | 0.052 | |
loessCycNorm | 0.145 | 0.012 | 0.158 | |
loessFNorm | 0.070 | 0.003 | 0.073 | |
meanNorm | 0.039 | 0.002 | 0.040 | |
medianAbsDevNorm | 0.102 | 0.004 | 0.106 | |
medianNorm | 0.060 | 0.003 | 0.063 | |
normalize_se | 3.944 | 0.100 | 4.064 | |
normalize_se_combination | 5.512 | 0.149 | 5.709 | |
normalize_se_single | 3.599 | 0.067 | 3.699 | |
normicsNorm | 3.472 | 0.058 | 3.581 | |
plot_NA_density | 0.430 | 0.008 | 0.441 | |
plot_NA_frequency | 0.233 | 0.005 | 0.240 | |
plot_NA_heatmap | 1.545 | 0.095 | 1.654 | |
plot_PCA | 1.585 | 0.018 | 1.617 | |
plot_ROC_AUC_spiked | 1.295 | 0.021 | 1.324 | |
plot_TP_FP_spiked_bar | 0.365 | 0.006 | 0.374 | |
plot_TP_FP_spiked_box | 0.476 | 0.008 | 0.488 | |
plot_TP_FP_spiked_scatter | 0.476 | 0.007 | 0.486 | |
plot_boxplots | 5.446 | 0.050 | 5.530 | |
plot_condition_overview | 0.314 | 0.004 | 0.323 | |
plot_densities | 3.245 | 0.047 | 3.324 | |
plot_fold_changes_spiked | 0.623 | 0.010 | 0.640 | |
plot_heatmap | 4.733 | 0.049 | 4.814 | |
plot_heatmap_DE | 1.418 | 0.020 | 1.449 | |
plot_histogram_spiked | 0.445 | 0.005 | 0.451 | |
plot_identified_spiked_proteins | 0.521 | 0.008 | 0.533 | |
plot_intersection_enrichment | 0.979 | 0.050 | 2.291 | |
plot_intragroup_PCV | 0.664 | 0.007 | 0.675 | |
plot_intragroup_PEV | 0.575 | 0.007 | 0.587 | |
plot_intragroup_PMAD | 0.485 | 0.007 | 0.500 | |
plot_intragroup_correlation | 0.485 | 0.006 | 0.495 | |
plot_jaccard_heatmap | 0.391 | 0.006 | 0.401 | |
plot_logFC_thresholds_spiked | 0.809 | 0.009 | 0.825 | |
plot_markers_boxplots | 0.964 | 0.010 | 0.981 | |
plot_nr_prot_samples | 0.279 | 0.004 | 0.285 | |
plot_overview_DE_bar | 0.468 | 0.005 | 0.474 | |
plot_overview_DE_tile | 0.309 | 0.005 | 0.314 | |
plot_profiles_spiked | 0.881 | 0.011 | 0.896 | |
plot_pvalues_spiked | 0.621 | 0.012 | 0.636 | |
plot_stats_spiked_heatmap | 0.423 | 0.008 | 0.434 | |
plot_tot_int_samples | 0.284 | 0.003 | 0.289 | |
plot_upset | 0.970 | 0.015 | 0.991 | |
plot_upset_DE | 0.029 | 0.003 | 0.031 | |
plot_volcano_DE | 4.754 | 0.040 | 4.818 | |
quantileNorm | 0.037 | 0.002 | 0.039 | |
readPRONE_example | 0.001 | 0.000 | 0.002 | |
remove_POMA_outliers | 0.689 | 0.006 | 0.697 | |
remove_assays_from_SE | 0.043 | 0.002 | 0.045 | |
remove_reference_samples | 0.043 | 0.003 | 0.045 | |
remove_samples_manually | 0.031 | 0.001 | 0.033 | |
rlrMACycNorm | 0.723 | 0.006 | 0.732 | |
rlrMANorm | 0.086 | 0.003 | 0.089 | |
rlrNorm | 0.083 | 0.003 | 0.086 | |
robnormNorm | 0.075 | 0.005 | 0.081 | |
run_DE | 2.543 | 0.025 | 2.579 | |
specify_comparisons | 0.022 | 0.003 | 0.024 | |
subset_SE_by_norm | 0.091 | 0.002 | 0.094 | |
tmmNorm | 0.150 | 0.010 | 0.161 | |
vsnNorm | 0.073 | 0.002 | 0.075 | |