Back to Multiple platform build/check report for BioC 3.22:   simplified   long
ABCDEFGHIJKLMN[O]PQRSTUVWXYZ

This page was generated on 2025-10-20 12:03 -0400 (Mon, 20 Oct 2025).

HostnameOSArch (*)R versionInstalled pkgs
nebbiolo2Linux (Ubuntu 24.04.3 LTS)x86_644.5.1 Patched (2025-08-23 r88802) -- "Great Square Root" 4887
lconwaymacOS 12.7.6 Montereyx86_644.5.1 Patched (2025-09-10 r88807) -- "Great Square Root" 4677
kjohnson3macOS 13.7.7 Venturaarm644.5.1 Patched (2025-09-10 r88807) -- "Great Square Root" 4622
taishanLinux (openEuler 24.03 LTS)aarch644.5.0 (2025-04-11) -- "How About a Twenty-Six" 4632
Click on any hostname to see more info about the system (e.g. compilers)      (*) as reported by 'uname -p', except on Windows and Mac OS X

All results for package OmnipathR


To the developers/maintainers of the OmnipathR package:
- Allow up to 24 hours (and sometimes 48 hours) for your latest push to git@git.bioconductor.org:packages/OmnipathR.git to reflect on this report. See Troubleshooting Build Report for more information.
- Use the following Renviron settings to reproduce errors and warnings.
- If 'R CMD check' started to fail recently on the Linux builder(s) over a missing dependency, add the missing dependency to 'Suggests:' in your DESCRIPTION file. See Renviron.bioc for more information.

raw results

Package 1497/2353HostnameOS / ArchINSTALLBUILDCHECKBUILD BIN
OmnipathR 3.17.6  (landing page)
Denes Turei
Snapshot Date: 2025-10-19 13:45 -0400 (Sun, 19 Oct 2025)
git_url: https://git.bioconductor.org/packages/OmnipathR
git_branch: devel
git_last_commit: 69ba6ef
git_last_commit_date: 2025-09-24 06:19:47 -0400 (Wed, 24 Sep 2025)
nebbiolo2Linux (Ubuntu 24.04.3 LTS) / x86_64  OK    OK    ERROR  
lconwaymacOS 12.7.6 Monterey / x86_64  OK    OK    ERROR    OK  
kjohnson3macOS 13.7.7 Ventura / arm64  OK    OK    ERROR    OK  
taishanLinux (openEuler 24.03 LTS) / aarch64  OK    OK    ERROR  



Results for Bioconductor software packages that depend directly on package OmnipathR

QUICK STATSOS / ArchINSTALLBUILDCHECKBUILD BIN
nebbiolo2Linux (Ubuntu 24.04.3 LTS) / x86_64
002
002
0002
lconwaymacOS 12.7.6 Monterey / x86_64
002
002
0002
002
kjohnson3macOS 13.7.7 Ventura / arm64
002
002
0002
002
taishanLinux (openEuler 24.03 LTS) / aarch64
002
002
0002
Package 1/2HostnameOS / ArchINSTALLBUILDCHECKBUILD BIN
gINTomics 1.5.2  (landing page)
Angelo Velle
git_last_commit: 7d7f668
git_last_commit_date: 2025-10-10 16:28:01 -0400
nebbiolo2Linux (Ubuntu 24.04.3 LTS) / x86_64  OK    OK    OK  NO, package depends on 'OmnipathR' which is not available
lconwaymacOS 12.7.6 Monterey / x86_64  OK    OK    OK    OK  NO, package depends on 'OmnipathR' which is not available
kjohnson3macOS 13.7.7 Ventura / arm64  OK    OK    OK    OK  NO, package depends on 'OmnipathR' which is not available
taishanLinux (openEuler 24.03 LTS) / aarch64  OK    OK    OK  
Package 2/2HostnameOS / ArchINSTALLBUILDCHECKBUILD BIN
wppi 1.17.0  (landing page)
Ana Galhoz
git_last_commit: 718f698
git_last_commit_date: 2025-04-15 12:26:01 -0400
nebbiolo2Linux (Ubuntu 24.04.3 LTS) / x86_64  OK    OK    OK  NO, package depends on 'OmnipathR' which is not available
lconwaymacOS 12.7.6 Monterey / x86_64  OK    OK    OK    OK  NO, package depends on 'OmnipathR' which is not available
kjohnson3macOS 13.7.7 Ventura / arm64  OK    OK    OK    OK  NO, package depends on 'OmnipathR' which is not available
taishanLinux (openEuler 24.03 LTS) / aarch64  OK    OK    OK